<?xml version='1.0' encoding='UTF-8'?>
<metadata>
  <idinfo>
    <citation>
      <citeinfo>
        <origin>Ginger Barth</origin>
        <origin>Wayne E. Baldwin</origin>
        <origin>Robert S. Reece</origin>
        <origin>Sean S. Gulick</origin>
        <origin>William W. Danforth</origin>
        <origin>Florence L. Wong</origin>
        <pubdate>20220825</pubdate>
        <title>MGL1109backsutm.asc: Multibeam backscatter data collected by the U.S. Geological Survey in the Gulf of Alaska in 2011 during cruise MGL1109, 100-meter gridded data in Esri gridascii format, UTM 6 coordinates</title>
        <geoform>raster digital data</geoform>
        <serinfo>
          <sername>data release</sername>
          <issue>DOI: 10.5066/F7HM56HK</issue>
        </serinfo>
        <pubinfo>
          <pubplace>Pacific Coastal and Marine Science Center, Santa Cruz, California</pubplace>
          <publish>U.S. Geological Survey</publish>
        </pubinfo>
        <onlink>https://doi.org/10.5066/F7HM56HK</onlink>
        <onlink>https://www.sciencebase.gov/catalog/item/560efc6ce4b0ba4884c5ed32</onlink>
        <lworkcit>
          <citeinfo>
            <origin>Ginger Barth</origin>
            <origin>Wayne E. Baldwin</origin>
            <origin>Robert S. Reece</origin>
            <origin>Sean S. Gulick</origin>
            <origin>William W. Danforth</origin>
            <origin>Florence L. Wong</origin>
            <pubdate>2022</pubdate>
            <title>Multibeam bathymetry and acoustic backscatter data from the Alaskan region, Extended Continental Shelf Project, 2011 field season: Gulf of Alaska and Bering Sea</title>
            <serinfo>
              <sername>data release</sername>
              <issue>DOI: 10.5066/F7HM56HK</issue>
            </serinfo>
            <pubinfo>
              <pubplace>Pacific Coastal and Marine Science Center, Santa Cruz, California</pubplace>
              <publish>U.S. Geological Survey</publish>
            </pubinfo>
            <onlink>https://doi.org/10.5066/F7HM56HK</onlink>
          </citeinfo>
        </lworkcit>
      </citeinfo>
    </citation>
    <descript>
      <abstract>This raster dataset represents approximately 69,060 square kilometers of Simrad EM122 multibeam-backscatter data collected in the Gulf of Alaska during U.S. Geological Survey (USGS) cruise MGL1109 aboard the R/V Marcus G. Langseth. The data have been reduced for position, elevation, orientation, water-column sound-speed, and refraction effects.</abstract>
      <purpose>In June 2011, the U.S. Geological Survey (USGS) conducted a research cruise in the Gulf of Alaska aboard the R/V Marcus G. Langseth (Lamont-Doherty Earth Observatory, Columbia University) as part of the U.S. Extended Continental Shelf Project. The mission focused primarily on obtaining geophysical data (multichannel and CHIRP seismic reflection, ocean bottom seismometry, multibeam bathymetry, sonobuoy, XBT and XCTD) for the purposes of determining geologic framework, crustal nature, and sediment thickness in support of delineating the U.S. Extended Continental Shelf under provisions contained in Article 76 of the United Nations Convention on the Law of the Sea (UNCLOS).</purpose>
      <supplinf>Additional information about the USGS field activities from which these data were derived is available online at:

https://cmgds.marine.usgs.gov/fan_info.php?fan=L0911GA
https://cmgds.marine.usgs.gov/fan_info.php?fan=2011-034-FA

Additional information about the Lamont-Doherty field activities from which these data were derived is available online at:

https://www.rvdata.us/search/cruise/MGL1108
https://www.rvdata.us/search/cruise/MGL1109

Any use of trade, product, or firm names is for descriptive purposes only and does not imply endorsement by the U.S. Government. Although this Federal Geographic Data Committee-compliant metadata file is intended to document the data set in nonproprietary form, as well as in Esri format, this metadata file may include some Esri-specific terminology.</supplinf>
    </descript>
    <timeperd>
      <timeinfo>
        <rngdates>
          <begdate>20110603</begdate>
          <enddate>20110625</enddate>
        </rngdates>
      </timeinfo>
      <current>ground condition</current>
    </timeperd>
    <status>
      <progress>Complete</progress>
      <update>None planned</update>
    </status>
    <spdom>
      <bounding>
        <westbc>-152.381751</westbc>
        <eastbc>-137.797038</eastbc>
        <northbc>57.713119</northbc>
        <southbc>48.268275</southbc>
      </bounding>
    </spdom>
    <keywords>
      <theme>
        <themekt>ISO 19115 Topic Category</themekt>
        <themekey>environment</themekey>
        <themekey>geoscientificInformation</themekey>
        <themekey>oceans</themekey>
      </theme>
      <theme>
        <themekt>Data Categories for Marine Planning</themekt>
        <themekey>Substrate</themekey>
        <themekey>Physical Habitats and Geomorphology</themekey>
      </theme>
      <theme>
        <themekt>USGS Thesaurus</themekt>
        <themekey>sea-floor characteristics</themekey>
        <themekey>multibeam sonar</themekey>
        <themekey>marine geophysics</themekey>
        <themekey>sea-floor acoustic reflectivity</themekey>
        <themekey>image mosaics</themekey>
        <themekey>geospatial datasets</themekey>
      </theme>
      <theme>
        <themekt>Marine Realms Information Bank (MRIB) keywords</themekt>
        <themekey>marine geophysics</themekey>
        <themekey>seismic methods</themekey>
        <themekey>multibeam echo sounder</themekey>
        <themekey>continental shelf</themekey>
      </theme>
      <theme>
        <themekt>None</themekt>
        <themekey>U.S. Geological Survey</themekey>
        <themekey>USGS</themekey>
        <themekey>Coastal and Marine Hazards and Resources Program</themekey>
        <themekey>CMHRP</themekey>
        <themekey>Pacific Coastal and Marine Science Center</themekey>
        <themekey>PCMSC</themekey>
        <themekey>backscatter intensity</themekey>
      </theme>
      <theme>
        <themekt>USGS Metadata Identifier</themekt>
        <themekey>USGS:560efc6ce4b0ba4884c5ed32</themekey>
      </theme>
      <place>
        <placekt>Geographic Names Information System (GNIS)</placekt>
        <placekey>Gulf of Alaska</placekey>
        <placekey>Bering Sea</placekey>
        <placekey>Kodiak Island</placekey>
        <placekey>Dutch Harbor</placekey>
      </place>
      <place>
        <placekt>NGA GEOnet Names Server (GNS)</placekt>
        <placekey>Baranof Fan</placekey>
        <placekey>Shirshov Ridge</placekey>
        <placekey>Kodiak Seamount</placekey>
        <placekey>Bowie Seamount</placekey>
        <placekey>Aleutian Trench</placekey>
        <placekey>Umnak Plateau</placekey>
        <placekey>Aleutian Basin</placekey>
        <placekey>Bowers Ridge</placekey>
      </place>
      <place>
        <placekt>None</placekt>
        <placekey>Surveyor Fan</placekey>
        <placekey>Extended Continental Shelf</placekey>
      </place>
    </keywords>
    <accconst>None</accconst>
    <useconst>USGS-authored or produced data and information are in the public domain from the U.S. Government and are freely redistributable with proper metadata and source attribution. Please recognize and acknowledge the U.S. Geological Survey as the originator of the dataset and in products derived from these data. This information is not intended for navigation purposes.</useconst>
    <ptcontac>
      <cntinfo>
        <cntorgp>
          <cntorg>U.S. Geological Survey, Pacific Coastal and Marine Science Center</cntorg>
          <cntper>PCMSC Science Data Coordinator</cntper>
        </cntorgp>
        <cntaddr>
          <addrtype>mailing and physical</addrtype>
          <address>2885 Mission Street</address>
          <city>Santa Cruz</city>
          <state>CA</state>
          <postal>95060</postal>
        </cntaddr>
        <cntvoice>831-427-4747</cntvoice>
        <cntemail>pcmsc_data@usgs.gov</cntemail>
      </cntinfo>
    </ptcontac>
    <browse>
      <browsen>https://www.sciencebase.gov/catalog/file/get/560efc6ce4b0ba4884c5ed32?name=MGL1109backscat.jpg&amp;allowOpen=true</browsen>
      <browsed>MGL1109 acoustic backscatter, Gulf of Alaska</browsed>
      <browset>JPEG</browset>
    </browse>
    <native>Microsoft Windows XP Version 5.1 (Build 2600) Service Pack 3; ESRI ArcCatalog 9.3.1.1850</native>
    <crossref>
      <citeinfo>
        <origin>David W. Caress</origin>
        <origin>Dale N. Chayes</origin>
        <pubdate>2006</pubdate>
        <title>MB-System source code</title>
        <onlink>https://www3.mbari.org/data/mbsystem/html/mbsystem_home.html</onlink>
      </citeinfo>
    </crossref>
  </idinfo>
  <dataqual>
    <attracc>
      <attraccr>Kongsberg-Simrad EM122 Multibeam Echosounder was used with transmit (fore-aft) and receive (athwart ships) beam widths of 1 degree, with swaths of 3-4 times
water depth in water depths between 50 and 6000 m. Depth accuracies not determined, however Kongsberg-Simrad state that the system is capable of depth accuracies approaching 0.2 percent of water depth.</attraccr>
    </attracc>
    <logic>No formal logical accuracy tests were conducted</logic>
    <complete>Raw EM122 Multibeam Echosounder data collected during OBS operations were not used in the generation of this gridded dataset because OBS instruments were deployed along transects coincident with previously surveyed ship track. Upon inspection in CARIS during post-processing it was deemed appropriate to exclude the redundant data from the gridding process.</complete>
    <posacc>
      <horizpa>
        <horizpar>Horizontal positioning of the vessel was determined using a Kongsberg Seapath 300 series integrated inertial motion and positioning system. Positioning is accurate to better than 5 meters (at 95 percent confidence) during all surveying. All positioning is referenced to the WGS84 Datum.</horizpar>
      </horizpa>
      <vertacc>
        <vertaccr>No attempt was made to determine the accuracy of the system although recorded depths are typically within +/-10 m of the center-beam multibeam sounding.</vertaccr>
      </vertacc>
    </posacc>
    <lineage>
      <procstep>
        <procdesc>Multibeam bathymetry and backscatter data were collected using a 12 kHz Kongsberg Simrad EM-122 multibeam echosounder and SIS (v3.8.2) acquisition software. The system consists of two hull-mounted transducer arrays, a transmit unit (150 deg. x 1 deg.) located along the ship centerline, and a receive unit (1 deg. x 30 deg.) that is abaft and oriented athwart-ships. The transducer pod is tilted 4 degrees towards the bow to reduce noise from cavitation and bubbles. The system forms a swath of 288 beams that produce an across-track profile of 432 soundings. The SIS software processes range/angle data from each ping during acquisition, merging position, inertial-motion, and sound-velocity data to derive a solution for vessel motion and raybending, and calculate sounding depths and positions. Sound velocity information entered into SIS was obtained from the Applied Micro Systems Micro SV mounted on the transducer pod and 52 XBT profiles. XBT profiles were extended to 12 km depth with data generated by the unix program 'mblevitus', a module of the multibeam processing package MB-System (Caress and Chayes, 2006). Average water column salinity of 34.4 ppt was determined by extrapolating data from XCDT casts. Multibeam data were collected nearly continuously throughout the cruise, effectively mapping the seafloor along the course of the ship's track. Beam angle was set at 70 on each side throughout the program and swath widths were generally between 3 and 4 times water depth. SIS logged bathymetry and backscatter solutions to the Simrad '.all' format for archival purposes.</procdesc>
        <procdate>201106</procdate>
      </procstep>
      <procstep>
        <procdesc>EM122 backscatter was processed and mosaicked using the FMGeocoder module in IVS Fledermaus. The Automatic Processing option (Mosaic only) was utilized with the EM122 Beam Time Series (from *.all raw files) selected as the backscatter source. A single tile mosaic, with 100 m per pixel resolution, was created for the entire survey area. The final mosaic was exported to these file formats: Fledermaus SD, GeoTIFF, ESRI ASCII Raster, and XYB format (Easting, Northing, dB value).

The following project setup and processing parameters were specified:
Project Coordinate System:
Horiz. CS: WGS84,UTM,Zone 6N
Custom Survey Area:
XMIN,YMIN,XMAX,YMAX = 169100, 5385700, 1181500, 6408000
EM122 Sensor Config:
Tx1:Xoff,Yoff,Zoff,Roff,Poff,Yoff = 20.92,0.57,8.46,0.16,-0.08,359.99
Tx2:Xoff,Yoff,Zoff,Roff,Poff,Yoff = 16.07,0.05,8.53,0.16,-0.08,0
IMU:Xoff,Yoff,Zoff,Roff,Poff,Yoff,lat = 0,0,0,-0.51,-0.23,0.43,0
Line Processing Parameters:
Backscatter:
Apply Beam Pattern Correction
Beam Angle Cutoffs: start,cut = 0, 90
Backscatter Range: Calibrated,Min,Max = -70,10
AVG:
Apply AVG - Flat Algorithm - Window Size 30
Statistics:
Log space (dB)
Navigation:
Linear Interp.
Format:
Kongsberg(.all)
Navigation Src.: Use Default
Dual Swath Comp.: First O
Sonar Defaults:
Default Vals - Custom Override All - Sonar Type: Simrad EM122 MBES
PrimFrq,SecFrq,MAN,MNB,ATBW,CTBW,SSS = 12000,0,120,484,2,4,1500
PusleL,PSR,SSR,Spread,TxPwr,RecGain,Abs = 5000,1001,0,0,1,1,30
Mosaicking Parameters:
Line Blending = 50 percent
Style, FiltType = Blend,dB Mean</procdesc>
        <procdate>201208</procdate>
        <proccont>
          <cntinfo>
            <cntorgp>
              <cntorg>U.S. Geological Survey</cntorg>
              <cntper>Wayne E. Baldwin</cntper>
            </cntorgp>
            <cntpos>Geologist</cntpos>
            <cntaddr>
              <addrtype>mailing and physical address</addrtype>
              <address>384 Woods Hole Road</address>
              <city>Woods Hole</city>
              <state>MA</state>
              <postal>02543-1598</postal>
              <country>USA</country>
            </cntaddr>
            <cntvoice>508-457-2226</cntvoice>
            <cntemail>wbaldwin@usgs.gov</cntemail>
          </cntinfo>
        </proccont>
      </procstep>
      <procstep>
        <procdesc>The output ESRI ASCII Raster file was imported as a floating point grid into ArcGIS 9.3 using the ASCII to Raster tool selected from the Conversion Tools - To Raster toolbox.</procdesc>
        <procdate>201208</procdate>
        <proccont>
          <cntinfo>
            <cntorgp>
              <cntorg>U.S. Geological Survey</cntorg>
              <cntper>Wayne E. Baldwin</cntper>
            </cntorgp>
            <cntpos>Geologist</cntpos>
            <cntaddr>
              <addrtype>mailing and physical address</addrtype>
              <address>384 Woods Hole Road</address>
              <city>Woods Hole</city>
              <state>MA</state>
              <postal>02543-1598</postal>
              <country>USA</country>
            </cntaddr>
            <cntvoice>508-457-2226</cntvoice>
            <cntemail>wbaldwin@usgs.gov</cntemail>
          </cntinfo>
        </proccont>
      </procstep>
      <procstep>
        <procdesc>Wrote version 1 of metadata.</procdesc>
        <procdate>20121018</procdate>
        <proccont>
          <cntinfo>
            <cntorgp>
              <cntorg>U.S. Geological Survey</cntorg>
              <cntper>Wayne E. Baldwin</cntper>
            </cntorgp>
            <cntpos>Geologist</cntpos>
            <cntaddr>
              <addrtype>mailing and physical address</addrtype>
              <address>384 Woods Hole Road</address>
              <city>Woods Hole</city>
              <state>MA</state>
              <postal>02543-1598</postal>
              <country>USA</country>
            </cntaddr>
            <cntvoice>508-457-2226</cntvoice>
            <cntemail>wbaldwin@usgs.gov</cntemail>
          </cntinfo>
        </proccont>
      </procstep>
      <procstep>
        <procdesc>Metadata was modified to bring up to current USGS PCMSC standards. Point of Contact and Metadata Contact information was updated. Keywords were added and refined. Cross Reference citation added. Details about different Network Resource Name links was given in the Access Instructions section. Minor typos were corrected. No data information was changed.</procdesc>
        <procdate>20220817</procdate>
        <proccont>
          <cntinfo>
            <cntperp>
              <cntper>Susan A Cochran</cntper>
              <cntorg>U.S. Geological Survey, Pacific Coastal and Marine Science Center</cntorg>
            </cntperp>
            <cntpos>Geologist</cntpos>
            <cntaddr>
              <addrtype>mailing and physical</addrtype>
              <address>2885 Mission St.</address>
              <city>Santa Cruz</city>
              <state>CA</state>
              <postal>95060</postal>
              <country>United States</country>
            </cntaddr>
            <cntvoice>831-460-7545</cntvoice>
            <cntemail>scochran@usgs.gov</cntemail>
          </cntinfo>
        </proccont>
      </procstep>
    </lineage>
  </dataqual>
  <spdoinfo>
    <direct>Raster</direct>
    <rastinfo>
      <rasttype>Grid Cell</rasttype>
      <rowcount>10224</rowcount>
      <colcount>10125</colcount>
      <vrtcount>1</vrtcount>
    </rastinfo>
  </spdoinfo>
  <spref>
    <horizsys>
      <planar>
        <gridsys>
          <gridsysn>Universal Transverse Mercator</gridsysn>
          <utm>
            <utmzone>6</utmzone>
            <transmer>
              <sfctrmer>0.999600</sfctrmer>
              <longcm>-147.000000</longcm>
              <latprjo>0.000000</latprjo>
              <feast>500000.000000</feast>
              <fnorth>0.000000</fnorth>
            </transmer>
          </utm>
        </gridsys>
        <planci>
          <plance>row and column</plance>
          <coordrep>
            <absres>100</absres>
            <ordres>100</ordres>
          </coordrep>
          <plandu>meters</plandu>
        </planci>
      </planar>
      <geodetic>
        <horizdn>D_WGS_84</horizdn>
        <ellips>WGS_84</ellips>
        <semiaxis>6378137.0</semiaxis>
        <denflat>298.257223563</denflat>
      </geodetic>
    </horizsys>
  </spref>
  <eainfo>
    <detailed>
      <enttyp>
        <enttypl>Attribute Table</enttypl>
        <enttypd>Table containing attribute information associated with the data set.</enttypd>
        <enttypds>Producer defined</enttypds>
      </enttyp>
      <attr>
        <attrlabl>Value</attrlabl>
        <attrdef>backscatter intensity</attrdef>
        <attrdefs>Producer defined</attrdefs>
        <attrdomv>
          <rdom>
            <rdommin>-59.610</rdommin>
            <rdommax>7.790</rdommax>
            <attrunit>decibel</attrunit>
          </rdom>
        </attrdomv>
      </attr>
    </detailed>
    <overview>
      <eaover>&gt;
&gt; Cell Size =             100 m
&gt; Data Type:            Floating Point
&gt; Number of Rows    =       10224
&gt; Number of Columns =       10125
&gt;
&gt; BOUNDARY (UTM Zone 6 meters)
&gt;
&gt; Xmin =               169050
&gt; Xmax =              1181550
&gt; Ymin =              5385650
&gt; Ymax =              6408050
&gt;
&gt; BOUNDARY (WGS84, excluding NODATA):
&gt; Xmin = -152.382
&gt; Xmax = -137.797
&gt; Ymin =  48.268
&gt; Ymax = 57.713
&gt;
&gt; BOUNDARY (converted from UTM zone 6 coordinates)
&gt; Xmin = -152.555
&gt; Xmax = -135.657
&gt; Ymin =  48.256
&gt; Ymax = 57.815
&gt;
&gt; STATISTICS (decibels)
&gt;
&gt; Minimum Value =            -59.610
&gt; Maximum Value =              7.790
&gt; Mean          =            -27.752
&gt; Standard Deviation =         2.751
&gt;
&gt; COORDINATE SYSTEM DESCRIPTION
&gt;
&gt; Projection                  UTM
&gt; Zone                          6
&gt; Datum                     WGS84
&gt; Units                    METERS
&gt; Spheroid                  WGS84
&gt;</eaover>
      <eadetcit>The entity and attribute information was generated by the individual and/or agency identified as the originator of the data set. Please review the rest of the metadata record for additional details and information.</eadetcit>
    </overview>
  </eainfo>
  <distinfo>
    <distrib>
      <cntinfo>
        <cntorgp>
          <cntorg>U.S. Geological Survey - ScienceBase</cntorg>
        </cntorgp>
        <cntaddr>
          <addrtype>mailing and physical</addrtype>
          <address>Denver Federal Center, Building 810, Mail Stop 302</address>
          <city>Denver</city>
          <state>CO</state>
          <postal>80225</postal>
        </cntaddr>
        <cntvoice>1-888-275-8747</cntvoice>
        <cntemail>sciencebase@usgs.gov</cntemail>
      </cntinfo>
    </distrib>
    <resdesc>These data are available in ASCII GRID format, along with CSDGM FGDC-compliant metadata.</resdesc>
    <distliab>Unless otherwise stated, all data, metadata and related materials are considered to satisfy the quality standards relative to the purpose for which the data were collected. Although these data and associated metadata have been reviewed for accuracy and completeness and approved for release by the U.S. Geological Survey (USGS), no warranty expressed or implied is made regarding the display or utility of the data on any other system or for general or scientific purposes, nor shall the act of distribution constitute any such warranty.</distliab>
    <stdorder>
      <digform>
        <digtinfo>
          <formname>Esri grid format</formname>
          <formvern>Esri ArcGIS 10.2.2</formvern>
          <formcont>Zip file contains the grid of backscatter as well as the associated metadata files.</formcont>
          <transize>11</transize>
        </digtinfo>
        <digtopt>
          <onlinopt>
            <computer>
              <networka>
                <networkr>https://www.sciencebase.gov/catalog/file/get/560efc6ce4b0ba4884c5ed32</networkr>
                <networkr>https://www.sciencebase.gov/catalog/item/560efc6ce4b0ba4884c5ed32</networkr>
                <networkr>https://doi.org/10.5066/F7HM56HK</networkr>
              </networka>
            </computer>
            <accinstr>Data can be downloaded using the Network Resource Links. The first link is a direct link to download a zipped file with the data and metadata. The second link is to the page containing the data. The third link is to the publication landing page.</accinstr>
          </onlinopt>
        </digtopt>
      </digform>
      <fees>None</fees>
    </stdorder>
  </distinfo>
  <metainfo>
    <metd>20220825</metd>
    <metc>
      <cntinfo>
        <cntorgp>
          <cntorg>U.S. Geological Survey, Pacific Coastal and Marine Science Center</cntorg>
          <cntper>PCMSC Science Data Coordinator</cntper>
        </cntorgp>
        <cntaddr>
          <addrtype>mailing and physical</addrtype>
          <address>2885 Mission Street</address>
          <city>Santa Cruz</city>
          <state>CA</state>
          <postal>95060</postal>
        </cntaddr>
        <cntvoice>831-427-4747</cntvoice>
        <cntemail>pcmsc_data@usgs.gov</cntemail>
      </cntinfo>
    </metc>
    <metstdn>Content Standard for Digital Geospatial Metadata</metstdn>
    <metstdv>FGDC-STD-001-1998</metstdv>
  </metainfo>
</metadata>
