<?xml version='1.0' encoding='UTF-8'?>
<metadata>
  <idinfo>
    <citation>
      <citeinfo>
        <origin>Ginger Barth</origin>
        <origin>Wayne E. Baldwin</origin>
        <origin>Robert S. Reece</origin>
        <origin>Sean S. Gulick</origin>
        <origin>William W. Danforth</origin>
        <origin>Florence L. Wong</origin>
        <pubdate>20220825</pubdate>
        <title>MGL1109shadeutm.tif: Multibeam bathymetry data collected by the U.S. Geological Survey in the Gulf of Alaska in 2011 during cruise MGL1109, 100-meter gray-shaded relief</title>
        <geoform>raster digital data</geoform>
        <serinfo>
          <sername>data release</sername>
          <issue>DOI: 10.5066/F7HM56HK</issue>
        </serinfo>
        <pubinfo>
          <pubplace>Pacific Coastal and Marine Science Center, Santa Cruz, California</pubplace>
          <publish>U.S. Geological Survey</publish>
        </pubinfo>
        <onlink>https://doi.org/10.5066/F7HM56HK</onlink>
        <onlink>https://www.sciencebase.gov/catalog/item/55ef4a60e4b0dacf699e94c6</onlink>
        <lworkcit>
          <citeinfo>
            <origin>Ginger Barth</origin>
            <origin>Wayne E. Baldwin</origin>
            <origin>Robert S. Reece</origin>
            <origin>Sean S. Gulick</origin>
            <origin>William W. Danforth</origin>
            <origin>Florence L. Wong</origin>
            <pubdate>2022</pubdate>
            <title>Multibeam bathymetry and acoustic backscatter data from the Alaskan region, Extended Continental Shelf Project, 2011 field season: Gulf of Alaska and Bering Sea</title>
            <serinfo>
              <sername>data release</sername>
              <issue>DOI: 10.5066/F7HM56HK</issue>
            </serinfo>
            <pubinfo>
              <pubplace>Pacific Coastal and Marine Science Center, Santa Cruz, California</pubplace>
              <publish>U.S. Geological Survey</publish>
            </pubinfo>
            <onlink>https://doi.org/10.5066/F7HM56HK</onlink>
          </citeinfo>
        </lworkcit>
      </citeinfo>
    </citation>
    <descript>
      <abstract>This raster dataset represents approximately 69,060 square kilometers of Simrad EM122 multibeam-bathymetry data collected in the Gulf of Alaska during U.S. Geological Survey - Coastal and Marine Geology Program cruise MGL1109 aboard the R/V Marcus G. Langseth. The data have been reduced for position, elevation, orientation, water-column sound-speed, and refraction effects.</abstract>
      <purpose>In June 2011, the U.S. Geological Survey - Coastal and Marine Geology Program conducted a research cruise in the Gulf of Alaska aboard the R/V Marcus G. Langseth (Lamont-Doherty Earth Observatory, Columbia University) as part of the U.S. Extended Continental Shelf Project.  The mission focused primarily on obtaining geophysical data (multichannel and CHIRP seismic reflection,
ocean bottom seismometry, multibeam bathymetry, sonobuoy, XBT and XCTD) for the purposes of determining geologic framework, crustal nature, and sediment thickness in support of delineating the U.S. Extended Continental Shelf under provisions contained in Article 76 of the United Nations Convention on the Law of the Sea (UNCLOS).</purpose>
      <supplinf>Additional information about the USGS field activities from which these data were derived is available online at:

https://cmgds.marine.usgs.gov/fan_info.php?fan=L0911GA
https://cmgds.marine.usgs.gov/fan_info.php?fan=2011-034-FA

Additional information about the Lamont-Doherty field activities from which these data were derived is available online at:

https://www.rvdata.us/search/cruise/MGL1108
https://www.rvdata.us/search/cruise/MGL1109

Any use of trade, product, or firm names is for descriptive purposes only and does not imply endorsement by the U.S. Government. Although this Federal Geographic Data Committee-compliant metadata file is intended to document the data set in nonproprietary form, as well as in Esri format, this metadata file may include some Esri-specific terminology. This information is not intended for navigational purposes.</supplinf>
    </descript>
    <timeperd>
      <timeinfo>
        <rngdates>
          <begdate>20110603</begdate>
          <enddate>20110625</enddate>
        </rngdates>
      </timeinfo>
      <current>ground condition</current>
    </timeperd>
    <status>
      <progress>Complete</progress>
      <update>None planned</update>
    </status>
    <spdom>
      <bounding>
        <westbc>-152.555183</westbc>
        <eastbc>-135.657739</eastbc>
        <northbc>57.800392</northbc>
        <southbc>48.255660</southbc>
      </bounding>
    </spdom>
    <keywords>
      <theme>
        <themekt>ISO 19115 Topic Category</themekt>
        <themekey>environment</themekey>
        <themekey>geoscientificInformation</themekey>
        <themekey>oceans</themekey>
      </theme>
      <theme>
        <themekt>Data Categories for Marine Planning</themekt>
        <themekey>Physical Habitats and Geomorphology</themekey>
      </theme>
      <theme>
        <themekt>USGS Thesaurus</themekt>
        <themekey>multibeam sonar</themekey>
        <themekey>marine geophysics</themekey>
        <themekey>geospatial datasets</themekey>
      </theme>
      <theme>
        <themekt>Marine Realms Information Bank (MRIB) keywords</themekt>
        <themekey>marine geophysics</themekey>
        <themekey>multibeam echo sounder</themekey>
        <themekey>continental shelf</themekey>
      </theme>
      <theme>
        <themekt>None</themekt>
        <themekey>U.S. Geological Survey</themekey>
        <themekey>USGS</themekey>
        <themekey>Coastal and Marine Hazards and Resources Program</themekey>
        <themekey>CMHRP</themekey>
        <themekey>Pacific Coastal and Marine Science Center</themekey>
        <themekey>PCMSC</themekey>
      </theme>
      <theme>
        <themekt>USGS Metadata Identifier</themekt>
        <themekey>USGS:55ef4a60e4b0dacf699e94c6</themekey>
      </theme>
      <place>
        <placekt>Geographic Names Information System (GNIS)</placekt>
        <placekey>Gulf of Alaska</placekey>
        <placekey>Bering Sea</placekey>
        <placekey>Kodiak Island</placekey>
        <placekey>Dutch Harbor</placekey>
      </place>
      <place>
        <placekt>NGA GEOnet Names Server (GNS)</placekt>
        <placekey>Baranof Fan</placekey>
        <placekey>Shirshov Ridge</placekey>
        <placekey>Kodiak Seamount</placekey>
        <placekey>Bowie Seamount</placekey>
        <placekey>Aleutian Trench</placekey>
        <placekey>Umnak Plateau</placekey>
        <placekey>Aleutian Basin</placekey>
        <placekey>Bowers Ridge</placekey>
      </place>
      <place>
        <placekt>None</placekt>
        <placekey>Surveyor Fan</placekey>
        <placekey>Extended Continental Shelf</placekey>
      </place>
    </keywords>
    <accconst>None</accconst>
    <useconst>USGS-authored or produced data and information are in the public domain from the U.S. Government and are freely redistributable with proper metadata and source attribution. Please recognize and acknowledge the U.S. Geological Survey as the originator of the dataset and in products derived from these data. This information is not intended for navigation purposes.</useconst>
    <ptcontac>
      <cntinfo>
        <cntorgp>
          <cntorg>U.S. Geological Survey, Pacific Coastal and Marine Science Center</cntorg>
          <cntper>PCMSC Science Data Coordinator</cntper>
        </cntorgp>
        <cntaddr>
          <addrtype>mailing and physical</addrtype>
          <address>2885 Mission Street</address>
          <city>Santa Cruz</city>
          <state>CA</state>
          <postal>95060</postal>
        </cntaddr>
        <cntvoice>831-427-4747</cntvoice>
        <cntemail>pcmsc_data@usgs.gov</cntemail>
      </cntinfo>
    </ptcontac>
    <browse>
      <browsen>https://www.sciencebase.gov/catalog/file/get/55ef4a60e4b0dacf699e94c6?name=MGL1109_shade.JPG&amp;allowOpen=true</browsen>
      <browsed>MGL1109 shaded bathymetric relief, Gulf of Alaska</browsed>
      <browset>JPEG</browset>
    </browse>
    <native>Environment as of Metadata Creation: Microsoft Windows 7 Version 6.1 (Build 7601) Service Pack 1; ESRI ArcCatalog 10.3 (Build 4959) Service Pack [N/A] (Build [N/A])</native>
    <crossref>
      <citeinfo>
        <origin>David W. Caress</origin>
        <origin>Dale N. Chayes</origin>
        <pubdate>2006</pubdate>
        <title>MB-System source code</title>
        <onlink>https://www3.mbari.org/data/mbsystem/html/mbsystem_home.html</onlink>
      </citeinfo>
    </crossref>
  </idinfo>
  <dataqual>
    <attracc>
      <attraccr>Kongsberg-Simrad EM122 Multibeam Echosounder was used with transmit (fore-aft) and receive (athwart ships) beam widths of 1 degree, with swaths of 3-4 times water depth in water depths between 50 and 6000 m. Depth accuracies not determined, however Kongsberg-Simrad state that the system is capable of depth accuracies approaching 0.2 percent of water depth.</attraccr>
    </attracc>
    <logic>No formal logical accuracy tests were conducted</logic>
    <complete>Raw EM122 Multibeam Echosounder data collected during OBS operations were not used in the generation of this gridded dataset because OBS instruments were deployed along transects coincident with previously surveyed ship track.  Upon inspection in CARIS during post-processing it was deemed appropriate to exclude the redundant data from the gridding process.</complete>
    <posacc>
      <horizpa>
        <horizpar>Horizontal positioning of the vessel was determined using a Kongsberg Seapath 300 series integrated inertial motion and positioning system. Positioning is accurate to better than 5 meters (at 95 percent confidence) during all surveying. All positioning is referenced to the WGS84 Datum.</horizpar>
      </horizpa>
      <vertacc>
        <vertaccr>No attempt was made to determine the accuracy of the system although recorded depths are typically within +/-10 m of the center-beam multibeam sounding.</vertaccr>
      </vertacc>
    </posacc>
    <lineage>
      <procstep>
        <procdesc>Multibeam bathymetry and backscatter data were collected using a 12 kHz Kongsberg Simrad EM-122 multibeam echosounder and SIS (v3.8.2) acquisition software. The system consists of two hull-mounted transducer arrays, a transmit unit (150 deg. x 1 deg.) located along the ship centerline, and a receive unit (1 deg. x 30 deg.) that is abaft and oriented athwart-ships. The transducer pod is tilted 4 degrees towards the bow to reduce noise from cavitation and bubbles. The system forms a swath of 288 beams that produce an across-track profile of 432 soundings. The SIS software processes range/angle data from each ping during acquisition, merging position, inertial-motion, and sound-velocity data to derive a solution for vessel motion and raybending, and calculate sounding depths and positions. Sound velocity information entered into SIS was obtained from the Applied Micro Systems Micro SV mounted on the transducer pod and 52 XBT profiles. XBT profiles were extended to 12 km depth with data generated by the unix program 'mblevitus', a module of the multibeam processing package MB-System (Caress and Chayes, 2006). Average water column salinity of 34.4 ppt was determined by extrapolating data from XCDT casts. Multibeam data were collected nearly continuously throughout the cruise, effectively mapping the seafloor along the course of the ship's track. Beam angle was set at 70 on each side throughout the program and swath widths were generally between 3 and 4 times water depth. SIS logged bathymetry and backscatter solutions to the Simrad '.all' format for archival purposes.</procdesc>
        <procdate>201106</procdate>
      </procstep>
      <procstep>
        <procdesc>CARIS processing for MGL1109: A new CARIS HIPS project (ver. 7.1) was created with projection information set to Universal Transverse Mercator (UTM) Zone 6N, WGS84. Each Simrad EM122 data file (*.all) was imported to the new CARIS project using the Import/Conversion Wizard. A 100 meter resolution Bathymetric and Statistical Error (BASE) Surface was created and new files were added to the surface each Julian day. With the addition of new files, the BASE surface was reviewed for any inconsistencies or data anomalies. Navigation was edited as needed using the navigation editor tool in CARIS. Filters were applied to each line including beam to beam slopes and across track angle.  The CARIS "surface filter" was applied to the data using the two standard deviation option. Swath data were also edited manually to remove obviously outlying soundings.</procdesc>
        <procdate>201205</procdate>
        <proccont>
          <cntinfo>
            <cntorgp>
              <cntorg>U.S. Geological Survey</cntorg>
              <cntper>Wayne Baldwin</cntper>
            </cntorgp>
            <cntpos>Geologist</cntpos>
            <cntaddr>
              <addrtype>mailing and physical address</addrtype>
              <address>384 Woods Hole Road</address>
              <city>Woods Hole</city>
              <state>MA</state>
              <postal>02543-1598</postal>
              <country>USA</country>
            </cntaddr>
            <cntvoice>508-457-2226</cntvoice>
            <cntemail>wbaldwin@usgs.gov</cntemail>
          </cntinfo>
        </proccont>
      </procstep>
      <procstep>
        <procdesc>The 100 meter CARIS HIPS BASE surface for MGL1109 was exported from CARIS as a Bathymetric Attributed Grid (BAG) file.  The resulting BAG file was used to import the surface into IVS3D DMagic as gridded data, then the surface was saved as a Fledermaus Digital Terrain Model in the IVS3D SD format. Finally, the Fledermaus ArcGIS module was used to export the surface directly to an ESRI Binary Grid.</procdesc>
        <procdate>201205</procdate>
        <proccont>
          <cntinfo>
            <cntorgp>
              <cntorg>U.S. Geological Survey</cntorg>
              <cntper>Wayne Baldwin</cntper>
            </cntorgp>
            <cntpos>Geologist</cntpos>
            <cntaddr>
              <addrtype>mailing and physical address</addrtype>
              <address>384 Woods Hole Road</address>
              <city>Woods Hole</city>
              <state>MA</state>
              <postal>02543</postal>
              <country>USA</country>
            </cntaddr>
            <cntvoice>508-457-2226</cntvoice>
            <cntfax>(508) 457-2310</cntfax>
            <cntemail>wbaldwin@usgs.gov</cntemail>
          </cntinfo>
        </proccont>
      </procstep>
      <procstep>
        <procdesc>Wayne Baldwin (wbaldwin@usgs.gov) wrote version 1 of metadata.</procdesc>
        <procdate>201208</procdate>
      </procstep>
      <procstep>
        <procdesc>Incorrect -6006 m depth value in previously supplied Esri grid mgl1109_bathy at -151.86885 57.69336. Re-exported band1 of mg1109_bathy.bag (bathymetry attributed grid) to GeoTIFF MGL1109bathyutm.tif. (fwong@usgs.gov)</procdesc>
        <procdate>201509</procdate>
      </procstep>
      <procstep>
        <procdesc>Applied ArcGIS Hillshade tool to bathymetry data. (fwong@usgs.gov)</procdesc>
        <procdate>201509</procdate>
      </procstep>
      <procstep>
        <procdesc>Metadata was modified to bring up to current USGS PCMSC standards. Point of Contact and Metadata Contact information was updated. Keywords were added and refined. Cross Reference citation added. Details about different Network Resource Name links was given in the Access Instructions section. Minor typos were corrected. No data information was changed.</procdesc>
        <procdate>20220818</procdate>
        <proccont>
          <cntinfo>
            <cntperp>
              <cntper>Susan A Cochran</cntper>
              <cntorg>U.S. Geological Survey, Pacific Coastal and Marine Science Center</cntorg>
            </cntperp>
            <cntpos>Geologist</cntpos>
            <cntaddr>
              <addrtype>mailing and physical</addrtype>
              <address>2885 Mission St.</address>
              <city>Santa Cruz</city>
              <state>CA</state>
              <postal>95060</postal>
              <country>United States</country>
            </cntaddr>
            <cntvoice>831-460-7545</cntvoice>
            <cntemail>scochran@usgs.gov</cntemail>
          </cntinfo>
        </proccont>
      </procstep>
    </lineage>
  </dataqual>
  <spdoinfo>
    <direct>Raster</direct>
    <rastinfo>
      <rasttype>Grid Cell</rasttype>
      <rowcount>10224</rowcount>
      <colcount>10125</colcount>
      <vrtcount>1</vrtcount>
    </rastinfo>
  </spdoinfo>
  <spref>
    <horizsys>
      <planar>
        <gridsys>
          <gridsysn>Universal Transverse Mercator</gridsysn>
          <utm>
            <utmzone>6</utmzone>
            <transmer>
              <sfctrmer>0.9996</sfctrmer>
              <longcm>-147.0</longcm>
              <latprjo>0.0</latprjo>
              <feast>500000.0</feast>
              <fnorth>0.0</fnorth>
            </transmer>
          </utm>
        </gridsys>
        <planci>
          <plance>row and column</plance>
          <coordrep>
            <absres>100.0</absres>
            <ordres>100.0</ordres>
          </coordrep>
          <plandu>Meter</plandu>
        </planci>
      </planar>
      <geodetic>
        <horizdn>D_WGS_1984</horizdn>
        <ellips>WGS_1984</ellips>
        <semiaxis>6378137.0</semiaxis>
        <denflat>298.257223563</denflat>
      </geodetic>
    </horizsys>
  </spref>
  <eainfo>
    <detailed>
      <enttyp>
        <enttypl>Attribute Table</enttypl>
        <enttypd>Table containing attribute information associated with the data set.</enttypd>
        <enttypds>Producer defined</enttypds>
      </enttyp>
      <attr>
        <attrlabl>Value</attrlabl>
        <attrdef>grayscale range 0-254</attrdef>
        <attrdefs>Producer defined</attrdefs>
        <attrdomv>
          <rdom>
            <rdommin>0</rdommin>
            <rdommax>254</rdommax>
            <attrunit>unitless</attrunit>
          </rdom>
        </attrdomv>
      </attr>
    </detailed>
    <overview>
      <eaover>&gt;
&gt; Cell Size =             100 m
&gt; Data Type:            Integer
&gt; Number of Rows    =       10224
&gt; Number of Columns =       10125
&gt;
&gt; BOUNDARY (UTM Zone 6 meters)
&gt;
&gt; Xmin =               169050
&gt; Xmax =              1181550
&gt; Ymin =              5385650
&gt; Ymax =              6408050
&gt;
&gt; BOUNDARY (WGS84, excluding NODATA):
&gt; Xmin = -152.380
&gt; Xmax = -137.808
&gt; Ymin =  48.266
&gt; Ymax = 57.713
&gt;
&gt; BOUNDARY (converted from UTM zone 6 coordinates)
&gt; Xmin = -152.554
&gt; Xmax = -135.659
&gt; Ymin =  48.256
&gt; Ymax = 57.814
&gt;
&gt; STATISTICS (depth in meters)
&gt;
&gt; Minimum Value =            0
&gt; Maximum Value =            254
&gt; Mean          =            179
&gt; Standard Deviation =         8
&gt;
&gt; COORDINATE SYSTEM DESCRIPTION
&gt;
&gt; Projection                  UTM
&gt; Zone                          6
&gt; Datum                     WGS84
&gt; Units                    METERS
&gt; Spheroid                  WGS84
&gt;</eaover>
      <eadetcit>The entity and attribute information was generated by the individual and/or agency identified as the originator of the data set. Please review the rest of the metadata record for additional details and information.</eadetcit>
    </overview>
  </eainfo>
  <distinfo>
    <distrib>
      <cntinfo>
        <cntorgp>
          <cntorg>U.S. Geological Survey - ScienceBase</cntorg>
        </cntorgp>
        <cntaddr>
          <addrtype>mailing and physical</addrtype>
          <address>Denver Federal Center, Building 810, Mail Stop 302</address>
          <city>Denver</city>
          <state>CO</state>
          <postal>80225</postal>
        </cntaddr>
        <cntvoice>1-888-275-8747</cntvoice>
        <cntemail>sciencebase@usgs.gov</cntemail>
      </cntinfo>
    </distrib>
    <resdesc>These data are available in GeoTiff format, along with .tfw and CSDGM FGDC-compliant metadata.</resdesc>
    <distliab>Unless otherwise stated, all data, metadata and related materials are considered to satisfy the quality standards relative to the purpose for which the data were collected. Although these data and associated metadata have been reviewed for accuracy and completeness and approved for release by the U.S. Geological Survey (USGS), no warranty expressed or implied is made regarding the display or utility of the data on any other system or for general or scientific purposes, nor shall the act of distribution constitute any such warranty.</distliab>
    <stdorder>
      <digform>
        <digtinfo>
          <formname>GeoTIFF</formname>
          <formvern>Esri ArcGIS 10.2.2</formvern>
          <formcont>Zip file contains the shaded-relief grid of bathymetry as well as the associated metadata file.</formcont>
          <transize>4.5</transize>
        </digtinfo>
        <digtopt>
          <onlinopt>
            <computer>
              <networka>
                <networkr>https://www.sciencebase.gov/catalog/file/get/55ef4a60e4b0dacf699e94c6</networkr>
                <networkr>https://www.sciencebase.gov/catalog/item/55ef4a60e4b0dacf699e94c6</networkr>
                <networkr>https://doi.org/10.5066/F7HM56HK</networkr>
              </networka>
            </computer>
            <accinstr>Data can be downloaded using the Network Resource Links. The first link is a direct link to download a zipped file with the data and metadata. The second link is to the page containing the data. The third link is to the publication landing page.</accinstr>
          </onlinopt>
        </digtopt>
      </digform>
      <fees>None</fees>
    </stdorder>
  </distinfo>
  <metainfo>
    <metd>20220825</metd>
    <metc>
      <cntinfo>
        <cntorgp>
          <cntorg>U.S. Geological Survey, Pacific Coastal and Marine Science Center</cntorg>
          <cntper>PCMSC Science Data Coordinator</cntper>
        </cntorgp>
        <cntaddr>
          <addrtype>mailing and physical</addrtype>
          <address>2885 Mission Street</address>
          <city>Santa Cruz</city>
          <state>CA</state>
          <postal>95060</postal>
        </cntaddr>
        <cntvoice>831-427-4747</cntvoice>
        <cntemail>pcmsc_data@usgs.gov</cntemail>
      </cntinfo>
    </metc>
    <metstdn>Content Standard for Digital Geospatial Metadata</metstdn>
    <metstdv>FGDC-STD-001-1998</metstdv>
  </metainfo>
</metadata>
