<?xml version="1.0" encoding="UTF-8"?>
<metadata>
  <idinfo>
    <citation>
      <citeinfo>
        <origin>Kimberly K. Yates</origin>
        <origin>David G. Zawada</origin>
        <origin>Stephanie R. Arsenault</origin>
        <origin>Zachery W. Fehr</origin>
        <pubdate>20190522</pubdate>
        <title>Projected Seafloor Elevation Along the Florida Reef Tract From Big Pine Key to Marquesas Key, Florida-50 Years From 2011 Based on Historical Rates of Mean Elevation Change</title>
        <geoform>Multimedia presentation</geoform>
        <serinfo>
          <sername>U.S. Geological Survey Data Release</sername>
          <issue>doi:10.5066/P91NDHX0</issue>
        </serinfo>
        <pubinfo>
          <pubplace>St. Petersburg, FL</pubplace>
          <publish>U.S. Geological Survey</publish>
        </pubinfo>
        <onlink>https://doi.org/10.5066/P91NDHX0</onlink>
        <lworkcit>
          <citeinfo>
            <origin>Kimberly K. Yates</origin>
            <origin>David G. Zawada</origin>
            <origin>Nathan A. Smiley</origin>
            <origin>Ginger Tiling-Range</origin>
            <pubdate>20170420</pubdate>
            <title>Divergence of seafloor elevation and sea level rise in coral reef ecosystems</title>
            <geoform>Publication</geoform>
            <pubinfo>
              <pubplace>Munich, Germany</pubplace>
              <publish>Biogeosciences</publish>
            </pubinfo>
            <onlink>https://doi.org/10.5194/bg-14-1739-2017</onlink>
          </citeinfo>
        </lworkcit>
      </citeinfo>
    </citation>
    <descript>
      <abstract>The U.S. Geological Survey (USGS) St. Petersburg Coastal and Marine Science Center conducted research to quantify the combined effect of all constructive and destructive processes on modern coral reef ecosystems by projecting future regional-scale changes in seafloor elevation for several sites along the Florida Reef Tract, Florida (FL) including the shallow seafloor along Key West, FL. USGS staff used historical bathymetric point data from the 1930's (National Oceanic and Atmospheric Administration (NOAA) Office of Coast Survey, see Yates and others, 2017) and light detection and ranging (lidar)-derived data acquired in 2002 (Brock and others, 2006, 2007) to calculate historical seafloor elevation changes in the Upper Florida Keys (UFK) (Yates and others, 2017). Using those changes in seafloor elevation, annual rates of elevation change were calculated for 13 habitat types found in the UFK reef tract. The annual rate of mean elevation change for each habitat type was applied to a digital elevation model (DEM) extending from Big Pine Key to Marquesas Key, FL that was modified from the NOAA National Centers for Environmental Information (NCEI) Key West coastal DEM (NOAA, 2011) to project future seafloor elevation (from 2011) along the Key West section of the Florida Reef Tract. Grid resolution for the DEM is 1/3 arc second (approximately 10 meters).</abstract>
      <purpose>These data were used to determine 50-year future seafloor elevation changes (from 2011) along the Key West section of the Florida Reef Tract, based on mean elevation change.</purpose>
      <supplinf>USGS lidar elevation measurements (used in Yates and others, 2017, 2018) were collected over the Upper Florida Keys using the first-generation National Aeronautics and Space Administration (NASA) Experimental Advanced Airborne Research Lidar (EAARL), a pulsed laser ranging system mounted on board an aircraft to measure ground elevation, vegetation canopy, and coastal topography. The system uses high-frequency laser beams directed at the Earth's surface through an opening in the bottom of the aircraft's fuselage. The laser system records the time difference between emission of the laser beam and the reception of the reflected laser signal in the aircraft. Data were collected under Florida Keys National Marine Sanctuary permit FKNMS-2016-068.</supplinf>
    </descript>
    <timeperd>
      <timeinfo>
        <sngdate>
          <caldate>2019</caldate>
        </sngdate>
      </timeinfo>
      <current>publication date</current>
    </timeperd>
    <status>
      <progress>Complete</progress>
      <update>None planned</update>
    </status>
    <spdom>
      <bounding>
        <westbc>-82.180046</westbc>
        <eastbc>-81.269972</eastbc>
        <northbc>24.669469</northbc>
        <southbc>24.427486</southbc>
      </bounding>
    </spdom>
    <keywords>
      <theme>
        <themekt>USGS Metadata Identifier</themekt>
        <themekey>USGS:a9e1d0a7-d66b-4a11-a482-d3e3428bf5eb</themekey>
      </theme>
      <theme>
        <themekt>ISO 19115 Topic Category</themekt>
        <themekey>geoscientificInformation</themekey>
        <themekey>elevation</themekey>
        <themekey>oceans</themekey>
      </theme>
      <theme>
        <themekt>USGS Thesaurus</themekt>
        <themekey>marine geology</themekey>
        <themekey>sea-floor characteristics</themekey>
        <themekey>sea-level change</themekey>
        <themekey>reef ecosystems</themekey>
        <themekey>coelenterates</themekey>
        <themekey>lidar</themekey>
        <themekey>digital elevation models</themekey>
      </theme>
      <theme>
        <themekt>None</themekt>
        <themekey>seafloor elevation</themekey>
        <themekey>sea level rise</themekey>
        <themekey>seafloor accretion</themekey>
        <themekey>seafloor erosion</themekey>
        <themekey>elevation change</themekey>
        <themekey>altimetry</themekey>
        <themekey>submerged topography</themekey>
      </theme>
      <theme>
        <themekt>Global Change Master Science Directory</themekt>
        <themekey>OCEAN &gt; BATHYMETRY/SEAFLOOR TOPOGRAPHY &gt; WATER DEPTH</themekey>
        <themekey>OCEAN &gt; COASTAL PROCESSES &gt; COASTAL ELEVATION</themekey>
        <themekey>OCEAN &gt; COASTAL PROCESSES &gt; CORAL REEFS</themekey>
        <themekey>OCEAN &gt; COASTAL PROCESSES &gt; EROSION</themekey>
        <themekey>OCEAN &gt; COASTAL PROCESSES &gt; SEA LEVEL RISE</themekey>
        <themekey>DOI/USGS/CMG &gt; COASTAL AND MARINE GEOLOGY, U.S. GEOLOGICAL SURVEY, U.S. DEPARTMENT OF INTERIOR</themekey>
      </theme>
      <theme>
        <themekt>GCMD Instrument</themekt>
        <themekey>LIDAR &gt; LIGHT DETECTION AND RANGING</themekey>
      </theme>
      <place>
        <placekt>Geographic Names Information System</placekt>
        <placekey>Key West</placekey>
        <placekey>Big Pine Key</placekey>
        <placekey>Marquesas Keys</placekey>
        <placekey>Florida Keys</placekey>
        <placekey>Florida</placekey>
      </place>
      <place>
        <placekt>None</placekt>
        <placekey>Florida Reef Tract</placekey>
      </place>
      <stratum>
        <stratkt>None</stratkt>
        <stratkey>submerged</stratkey>
        <stratkey>seafloor</stratkey>
      </stratum>
      <temporal>
        <tempkt>None</tempkt>
        <tempkey>2011-2061</tempkey>
      </temporal>
    </keywords>
    <accconst>None</accconst>
    <useconst>Public domain data from the U.S. Government are freely redistributable with proper metadata and source attribution. The U.S. Geological Survey requests to be acknowledged as originator of these data in future products or derivative research.</useconst>
    <ptcontac>
      <cntinfo>
        <cntperp>
          <cntper>Kimberly K. Yates</cntper>
          <cntorg>Southeast Region: ST. PETE COASTAL &amp; MARINE SC</cntorg>
        </cntperp>
        <cntpos>Research Oceanographer</cntpos>
        <cntaddr>
          <addrtype>mailing and physical</addrtype>
          <address>600 4Th Street South</address>
          <city>St. Petersburg</city>
          <state>FL</state>
          <postal>33701</postal>
          <country>United States</country>
        </cntaddr>
        <cntvoice>727-502-8059</cntvoice>
        <cntemail>kyates@usgs.gov</cntemail>
      </cntinfo>
    </ptcontac>
    <crossref>
      <citeinfo>
        <origin>John C. Brock</origin>
        <origin>C. Wayne Wright</origin>
        <origin>Matt Patterson</origin>
        <origin>Amar Nayegandhi</origin>
        <origin>Judd Patterson</origin>
        <origin>Melanie S. Harris</origin>
        <origin>Lance Mosher</origin>
        <pubdate>2006</pubdate>
        <title>EAARL Submarine Topography-Biscayne National Park</title>
        <serinfo>
          <sername>U.S. Geological Survey Open-File Report</sername>
          <issue>2006-1118</issue>
        </serinfo>
        <pubinfo>
          <pubplace>St. Petersburg, FL</pubplace>
          <publish>U.S. Geological Survey</publish>
        </pubinfo>
        <onlink>https://pubs.usgs.gov/of/2006/1118/</onlink>
      </citeinfo>
    </crossref>
    <crossref>
      <citeinfo>
        <origin>John C. Brock</origin>
        <origin>C. Wayne Wright</origin>
        <origin>Amar Nayegandhi</origin>
        <origin>Matt Patterson</origin>
        <origin>Iris Wilson</origin>
        <origin>Laurenda J. Travers</origin>
        <pubdate>2007</pubdate>
        <title>EAARL submarine topography - Northern Florida Keys Reef Tract</title>
        <serinfo>
          <sername>U.S. Geological Survey Open-File Report</sername>
          <issue>2007-1432</issue>
        </serinfo>
        <pubinfo>
          <pubplace>St. Petersburg, FL</pubplace>
          <publish>U.S. Geological Survey</publish>
        </pubinfo>
        <onlink>https://pubs.usgs.gov/of/2007/1432/</onlink>
      </citeinfo>
    </crossref>
  </idinfo>
  <dataqual>
    <attracc>
      <attraccr>Datasets were visually compared by USGS staff (with other overlapping datasets, satellite images, and maps) in Esri ArcGIS for identification of anomalous elevations or data inconsistencies. Where elevation inconsistencies occurred, the most recent and/or highest resolution dataset was selected for use in that region.</attraccr>
    </attracc>
    <logic>Data cover the area specified for this project, without any known issues.</logic>
    <complete>This dataset is considered complete for the information presented, as described in the abstract section. Users are advised to read the rest of the metadata record and Yates and others (2017) carefully for additional details.</complete>
    <posacc>
      <horizpa>
        <horizpar>The horizontal accuracy of bathymetric and topographic features in the DEM (NOAA, 2011) is dependent upon the accuracy of the input datasets used to determine corresponding cell values. Topography: Positional accuracy of input topographic datasets limits accuracy of corresponding cell values in the DEM. South Florida Water Management District (SFWMD) lidar DEM: 1.15 meters; U.S. Geological Survey National Elevation Dataset (USGS NED) DEM: 10 meters. DEM cell-value relative-contribution factors: SFWMD: 10; NED: 1. Bathymetry: less than 1 meter to tens of meters. Positional accuracy of input bathymetric datasets limits accuracy of corresponding cell values in the DEM. National Ocean Services (NOS): less than 1 meter to tens of meters; Multibeam surveys: 30 meters. U.S. Army Corps of Engineers (USACE) surveys: less than 1 meter. DEM cell-value relative-contribution factors: NOS surveys: 10; Multibeam surveys: 1; USACE surveys: 10; Electronic Navigational Charts (ENC) soundings: 1.</horizpar>
      </horizpa>
      <vertacc>
        <vertaccr>The vertical accuracy of bathymetric and topographic features in the DEM (NOAA, 2011) is dependent upon the accuracy of the input datasets used to determine corresponding cell values. Vertical accuracy of input topographic datasets limits accuracy of corresponding cells in the DEM. SFWMD lidar DEM: 0.18 to 0.36 meters; USGS NED: 7 to 15 meters. DEM cell-value relative-contribution factors: SFWMD: 10; NED: 1. Bathymetry: 0.3 meters to 5% of water depth. Vertical accuracy of input bathymetric datasets limits accuracy of corresponding cells in the DEM. NOS: less than 1 meter to tens of meters; Multibeam surveys: less than 1 meter to tens of meters; USACE surveys: less than a meter. DEM cell-value relative-contribution factors: NOS surveys: 10; Multibeam surveys: 1; USACE surveys: 10; ENC soundings: 1. Gridding interpolation to determine cell values between sparse NOS hydrographic soundings in deep water degrades the vertical accuracy of deep-water elevations.</vertaccr>
      </vertacc>
    </posacc>
    <lineage>
      <srcinfo>
        <srccite>
          <citeinfo>
            <origin>National Geophysical Data Center, National Environmental Satellite, Data, and Information Service, National Oceanic and Atmospheric Administration, U.S. Department of Commerce</origin>
            <pubdate>20110901</pubdate>
            <title>Key West, Florida 1/3 Arc-Second NAVD 88 Coastal Digital Elevation Model</title>
            <geoform>NetCDF</geoform>
            <pubinfo>
              <pubplace>Silver Spring, MD</pubplace>
              <publish>National Oceanic and Atmospheric Administration</publish>
            </pubinfo>
            <onlink>https://data.nodc.noaa.gov/cgi-bin/iso?id=gov.noaa.ngdc.mgg.dem:3121</onlink>
          </citeinfo>
        </srccite>
        <typesrc>Digital Elevation Model</typesrc>
        <srctime>
          <timeinfo>
            <rngdates>
              <begdate>18520101</begdate>
              <enddate>20110101</enddate>
            </rngdates>
          </timeinfo>
          <srccurr>ground condition</srccurr>
        </srctime>
        <srccitea>Key West DEM</srccitea>
        <srccontr>The Key West DEM was used as the starting elevation dataset, which was modified to calculate future seafloor elevations.</srccontr>
      </srcinfo>
      <srcinfo>
        <srccite>
          <citeinfo>
            <origin>Florida Fish and Wildlife Conservation Commission, Fish and Wildlife Research Institute</origin>
            <pubdate>20170113</pubdate>
            <title>Unified Florida Reef Tract Map Version 2.0</title>
            <geoform>Shapefile</geoform>
            <pubinfo>
              <pubplace>St. Petersburg, FL</pubplace>
              <publish>Fish and Wildlife Research Institute</publish>
            </pubinfo>
            <onlink>https://ocean.floridamarine.org/IntegratedReefMap/UnifiedReefTract.htm</onlink>
          </citeinfo>
        </srccite>
        <typesrc>Vector digital data</typesrc>
        <srctime>
          <timeinfo>
            <rngdates>
              <begdate>19910101</begdate>
              <enddate>20130101</enddate>
            </rngdates>
          </timeinfo>
          <srccurr>ground condition</srccurr>
        </srctime>
        <srccitea>Habitat file</srccitea>
        <srccontr>This shapefile was used to divide the DEM by habitat types using Unified Classification (UC) Class Level 2</srccontr>
      </srcinfo>
      <srcinfo>
        <srccite>
          <citeinfo>
            <origin>Kimberly K. Yates, David G. Zawada, Stephanie R. Arsenault</origin>
            <pubdate>2018</pubdate>
            <title>Projected Seafloor Elevation Change in the Upper Florida Keys 25, 50, 75, and 100 Years from 2002</title>
            <geoform>CSV</geoform>
            <pubinfo>
              <pubplace>St. Petersburg, FL</pubplace>
              <publish>U.S. Geological Survey</publish>
            </pubinfo>
            <onlink>https://doi.org/10.5066/P9CI9LNH</onlink>
          </citeinfo>
        </srccite>
        <typesrc>Tabular digital data</typesrc>
        <srctime>
          <timeinfo>
            <rngdates>
              <begdate>19300101</begdate>
              <enddate>20020101</enddate>
            </rngdates>
          </timeinfo>
          <srccurr>ground condition</srccurr>
        </srctime>
        <srccitea>Upper Florida Keys Projected Seafloor Elevation Change</srccitea>
        <srccontr>This data release contains the UFK projected seafloor elevation change for 13 habitat types that were applied to the Key West DEM.</srccontr>
      </srcinfo>
      <procstep>
        <procdesc>Step 1: The original Key West 1/3 arc-second NAVD 88 Coastal DEM was downloaded from https://data.nodc.noaa.gov/cgi-bin/iso?id=gov.noaa.ngdc.mgg.dem:3121. The network common data format (netCDF) DEM file was converted to a tagged image file format (TIFF) using Blue Marble Global Mapper version 19.1.0. All remaining steps were completed with Esri ArcGIS Desktop Advanced version 10.6. Using the original TIFF, a footprint of the DEM was created with the "Reclassify (Spatial Analyst)" tool in ArcToolbox by replacing all old data values with 1 and the "No Data" value with 0 to create a raster file. Then, the "Raster to Polygon (Conversion)" tool was used to create a footprint of the original Key West DEM by converting the raster file to a polygon shapefile (SHP).</procdesc>
        <procdate>2018</procdate>
      </procstep>
      <procstep>
        <procdesc>Step 2: The original Unified Florida Reef Tract Map version 2.0 polygon SHP file was downloaded from http://ocean.floridamarine.org/IntegratedReefMap/UnifiedReefTract.htm. Using Esri ArcGIS, the original habitat SHP file was modified using the "Clip (Analysis)" tool to clip the habitat SHP file to the extent of the original Key West DEM footprint (from Step 1) by specifying the habitat SHP file as the 'Input Features' and the DEM footprint SHP file as the 'Clip Features'. Then Artificial, Land, and Mangrove areas (ClassLv2) were removed from the habitat SHP file using the "Select by Attribute" tool to select the three habitat types and the "Editor Toolbox" to delete them.</procdesc>
        <procdate>2018</procdate>
      </procstep>
      <procstep>
        <procdesc>Step 3: The original Key West DEM TIFF (from Step 1), was clipped to the extent of the modified habitat SHP file (from Step 2) using the "Clip (Data Management)" tool in Esri ArcGIS by specifying the Key West DEM TIFF as the 'Input Raster' and the modified habitat SHP file as the 'Output Extent'. The clipped TIFF was used to extract two shoreline contours with the "Contour List (Spatial Analyst)" tool by adding 'Contour values' for a 0.05-meter (m) contour. The shoreline contour SHP file was manually connected across inlets and gaps using the "Straight Segment" tool in the "Editor Toolbox" to draw straight lines between the seaward most points of channels or other breaks along the coastline. The backshore was removed from the contour SHP file by using the "Buffer (Analysis)" tool with a 'Distance Linear unit' of 1000 m. Then the shoreline contour was smoothed with the "Smooth Line (Cartography)" tool using the Polynomial Approximation with Exponential Kernel (PAEK) smoothing algorithm and a 50-m smoothing tolerance. Using the extended contour SHP file, a polygon SHP file was created using the "Feature to Polygon (Data Management)" tool by specifying the contour SHP file as the 'Input Features', to create the Coastal Clip SHP file. The clipped DEM TIFF was modified further using the "Clip (Data Management)" tool to remove coastal land areas by adding the DEM TIFF as the 'Input Raster' and the Coastal Clip SHP file as the 'Output Extent', creating the KeyWest_ElevationSurface_OriginalClip TIFF.</procdesc>
        <procdate>2018</procdate>
      </procstep>
      <procstep>
        <procdesc>Step 4: The clipped habitat SHP file (from Step 2) was modified by removing coastal land areas using the "Clip (Analysis)" tool with the habitat SHP file as the 'Input Features' and the Coastal Clip SHP file (from Step 3) as the 'Clip Features', creating the KeyWest_Habitat_Clip SHP file.</procdesc>
        <procdate>2018</procdate>
      </procstep>
      <procstep>
        <procdesc>Step 5: Mean future elevation for each habitat type in the KeyWest_ElevationSurface_OriginalClip DEM was calculated by applying previously published mean elevation changes in the Upper Florida Keys (UFK) that were projected 50 years into the future from the year 2002 (Yates and others, 2018, https://doi.org/10.5066/P9CI9LNH). Mean projected elevation changes in the UFK were compiled by habitat type into a comma separated values (CSV) file using Microsoft Excel 2016.</procdesc>
        <procdate>2018</procdate>
      </procstep>
      <procstep>
        <procdesc>Step 6: Using the KeyWest_Habitat_Clip SHP file, in Esri ArcGIS, individual polygon SHP files were created for each habitat type using the "Select by Attribute" tool and exporting each habitat type as a separate SHP file. Individual DEMs were created from the KeyWest_ElevationSurface_OriginalClip TIFF using the "Clip (Data Management)" tool to clip the full DEM to the extent of each habitat type SHP file by specifying the KeyWest_ElevationSurface_OriginalClip as the 'Input Raster' and the habitat type SHP file as the 'Output Extent'. The "Raster Calculator (Spatial Analyst)" tool was used to project future elevation change per habitat type by modifying individual habitat DEMs by adding or subtracting the corresponding 'Mean projected elevation change from 2002 Upper Florida Keys (m)' from the 50_Year_KeyWest_Seafloor_Projection_MeanElevation CSV file. For habitats present in the KeyWest_Habitat_Clip SHP file, but not present in the UFK (Dredged/Excavated and Reef Rubble with Seagrass), the mean elevation change value for the total UFK study site was applied. Individual habitat DEMs were merged together using the "Mosaic to New Raster (Data Management)" tool with the 'Pixel Type' set to 32_BIT_FLOAT, 'Number of Bands' set to 1 and the 'Mosaic Operator' set to MEAN to create the final 50_Year_KeyWest_Seafloor_Projection_DEM_MeanElevation TIFF file.</procdesc>
        <procdate>2018</procdate>
      </procstep>
      <procstep>
        <procdesc>Added keywords section with USGS persistent identifier as theme keyword.</procdesc>
        <procdate>20201013</procdate>
        <proccont>
          <cntinfo>
            <cntorgp>
              <cntorg>U.S. Geological Survey</cntorg>
              <cntper>VeeAnn A. Cross</cntper>
            </cntorgp>
            <cntpos>Marine Geologist</cntpos>
            <cntaddr>
              <addrtype>Mailing and Physical</addrtype>
              <address>384 Woods Hole Road</address>
              <city>Woods Hole</city>
              <state>MA</state>
              <postal>02543-1598</postal>
            </cntaddr>
            <cntvoice>508-548-8700 x2251</cntvoice>
            <cntfax>508-457-2310</cntfax>
            <cntemail>vatnipp@usgs.gov</cntemail>
          </cntinfo>
        </proccont>
      </procstep>
    </lineage>
  </dataqual>
  <spdoinfo>
    <direct>Raster</direct>
    <rastinfo>
      <rasttype>Grid Cell</rasttype>
      <rowcount>2614</rowcount>
      <colcount>9831</colcount>
      <vrtcount>1</vrtcount>
    </rastinfo>
  </spdoinfo>
  <spref>
    <horizsys>
      <geograph>
        <latres>9.2571911E-5</latres>
        <longres>9.2571911E-6</longres>
        <geogunit>Decimal degrees</geogunit>
      </geograph>
      <geodetic>
        <horizdn>World Geodetic System 1984 (WGS84)</horizdn>
        <ellips>WGS_1984</ellips>
        <semiaxis>6378137.0</semiaxis>
        <denflat>298.257223563</denflat>
      </geodetic>
    </horizsys>
    <vertdef>
      <altsys>
        <altdatum>North American Vertical Datum of 1988 (NAVD88) GEOID03</altdatum>
        <altres>0.2</altres>
        <altunits>meters</altunits>
        <altenc>Explicit elevation coordinate included with horizontal coordinates</altenc>
      </altsys>
    </vertdef>
  </spref>
  <eainfo>
    <detailed>
      <enttyp>
        <enttypl>50_Year_KeyWest_Seafloor_Projection_MeanElevation.csv</enttypl>
        <enttypd>This file contains elevation statistics, provided in CSV format, for each habitat type found in the UFK. These data were used to compute the 50-year (from 2011) projected seafloor elevation change in the Key West section of the Florida Reef Tract.</enttypd>
        <enttypds>USGS</enttypds>
      </enttyp>
      <attr>
