<?xml version="1.0" encoding="UTF-8"?>
<metadata>
  <idinfo>
    <citation>
      <citeinfo>
        <origin>Davina L. Passeri</origin>
        <origin>Joseph W. Long</origin>
        <origin>Robert L. Jenkins</origin>
        <origin>David M. Thompson</origin>
        <pubdate>20180828</pubdate>
        <title>Mobile Harbor Navigation Channel Delft3D Model Inputs and Results - Initial Existing Conditions Grid</title>
        <geoform>raster digital data</geoform>
        <serinfo>
          <sername>U.S. Geological Survey Data Release</sername>
          <issue>doi:10.5066/P9SS1DJW</issue>
        </serinfo>
        <pubinfo>
          <pubplace>St. Petersburg, FL</pubplace>
          <publish>U.S. Geological Survey</publish>
        </pubinfo>
        <onlink>https://doi.org/10.5066/P9SS1DJW</onlink>
      </citeinfo>
    </citation>
    <descript>
      <abstract>The numerical model Delft3D (developed by Deltares) was developed to evaluate the potential effects of proposed navigation channel deepening and widening in Mobile Harbor, Alabama (AL). The Delft3D model setup requires the input of a merged topographic and bathymetric elevations, a wave climate based on significant wave heights, peak wave period and mean wave direction, and a tidal-time series. The model was validated by comparing model outputs from deterministic runs with observations of water levels and velocities. The validated model was used to simulate scenarios of existing conditions and proposed with-project conditions (for example, channel deepening and widening). Simulations were performed for one year (the year 2010) and ten years, with and without 0.5 meters (m) of sea level rise. Model inputs and outputs in the form of topography and bathymetry for the scenario runs as well as output water levels and velocities for the deterministic runs are provided in this data release. For further information regarding model input generation and visualization of model output topography and bathymetry, refer to USGS Open-File Report 2018-1123.</abstract>
      <purpose>These data were generated for the Delft3D model to evaluate the potential effects of proposed navigation channel deepening and widening in Mobile Harbor, AL. Existing_Initial_Elevations.zip is a dataset that consists of Federal Geographic Data Committee (FGDC) metadata and a Network Common Data Form (NetCDF) file containing the following variables: coordinates of the model grid (Easting and Northing) and the initial bathymetric/topographic (z) model elevation values, in meters, for the simulations of existing conditions.</purpose>
    </descript>
    <timeperd>
      <timeinfo>
        <sngdate>
          <caldate>20180828</caldate>
        </sngdate>
      </timeinfo>
      <current>publication date</current>
    </timeperd>
    <status>
      <progress>Complete</progress>
      <update>As needed</update>
    </status>
    <spdom>
      <bounding>
        <westbc>-88.4612126529462</westbc>
        <eastbc>-87.6748359827091</eastbc>
        <northbc>30.697486</northbc>
        <southbc>29.969949</southbc>
      </bounding>
    </spdom>
    <keywords>
      <theme>
        <themekt>USGS Metadata Identifier</themekt>
        <themekey>USGS:b9d9c495-db02-42a7-815a-1c2b695722d6</themekey>
      </theme>
      <theme>
        <themekt>None</themekt>
        <themekey>U.S. Geological Survey</themekey>
        <themekey>USGS</themekey>
        <themekey>St. Petersburg Coastal and Marine Science Center</themekey>
        <themekey>SPCMSC</themekey>
        <themekey>morphologic change</themekey>
        <themekey>estuaries</themekey>
        <themekey>coastal</themekey>
        <themekey>marine sediment transport</themekey>
      </theme>
      <theme>
        <themekt>ISO 19115 Topic Category</themekt>
        <themekey>oceans</themekey>
        <themekey>elevation</themekey>
        <themekey>geoscientificInformation</themekey>
      </theme>
      <theme>
        <themekt>USGS Thesaurus</themekt>
        <themekey>marine geology</themekey>
        <themekey>geomorphology</themekey>
        <themekey>topography</themekey>
        <themekey>bathymetry</themekey>
        <themekey>coastal ecosystems</themekey>
        <themekey>estuarine ecosystems</themekey>
        <themekey>digital elevation models</themekey>
        <themekey>sea-level change</themekey>
        <themekey>ocean processes</themekey>
        <themekey>sediment transport</themekey>
      </theme>
      <place>
        <placekt>Geographic Names Information System (GNIS) Content</placekt>
        <placekey>Gulf of Mexico</placekey>
        <placekey>Alabama</placekey>
        <placekey>North America</placekey>
        <placekey>United States of America</placekey>
        <placekey>Mobile Bay</placekey>
      </place>
    </keywords>
    <accconst>None.</accconst>
    <useconst>Public domain data from the U.S. Government are freely redistributable with proper metadata and source attribution. Please recognize the U.S. Geological Survey as the originator of the dataset.</useconst>
    <ptcontac>
      <cntinfo>
        <cntorgp>
          <cntorg>U.S. Geological Survey, USGS Southeast Area</cntorg>
          <cntper>Davina Passeri</cntper>
        </cntorgp>
        <cntpos>Research Civil Engineer</cntpos>
        <cntaddr>
          <addrtype>Mailing</addrtype>
          <address>600 4th Street South</address>
          <city>St. Petersburg</city>
          <state>FL</state>
          <postal>33701</postal>
          <country>US</country>
        </cntaddr>
        <cntvoice>727-502-8014</cntvoice>
        <cntfax>727-502-8001</cntfax>
        <cntemail>dpasseri@usgs.gov</cntemail>
      </cntinfo>
    </ptcontac>
    <datacred>U.S. Geological Survey</datacred>
    <native>Microsoft Windows 7 Enterprise; MATLAB R2015a</native>
    <crossref>
      <citeinfo>
        <origin>Passeri, D.L., Long, J.W., Jenkins, R.J., Thompson, D.M.</origin>
        <pubdate>20180828</pubdate>
        <title>Effects of Proposed Navigation Channel Improvements on Sediment Transport in Mobile Harbor, Alabama</title>
        <serinfo>
          <sername>U.S. Geological Survey Open-File Report</sername>
          <issue>2018-1123</issue>
        </serinfo>
        <onlink>https://doi.org/10.3133/ofr20181123</onlink>
      </citeinfo>
    </crossref>
    <crossref>
      <citeinfo>
        <origin>Plant, N.G., Holland, K.T., Puleo, J.A.</origin>
        <pubdate>2002</pubdate>
        <title>Analysis of the scale of errors in nearshore bathymetric data</title>
        <serinfo>
          <sername>Marine Geology</sername>
          <issue>Volume 191, Issue 1-2, November 2002, pg. 71-86.</issue>
        </serinfo>
        <onlink>https://doi.org/10.1016/S0025-3227(02)00497-8.</onlink>
      </citeinfo>
    </crossref>
  </idinfo>
  <dataqual>
    <logic>The existing initial elevations are topographic and bathymetric elevations at each model grid cell for existing conditions and serve as input for each of the simulations of existing conditions.</logic>
    <complete>These are the complete initial model grid elevations for the simulations of existing conditions. This dataset is considered complete for the information presented, as described in the abstract section. Users are advised to read the rest of the metadata record carefully for additional details.</complete>
    <posacc>
      <horizpa>
        <horizpar>These model elevations are the initial topographic and bathymetric elevations for the simulations of existing conditions.
Within the Delft3D model, the coordinates are in Universal Transverse Mercator (UTM).</horizpar>
      </horizpa>
      <vertacc>
        <vertaccr>Vertical datum is in the North American Vertical Datum of 1988 (NAVD88) with an estimated resolution of 0.01 m.</vertaccr>
      </vertacc>
    </posacc>
    <lineage>
      <srcinfo>
        <srccite>
          <citeinfo>
            <origin>Danielson, J.J., Brock, J.C., Howard, D.M., Gesch, D.B., Bonisteel-Cormier, J.M., and Travers, L.J.</origin>
            <pubdate>20130919</pubdate>
            <title>Topobathymetric model of Mobile Bay, Alabama</title>
            <pubinfo>
              <pubplace>Reston, VA</pubplace>
              <publish>U.S. Geological Survey</publish>
            </pubinfo>
            <onlink>https://doi.org/10.3133/ds769</onlink>
          </citeinfo>
        </srccite>
        <typesrc>Online digital data</typesrc>
        <srctime>
          <timeinfo>
            <sngdate>
              <caldate>Unknown</caldate>
            </sngdate>
          </timeinfo>
          <srccurr>ground condition</srccurr>
        </srctime>
        <srccitea>USGS Data Series 769</srccitea>
        <srccontr>Bathymetry data used to generate initial elevations.</srccontr>
      </srcinfo>
      <srcinfo>
        <srccite>
          <citeinfo>
            <origin>DeWitt, N.T., Stalk, C.A., Flocks, J.G., Bernier, J.C., Kelso, K.W., Fredericks, J.J., and Tuten, T.</origin>
            <pubdate>20171130</pubdate>
            <title>Single-beam bathymetry data collected in 2015 nearshore Dauphin Island, Alabama</title>
            <pubinfo>
              <pubplace>St. Petersburg, FL</pubplace>
              <publish>U.S. Geological Survey</publish>
            </pubinfo>
            <onlink>https://doi.org/10.5066/F7BZ648W</onlink>
          </citeinfo>
        </srccite>
        <typesrc>Online digital data</typesrc>
        <srctime>
          <timeinfo>
            <sngdate>
              <caldate>201508</caldate>
            </sngdate>
          </timeinfo>
          <srccurr>ground condition</srccurr>
        </srctime>
        <srccitea>none</srccitea>
        <srccontr>Bathymetry data used to generate the initial elevations.</srccontr>
      </srcinfo>
      <srcinfo>
        <srccite>
          <citeinfo>
            <origin>U.S. Geological Survey</origin>
            <pubdate>20161018</pubdate>
            <title>USGS Lidar Point Cloud LA SoTerrebonne-GI 2015 15RCU7060 LAS 2016</title>
            <pubinfo>
              <pubplace>Reston, VA</pubplace>
              <publish>U.S. Geological Survey</publish>
            </pubinfo>
            <onlink>http://nationalmap.gov/viewer.html</onlink>
          </citeinfo>
        </srccite>
        <typesrc>Online digital data</typesrc>
        <srctime>
          <timeinfo>
            <rngdates>
              <begdate>20150118</begdate>
              <enddate>20150213</enddate>
            </rngdates>
          </timeinfo>
          <srccurr>ground condition</srccurr>
        </srctime>
        <srccitea>none</srccitea>
        <srccontr>Lidar data used to generate initial topographic elevations.</srccontr>
      </srcinfo>
      <procstep>
        <procdesc>Mathworks MATLAB (R2015a) was used to merge and interpolate bathymetric data from Danielson and others (2013) and DeWitt and others (2017), and topographic lidar survey data from the U.S. Geological Survey (Lidar Point Cloud LA SoTerrebonne-GI 2015 15RCU7060 LAS 2016) onto the Delft3D model grid following the controlled interpolation methods of Plant and others, 2002.
This merged topographic and bathymetric dataset provides the initial, existing model elevations.</procdesc>
        <procdate>2017</procdate>
        <proccont>
          <cntinfo>
            <cntperp>
              <cntper>Davina Passeri</cntper>
              <cntorg>U.S. Geological Survey</cntorg>
            </cntperp>
            <cntpos>Research Civil Engineer</cntpos>
            <cntaddr>
              <addrtype>mailing and physical address</addrtype>
              <address>600 4th Street S</address>
              <city>St. Petersburg</city>
              <state>FL</state>
              <postal>33701</postal>
              <country>USA</country>
            </cntaddr>
            <cntvoice>(727)-502-8014</cntvoice>
            <cntfax>(727)-502-8001</cntfax>
            <cntemail>dpasseri@usgs.gov</cntemail>
          </cntinfo>
        </proccont>
      </procstep>
      <procstep>
        <procdesc>Model bathymetric and topographic output was extracted in Mathworks MATLAB (R2015a) with functions included in the OpenEarth toolbox (provided by Deltares; https://publicwiki.deltares.nl/display/OET/Tools). The resulting bathymetric and topographic elevations from the model grid were then packaged into a NetCDF file using the functions available in MATLAB for inclusion in this data release.</procdesc>
        <procdate>2018</procdate>
        <proccont>
          <cntinfo>
            <cntperp>
              <cntper>Davina Passeri</cntper>
              <cntorg>U.S. Geological Survey</cntorg>
            </cntperp>
            <cntpos>Research Civil Engineer</cntpos>
            <cntaddr>
              <addrtype>mailing and physical address</addrtype>
              <address>600 4th Street S</address>
              <city>St. Petersburg</city>
              <state>FL</state>
              <postal>33701</postal>
              <country>USA</country>
            </cntaddr>
            <cntvoice>(727)-502-8014</cntvoice>
            <cntfax>(727)-502-8001</cntfax>
            <cntemail>dpasseri@usgs.gov</cntemail>
          </cntinfo>
        </proccont>
      </procstep>
      <procstep>
        <procdesc>Added keywords section with USGS persistent identifier as theme keyword.</procdesc>
        <procdate>20201013</procdate>
        <proccont>
          <cntinfo>
            <cntorgp>
              <cntorg>U.S. Geological Survey</cntorg>
              <cntper>VeeAnn A. Cross</cntper>
            </cntorgp>
            <cntpos>Marine Geologist</cntpos>
            <cntaddr>
              <addrtype>Mailing and Physical</addrtype>
              <address>384 Woods Hole Road</address>
              <city>Woods Hole</city>
              <state>MA</state>
              <postal>02543-1598</postal>
            </cntaddr>
            <cntvoice>508-548-8700 x2251</cntvoice>
            <cntfax>508-457-2310</cntfax>
            <cntemail>vatnipp@usgs.gov</cntemail>
          </cntinfo>
        </proccont>
      </procstep>
    </lineage>
  </dataqual>
  <spdoinfo>
    <indspref>Gulf of Mexico</indspref>
    <direct>Raster</direct>
    <rastinfo>
      <rasttype>Grid Cell</rasttype>
      <rowcount>1368</rowcount>
      <colcount>657</colcount>
      <vrtcount>1</vrtcount>
    </rastinfo>
  </spdoinfo>
  <spref>
    <horizsys>
      <planar>
        <gridsys>
          <gridsysn>Universal Transverse Mercator</gridsysn>
          <utm>
            <utmzone>16</utmzone>
            <transmer>
              <sfctrmer>0.999600</sfctrmer>
              <longcm>-87.000000</longcm>
              <latprjo>0.000000</latprjo>
              <feast>500000.000000</feast>
              <fnorth>0.000000</fnorth>
            </transmer>
          </utm>
        </gridsys>
        <planci>
          <plance>Row and Column</plance>
          <coordrep>
            <absres>1</absres>
            <ordres>1</ordres>
          </coordrep>
          <plandu>meters</plandu>
        </planci>
      </planar>
      <geodetic>
        <horizdn>North American Datum of 1983</horizdn>
        <ellips>Geodectic Reference System 80</ellips>
        <semiaxis>6378137.0</semiaxis>
        <denflat>298.25722210100002</denflat>
      </geodetic>
    </horizsys>
    <vertdef>
      <altsys>
        <altdatum>North American Vertical Datum of 1988</altdatum>
        <altres>0.0001</altres>
        <altunits>meter</altunits>
        <altenc>Attribute values</altenc>
      </altsys>
    </vertdef>
  </spref>
  <eainfo>
    <overview>
      <eaover>The Climate and Forecast (CF)-compliant metadata in the header of the NetCDF file provides spatial information for projecting the data into a geographic information system. It also provides information about the conventions used for attributes in the dataset.</eaover>
      <eadetcit>The entity and attribute information was generated by the individual and/or agency identified as the originator of the dataset. Please review the rest of the metadata record for additional details and information.</eadetcit>
    </overview>
  </eainfo>
  <distinfo>
    <distrib>
      <cntinfo>
        <cntorgp>
          <cntorg>U.S. Geological Survey, USGS Southeast Area</cntorg>
          <cntper>Davina Passeri</cntper>
        </cntorgp>
        <cntpos>Research Civil Engineer</cntpos>
        <cntaddr>
          <addrtype>mailing address</addrtype>
          <address>600 4th Street South</address>
          <city>St. Petersburg</city>
          <state>FL</state>
          <postal>33701</postal>
          <country>US</country>
        </cntaddr>
        <cntvoice>727-502-8014</cntvoice>
        <cntfax>727-502-8001</cntfax>
        <cntemail>dpasseri@usgs.gov</cntemail>
      </cntinfo>
    </distrib>
    <resdesc>Existing_Initial_Elevations.nc</resdesc>
    <distliab>This digital publication was prepared by an agency of the United States Government. Although these data have been processed successfully on a computer system at the U.S. Geological Survey, no warranty expressed or implied is made regarding the display or utility of the data on any other system, nor shall the act of distribution imply any such warranty. The U.S. Geological Survey shall not be held liable for improper or incorrect use of the data described and (or) contained herein. Reference herein to any specific commercial product, process, or service by trade name, trademark, manufacturer, or otherwise does not constitute or imply its endorsement, recommendation, or favoring by the United States Government or any agency thereof.</distliab>
    <stdorder>
      <digform>
        <digtinfo>
          <formname>NetCDF</formname>
          <formvern>4.3.3.1</formvern>
          <formcont>Existing_Initial_Elevations.nc is a NetCDF file that contains the initial topographic and bathymetric elevations and coordinate information, in meters, for the simulations of existing conditions.</formcont>
          <filedec>The file is zipped and must be unzipped before use</filedec>
        </digtinfo>
        <digtopt>
          <onlinopt>
            <computer>
              <networka>
                <networkr>https://coastal.er.usgs.gov/data-release/doi-P9SS1DJW/data/Existing_Initial_Elevations.zip</networkr>
              </networka>
            </computer>
          </onlinopt>
        </digtopt>
      </digform>
      <fees>None.</fees>
    </stdorder>
  </distinfo>
  <metainfo>
    <metd>20201013</metd>
    <metc>
      <cntinfo>
        <cntperp>
          <cntper>Davina Passeri</cntper>
          <cntorg>U.S. Geological Survey, USGS Southeast Area</cntorg>
        </cntperp>
        <cntpos>Research Civil Engineer</cntpos>
        <cntaddr>
          <addrtype>mailing address</addrtype>
          <address>600 4th Street South</address>
          <city>St. Petersburg</city>
          <state>FL</state>
          <postal>33701</postal>
          <country>US</country>
        </cntaddr>
        <cntvoice>727-502-8014</cntvoice>
        <cntfax>727-502-8001</cntfax>
        <cntemail>dpasseri@usgs.gov</cntemail>
      </cntinfo>
    </metc>
    <metstdn>Content Standard for Digital Geospatial Metadata</metstdn>
    <metstdv>FGDC-STD-001-1998</metstdv>
    <metac>None</metac>
    <metuc>None</metuc>
  </metainfo>
</metadata>
