<?xml version="1.0" encoding="UTF-8"?>
<metadata>
  <idinfo>
    <citation>
      <citeinfo>
        <origin>Davina L. Passeri</origin>
        <origin>Christopher G. Smith</origin>
        <pubdate>20200601</pubdate>
        <title>Effects of Late Holocene Climate and Coastal Change in Mobile Bay, Alabama: ADCIRC Model Input and Results (Initial_Elevations_RS_MP)</title>
        <geoform>Raster digital data</geoform>
        <serinfo>
          <sername>U.S. Geological Survey Data Release</sername>
          <issue>doi:10.5066/P9WGJO0S</issue>
        </serinfo>
        <pubinfo>
          <pubplace>St. Petersburg, FL</pubplace>
          <publish>U.S. Geological Survey</publish>
        </pubinfo>
        <onlink>https://doi.org/10.5066/P9WGJO0S</onlink>
      </citeinfo>
    </citation>
    <descript>
      <abstract>Using version 52.30 of the ADvanced CIRCulation (ADCIRC) numerical model (Luettich and others, 1992), astronomic tides were simulated at Mobile Bay, Alabama (AL), under scenarios of Holocene geomorphic configurations representing the period of 3500 to 2300 years before present including a breach in the Morgan Peninsula and a land bridge at Pass aux Herons, as described in Smith and others (2020). The two-dimensional ADCIRC model can be applied to coastal and estuarine systems to solve for time-dependent hydrodynamic circulation and transport scenarios. For this study, the ADCIRC unstructured finite element mesh domain spans to the 60th meridian west in the Atlantic Ocean and has higher spatial resolution elements (20 - 100 meters (m)) along the northern Gulf of Mexico coast from Louisiana through the Florida Panhandle. The ADCIRC model setup requires the input of topographic and bathymetric elevations at each mesh node. Model inputs in the form of topography and bathymetry and model outputs in the form of water levels and velocities at each mesh node are provided in this data release. For further information regarding model input generation and visualization of model output, refer to Smith and others (2020).</abstract>
      <purpose>These data were generated for the ADCIRC model to examine the effects of Holocene geomorphic configurations on astronomic tides in Mobile Bay, AL. Initial_Elevations_RS_MP.zip is a dataset consisting of Federal Geographic Data Committee (FGDC) metadata and a Network Common Data Form (NetCDF) file containing the following variables: coordinates of the model grid (longitude and latitude) and the initial bathymetric/topographic (z) model elevation values, in meters, for the reference scenario with the Morgan Peninsula breach.</purpose>
    </descript>
    <timeperd>
      <timeinfo>
        <sngdate>
          <caldate>20200513</caldate>
        </sngdate>
      </timeinfo>
      <current>publication date</current>
    </timeperd>
    <status>
      <progress>Complete</progress>
      <update>As needed</update>
    </status>
    <spdom>
      <bounding>
        <westbc>-97.8570</westbc>
        <eastbc>-59.9440</eastbc>
        <northbc>45.8370</northbc>
        <southbc>7.9130</southbc>
      </bounding>
    </spdom>
    <keywords>
      <theme>
        <themekt>USGS Metadata Identifier</themekt>
        <themekey>USGS:77fc6970-cc82-44de-aff7-fe0702a7d0d2</themekey>
      </theme>
      <theme>
        <themekt>None</themekt>
        <themekey>U.S. Geological Survey</themekey>
        <themekey>USGS</themekey>
        <themekey>St. Petersburg Coastal and Marine Science Center</themekey>
        <themekey>SPCMSC</themekey>
        <themekey>morphologic change</themekey>
      </theme>
      <theme>
        <themekt>ISO 19115 Topic Category</themekt>
        <themekey>oceans</themekey>
        <themekey>elevation</themekey>
        <themekey>geoscientificInformation</themekey>
      </theme>
      <theme>
        <themekt>USGS Thesaurus</themekt>
        <themekey>digital elevation models</themekey>
        <themekey>tides (oceanic)</themekey>
        <themekey>estuarine processes</themekey>
        <themekey>coastal processes</themekey>
        <themekey>marine geology</themekey>
        <themekey>geomorphology</themekey>
        <themekey>topography</themekey>
        <themekey>bathymetry</themekey>
      </theme>
      <place>
        <placekt>Geographic Names Information System (GNIS) Content</placekt>
        <placekey>Gulf of Mexico</placekey>
        <placekey>Alabama</placekey>
        <placekey>North America</placekey>
        <placekey>United States</placekey>
        <placekey>Mobile Bay</placekey>
      </place>
    </keywords>
    <accconst>None.</accconst>
    <useconst>Public domain data from the U.S. Government are freely redistributable with proper metadata and source attribution. Please recognize the U.S. Geological Survey as the originator of the dataset.</useconst>
    <ptcontac>
      <cntinfo>
        <cntorgp>
          <cntorg>U.S. Geological Survey, USGS Southeast Region</cntorg>
          <cntper>Davina Passeri</cntper>
        </cntorgp>
        <cntpos>Research Oceanographer</cntpos>
        <cntaddr>
          <addrtype>Mailing</addrtype>
          <address>600 4th Street South</address>
          <city>St. Petersburg</city>
          <state>FL</state>
          <postal>33701</postal>
          <country>US</country>
        </cntaddr>
        <cntvoice>727-502-8014</cntvoice>
        <cntfax>727-502-8001</cntfax>
        <cntemail>dpasseri@usgs.gov</cntemail>
      </cntinfo>
    </ptcontac>
    <datacred>U.S. Geological Survey</datacred>
    <native>Microsoft Windows 7 Enterprise; Aquaveo SMS 12.0; MATLAB R2017a</native>
    <crossref>
      <citeinfo>
        <origin>Luettich, Jr., R.A., Westerink, J.J., and Scheffner, N.W.</origin>
        <pubdate>November 1992</pubdate>
        <title>ADCIRC: An advanced three-dimensional circulation model for shelves, coasts and estuaries, Report I: Theory and methodology of ADCIRC-2DDI and ADCIRC-3DL</title>
        <pubinfo>
          <pubplace>Washington, DC</pubplace>
          <publish>U.S. Army Corps of Engineers</publish>
        </pubinfo>
        <onlink>https://apps.dtic.mil/dtic/tr/fulltext/u2/a261608.pdf</onlink>
      </citeinfo>
    </crossref>
    <crossref>
      <citeinfo>
        <origin>Smith, C.G., Osterman, L.E., Jones, M.C., and Passeri, D.L.</origin>
        <pubdate>20200512</pubdate>
        <title>Using multiple environmental proxies and hydrodynamic modeling to investigate Late Holocene climate and coastal change within a large Gulf of Mexico estuarine system (Mobile Bay, Alabama, USA)</title>
        <serinfo>
          <sername>Marine Geology</sername>
          <issue>Unknown</issue>
        </serinfo>
        <onlink>https://doi.org/10.1016/j.margeo.2020.106218</onlink>
      </citeinfo>
    </crossref>
  </idinfo>
  <dataqual>
    <logic>The initial topographic and bathymetric elevations are supplied at each node of the unstructured finite element model mesh and serve as input for the reference scenario with Morgan Peninsula breach.</logic>
    <complete>These are the complete initial model elevations for the reference scenario with the Morgan Peninsula breach. This dataset is considered complete for the information presented, as described in the abstract section. Users are advised to read the rest of the metadata record carefully for additional details.</complete>
    <posacc>
      <horizpa>
        <horizpar>This dataset contains the initial model geospatial information and topographic/bathymetric elevations for the reference scenario with the Morgan Peninsula breach. Within the ADCIRC model, the coordinates are provided in decimal degrees using the North American Datum of 1983 (NAD83) geographic coordinate system; elevations are provided in meters.</horizpar>
      </horizpa>
      <vertacc>
        <vertaccr>The vertical datum used for the elevation data is the North American Vertical Datum of 1988 (NAVD88) with an estimated resolution of 0.01 m.</vertaccr>
      </vertacc>
    </posacc>
    <lineage>
      <srcinfo>
        <srccite>
          <citeinfo>
            <origin>Passeri, D.L., Hagen, S.C., Plant, N.G., Bilskie, M.V., Medeiros, S.C., and Alizad, K.</origin>
            <pubdate>20160404</pubdate>
            <title>Tidal hydrodynamics under future sea level rise and coastal morphology in the northern Gulf of Mexico</title>
            <serinfo>
              <sername>Earth's Future</sername>
              <issue>Volume 4, Issue 5, pg. 159-176</issue>
            </serinfo>
            <onlink>https://doi.org/10.1002/2015EF000332</onlink>
          </citeinfo>
        </srccite>
        <typesrc>Online digital data</typesrc>
        <srctime>
          <timeinfo>
            <rngdates>
              <begdate>2005</begdate>
              <enddate>2100</enddate>
            </rngdates>
          </timeinfo>
          <srccurr>ground condition</srccurr>
        </srctime>
        <srccitea>EF45 inputs</srccitea>
        <srccontr>Initial model mesh and elevations that were modified to represent the reference scenario with Morgan Peninsula breach.</srccontr>
      </srcinfo>
      <procstep>
        <procdesc>Aquaveo's Surface-water Modeling System (SMS) 12.0 software was used to alter the EF45 inputs of the large-domain hydrodynamic model included in Passeri and others (2016) to represent the reference scenario with the Morgan Peninsula breach, according to the methods described in Smith and others (2020). This dataset, Initial_Elevations_RS_MP.nc provides the initial model elevations for the reference scenario (RS) with the Morgan Peninsula (MP) breach. The initial model elevations were then packaged into a NetCDF file using the functions available in Mathworks MATLAB (R2017a) for inclusion in this data release.</procdesc>
        <procdate>2018</procdate>
        <proccont>
          <cntinfo>
            <cntperp>
              <cntper>Davina Passeri</cntper>
              <cntorg>U.S. Geological Survey</cntorg>
            </cntperp>
            <cntpos>Research Oceanographer</cntpos>
            <cntaddr>
              <addrtype>mailing and physical address</addrtype>
              <address>600 4th Street S</address>
              <city>St. Petersburg</city>
              <state>FL</state>
              <postal>33701</postal>
              <country>USA</country>
            </cntaddr>
            <cntvoice>(727)-502-8014</cntvoice>
            <cntfax>(727)-502-8001</cntfax>
            <cntemail>dpasseri@usgs.gov</cntemail>
          </cntinfo>
        </proccont>
      </procstep>
      <procstep>
        <procdesc>Added keywords section with USGS persistent identifier as theme keyword.</procdesc>
        <procdate>20201013</procdate>
        <proccont>
          <cntinfo>
            <cntorgp>
              <cntorg>U.S. Geological Survey</cntorg>
              <cntper>VeeAnn A. Cross</cntper>
            </cntorgp>
            <cntpos>Marine Geologist</cntpos>
            <cntaddr>
              <addrtype>Mailing and Physical</addrtype>
              <address>384 Woods Hole Road</address>
              <city>Woods Hole</city>
              <state>MA</state>
              <postal>02543-1598</postal>
            </cntaddr>
            <cntvoice>508-548-8700 x2251</cntvoice>
            <cntfax>508-457-2310</cntfax>
            <cntemail>vatnipp@usgs.gov</cntemail>
          </cntinfo>
        </proccont>
      </procstep>
    </lineage>
  </dataqual>
  <spdoinfo>
    <indspref>Gulf of Mexico</indspref>
    <direct>Raster</direct>
    <rastinfo>
      <rasttype>Grid Cell</rasttype>
      <rowcount>4020603</rowcount>
      <colcount>1</colcount>
      <vrtcount>1</vrtcount>
    </rastinfo>
  </spdoinfo>
  <spref>
    <horizsys>
      <geograph>
        <latres>0.0197905613</latres>
        <longres>0.0226048392</longres>
        <geogunit>Decimal degrees</geogunit>
      </geograph>
      <geodetic>
        <horizdn>North American Datum of 1983</horizdn>
        <ellips>Geodectic Reference System 80</ellips>
        <semiaxis>6378137.0</semiaxis>
        <denflat>298.25722210100002</denflat>
      </geodetic>
    </horizsys>
    <vertdef>
      <altsys>
        <altdatum>North American Vertical Datum of 1988</altdatum>
        <altres>0.0001</altres>
        <altunits>meter</altunits>
        <altenc>Attribute values</altenc>
      </altsys>
    </vertdef>
  </spref>
  <eainfo>
    <overview>
      <eaover>The Climate and Forecast (CF)-compliant metadata in the header of the NetCDF file provides spatial information for projecting the data into a GIS. It also provides information about the conventions used for attributes in the dataset.</eaover>
      <eadetcit>The entity and attribute information were generated by the individual and/or agency identified as the originator of the dataset. Please review the rest of the metadata record for additional details and information.</eadetcit>
    </overview>
  </eainfo>
  <distinfo>
    <distrib>
      <cntinfo>
        <cntorgp>
          <cntorg>U.S. Geological Survey, USGS Southeast Region</cntorg>
          <cntper>Davina Passeri</cntper>
        </cntorgp>
        <cntpos>Research Oceanographer</cntpos>
        <cntaddr>
          <addrtype>mailing address</addrtype>
          <address>600 4th Street South</address>
          <city>St. Petersburg</city>
          <state>FL</state>
          <postal>33701</postal>
          <country>US</country>
        </cntaddr>
        <cntvoice>727-502-8014</cntvoice>
        <cntfax>727-502-8001</cntfax>
        <cntemail>dpasseri@usgs.gov</cntemail>
      </cntinfo>
    </distrib>
    <resdesc>Initial_Elevations_RS_MP.nc</resdesc>
    <distliab>This digital publication was prepared by an agency of the United States Government. Although these data have been processed successfully on a computer system at the U.S. Geological Survey, no warranty expressed or implied is made regarding the display or utility of the data on any other system, nor shall the act of distribution imply any such warranty. The U.S. Geological Survey shall not be held liable for improper or incorrect use of the data described and (or) contained herein. Reference herein to any specific commercial product, process, or service by trade name, trademark, manufacturer, or otherwise does not constitute or imply its endorsement, recommendation, or favoring by the United States Government or any agency thereof.</distliab>
    <stdorder>
      <digform>
        <digtinfo>
          <formname>NetCDF</formname>
          <formvern>4.3.3.1</formvern>
          <formcont>Initial_Elevations_RS_MP.nc is a NetCDF file that contains the initial model topographic and bathymetric elevations, in meters, and coordinate information, in decimal degrees, for the reference scenario with the Morgan Peninsula breach.</formcont>
          <filedec>The data download file is compressed and must be unzipped using software such as WinZip, 7zip, Peazip or pkUnzip before use.</filedec>
        </digtinfo>
        <digtopt>
          <onlinopt>
            <computer>
              <networka>
                <networkr>https://coastal.er.usgs.gov/data-release/doi-P9WGJO0S/data/Initial_Elevations_RS_MP.zip</networkr>
              </networka>
            </computer>
          </onlinopt>
        </digtopt>
      </digform>
      <fees>None.</fees>
    </stdorder>
  </distinfo>
  <metainfo>
    <metd>20220103</metd>
    <metc>
      <cntinfo>
        <cntperp>
          <cntper>Davina Passeri</cntper>
          <cntorg>U.S. Geological Survey, USGS Southeast Region</cntorg>
        </cntperp>
        <cntpos>Research Oceanographer</cntpos>
        <cntaddr>
          <addrtype>mailing address</addrtype>
          <address>600 4th Street South</address>
          <city>St. Petersburg</city>
          <state>FL</state>
          <postal>33701</postal>
          <country>US</country>
        </cntaddr>
        <cntvoice>727-502-8014</cntvoice>
        <cntfax>727-502-8001</cntfax>
        <cntemail>dpasseri@usgs.gov</cntemail>
      </cntinfo>
    </metc>
    <metstdn>Content Standard for Digital Geospatial Metadata</metstdn>
    <metstdv>FGDC-STD-001-1998</metstdv>
    <metac>None</metac>
    <metuc>None</metuc>
  </metainfo>
</metadata>
