<?xml version="1.0" encoding="UTF-8"?>
<metadata>
  <idinfo>
    <citation>
      <citeinfo>
        <origin>U.S. Geological Survey</origin>
        <pubdate>2018</pubdate>
        <title>Braddock West orthomosaic from low-altitude aerial imagery from unmanned aerial systems (UAS) flights over of the Lake Ontario shoreline in the vicinity of Braddock Bay, New York in July 2017 (GeoTIFF image).</title>
        <edition>1.0</edition>
        <geoform>raster digital data</geoform>
        <serinfo>
          <sername>data release</sername>
          <issue>DOI:10.5066/F74F1PX3</issue>
        </serinfo>
        <pubinfo>
          <pubplace>Woods Hole Coastal and Marine Science Center, Woods Hole, MA</pubplace>
          <publish>U.S. Geological Survey, Coastal and Marine Geology Program</publish>
        </pubinfo>
        <onlink>https://doi.org/10.5066/F74F1PX3</onlink>
        <onlink>https://www.sciencebase.gov/catalog/item/5a5cb308e4b06e28e9bcd23e</onlink>
        <lworkcit>
          <citeinfo>
            <origin>Christopher R. Sherwood</origin>
            <origin>Sandra M. Brosnahan</origin>
            <origin>Seth D. Ackerman</origin>
            <origin>Jonathan Borden</origin>
            <origin>Ellyn T. Montgomery</origin>
            <origin>Elizabeth A. Pendleton</origin>
            <origin>Emily J. Sturdivant</origin>
            <pubdate>2018</pubdate>
            <title>Aerial imagery and photogrammetric products from unmanned aerial systems (UAS) flights over the Lake Ontario shoreline at Braddock Bay, New York, July 10 to 11, 2017</title>
            <edition>1.0</edition>
            <serinfo>
              <sername>data release</sername>
              <issue>DOI:10.5066/F74F1PX3</issue>
            </serinfo>
            <pubinfo>
              <pubplace>Reston, VA</pubplace>
              <publish>U.S. Geological Survey</publish>
            </pubinfo>
            <othercit>Suggested citation: Sherwood C.R., Brosnahan S.M., Ackerman S.D., Borden Jonathan, Montgomery E.T., Pendleton E.A., and Sturdivant, E.J., 2018, Aerial imagery and photogrammetric products from unmanned aerial systems (UAS) flights over the Lake Ontario shoreline at Braddock Bay, New York, July 10 to 11, 2017: U.S. Geological Survey data release, https://doi.org/10.5066/F74F1PX3.</othercit>
            <onlink>https://doi.org/10.5066/F74F1PX3</onlink>
            <onlink>https://www.sciencebase.gov/catalog/item/5a329336e4b08e6a89d88012</onlink>
          </citeinfo>
        </lworkcit>
      </citeinfo>
    </citation>
    <descript>
      <abstract>Low-altitude (80-100 meters above ground level) digital images were obtained from a camera mounted on a 3DR Solo quadcopter, a small unmanned aerial system (UAS), in three locations along the Lake Ontario shoreline in New York during July 2017. These data were collected to document and monitor effects of high lake levels, including shoreline erosion, inundation, and property damage in the vicinities of Braddock Bay, Sodus Bay, and Chimney Bluffs State Park, New York. This data release includes images tagged with locations determined from the UAS GPS; tables with updated estimates of camera positions and attitudes based on the photogrammetric reconstruction; tables listing locations of the base stations, ground control points, and transect points; geolocated, RGB-colored point clouds; orthomosaic images; and digital elevation models for each of the survey regions. Collection of these data was supported by the Federal Emergency Management Agency, the State of New York Departments of State and Environmental Conservation, and the USGS Coastal and Marine Geology Program and was conducted under USGS field activity number 2017-042-FA.</abstract>
      <purpose>The orthomosaic image provides the optical surface reflectance of the land surface at mid-day low-tide on 10 July, 2017 in the Braddock Bay West study area. It was one of three products created to demonstrate the use of structure-from-motion for coastal research and to provide a means to test land cover classification from high-resolution imagery.</purpose>
      <supplinf>For more information about this field activity, see https://cmgds.marine.usgs.gov/fan_info.php?fan=2017-042-FA. An orthomosaic is distinct from an orthophoto mosaic in that it corrects for camera lens distortion and preserves distances. Thus, an orthomosaic simulates a photo in which every pixel in the scene was captured at nadir.</supplinf>
    </descript>
    <timeperd>
      <timeinfo>
        <sngdate>
          <caldate>20170710</caldate>
        </sngdate>
      </timeinfo>
      <current>ground condition</current>
    </timeperd>
    <status>
      <progress>Complete</progress>
      <update>None planned</update>
    </status>
    <spdom>
      <bounding>
        <westbc>-77.713892</westbc>
        <eastbc>-77.699990</eastbc>
        <northbc>43.312404</northbc>
        <southbc>43.303836</southbc>
      </bounding>
    </spdom>
    <keywords>
      <theme>
        <themekt>USGS Metadata Identifier</themekt>
        <themekey>USGS:5a5cb308e4b06e28e9bcd23e</themekey>
      </theme>
      <theme>
        <themekt>None</themekt>
        <themekey>U.S. Geological Survey</themekey>
        <themekey>USGS</themekey>
        <themekey>Coastal and Marine Geology Program</themekey>
        <themekey>CMGP</themekey>
        <themekey>Woods Hole Coastal and Marine Science Center</themekey>
        <themekey>WHCMSC</themekey>
        <themekey>State of New York Department of State</themekey>
        <themekey>State of New York Department of Environmental Conservation</themekey>
        <themekey>Federal Emergency Management Agency</themekey>
        <themekey>shoreline</themekey>
        <themekey>lake level</themekey>
        <themekey>3DR Solo quadcopter</themekey>
        <themekey>Ricoh GRII</themekey>
        <themekey>low-altitude aerial imagery</themekey>
        <themekey>aerial imagery</themekey>
        <themekey>shoreline photographs</themekey>
        <themekey>photographs</themekey>
        <themekey>photos</themekey>
        <themekey>UAS</themekey>
        <themekey>Unmanned aerial system</themekey>
        <themekey>lakeshore</themekey>
        <themekey>Orthophoto</themekey>
        <themekey>Orthomosaic</themekey>
        <themekey>photo mosaic</themekey>
        <themekey>GeoTIFF</themekey>
        <themekey>raster</themekey>
        <themekey>field activity number 2017-042-FA</themekey>
      </theme>
      <theme>
        <themekt>USGS Thesaurus</themekt>
        <themekey>remote sensing</themekey>
        <themekey>aerial photography</themekey>
        <themekey>image mosaics</themekey>
      </theme>
      <theme>
        <themekt>ISO 19115 Topic Category</themekt>
        <themekey>geoscientificInformation</themekey>
        <themekey>inlandWaters</themekey>
        <themekey>location</themekey>
      </theme>
      <place>
        <placekt>None</placekt>
        <placekey>USA</placekey>
        <placekey>Great Lakes</placekey>
        <placekey>New York</placekey>
        <placekey>Lake Ontario</placekey>
        <placekey>Braddock Bay Wildlife Management Area</placekey>
        <placekey>Braddock Bay</placekey>
        <placekey>Greece, NY</placekey>
        <placekey>Braddock Point</placekey>
        <placekey>Westpoint Marina</placekey>
        <placekey>Braddock Bay Park</placekey>
      </place>
    </keywords>
    <accconst>none</accconst>
    <useconst>Public domain data from the U.S. Government are freely redistributable with proper metadata and source attribution. Please recognize the U.S. Geological Survey as the originator of the dataset.</useconst>
    <ptcontac>
      <cntinfo>
        <cntorgp>
          <cntorg>U.S. Geological Survey</cntorg>
          <cntper>Sandra Brosnahan</cntper>
        </cntorgp>
        <cntpos>Physical Scientist</cntpos>
        <cntaddr>
          <addrtype>mailing and physical address</addrtype>
          <address>384 Woods Hole Road</address>
          <city>Woods Hole</city>
          <state>Massachusetts</state>
          <postal>02543-1598</postal>
        </cntaddr>
        <cntvoice>508-548-8700 x2265</cntvoice>
        <cntfax>508-457-2310</cntfax>
        <cntemail>sbrosnahan@usgs.gov</cntemail>
      </cntinfo>
    </ptcontac>
    <browse>
      <browsen>https://www.sciencebase.gov/catalog/file/get/5a5cb308e4b06e28e9bcd23e/?name=2017042FA_BraddockWest_Orthomosaic_browse.jpg</browsen>
      <browsed>Browse image of a portion of an orthomosaic generated from photogrammetry and low-altitude aerial images obtained with unmanned aerial systems (UAS).</browsed>
      <browset>JPEG</browset>
    </browse>
  </idinfo>
  <dataqual>
    <logic>All data were handled in a consistent manner. Photoscan software determines the photos used in the construction of the products (Point Cloud, DEM and Orthomosaic) based on the ability to align the photo and the usability of valid tie points within an image. A tie point represents a point that the software determine to be common from one photo to the next.  The camera locations CSV file in this data release (https://doi.org/10.5066/F74F1PX3) indicates which photos were used to create the final products. The final point cloud used to construct this dataset was checked for accuracy by rotating the point cloud to view from multiple angles to ensure that obvious spurious points do not cause artifacts in the derivative products (DEM and Orthomosaic).</logic>
    <complete>This orthomosaic was created from the filtered tie-points of the dense point cloud using the Agisoft Photoscan Professional (v. 1.3.2) photogrammetry software.  Through a standardized filtering process, spurious points from the dense point cloud were eliminated and remaining point cloud was used to generate a digital elevation model, which was subsequently used to create this orthomosaic. The completed Photoscan project for Braddock West, from which this orthomosaic was created, used 1091 of the original 1175 images and contained more than 158 million points.  The point cloud and the DEM are available in this data release at https://doi.org/10.5066/F74F1PX3. To minimize the effects of changing environmental factors (e.g. shadows, lighting, etc) on the final products, the BraddockWest photogrammetry project contains only imagery from flights on July 10, 2017.</complete>
    <posacc>
      <horizpa>
        <horizpar>Horizontal positions of individual points for the point cloud, from which this was constructed, were calculated by photogrammetric software and ground control points. There are several sources of potential error that affect the horizontal accuracy:
1. The horizontal error estimate provided by Agisoft Photoscan for the Braddock West project as a result of alignment, optimization, and ground control processing procedures is 1.0 cm.  This value is an RMS estimate of positional error at discrete locations within the orthomosaic.
2. Ground control points were collected using a Spectra model SP80 GNSS receiver set to record XY locations with the national adjustment of 2011 (NAD83(2011) UTM zone 18N EPSG::6347), which differs from the Photoscan project coordinate system (NAD83/UTM zone 18N (EPSG::26918)).  This difference may introduce an average additional 0.9 cm horizontally at the 95% confidence level according to the National Geodetic Survey (https://www.ngs.noaa.gov/web/surveys/NA2011/).
3. Additionally, an assessment of repeated survey sites (transect points) using the same equipment by the USGS Aerial Imagery and Mapping group (AIM) estimates an accuracy of the ground control point locations of 1.76 cm (horizontal) and 0.54 cm (vertical).
The combination of the potential horizontal error is on the order of 3.66 cm for the Braddock West products.  Although some portions of the map may contain much larger errors, up to 2 m horizontally. The horizontal coordinate system for the Braddock West Point Cloud, DEM and Orthomosaic is NAD83/UTM zone 18N (EPSG::26918).
It is also important to note: The UAS image locations are derived from a mRo GPS (u-Blox Neo-M8N / 3DR SOLO Upgrade), located on the UAS, which receives signals from GPS and GLONASS satellites in WGS84 (G1150) EPSG::7660.  This location information is used by the Photoscan software to help with the initial alignment, however after photo alignment, these location data have no bearing on the project or the derivative product. Therefore the positional accuracy and potential errors of the GPS data attached to the input photographs is not propagated to the Photoscan project and therefore does not contribute to the overall horizontal accuracy of the products (Point Cloud, DEM and Orthomosaic).</horizpar>
      </horizpa>
    </posacc>
    <lineage>
      <srcinfo>
        <srccite>
          <citeinfo>
            <origin>U.S. Geological Survey</origin>
            <pubdate>2018</pubdate>
            <title>Geotagged low-altitude aerial imagery from unmanned aerial systems (UAS) flights over of the Lake Ontario shoreline in the vicinity of Braddock Bay, New York, USA in July 2017</title>
            <serinfo>
              <sername>data release</sername>
              <issue>DOI:10.5066/F74F1PX3</issue>
            </serinfo>
            <pubinfo>
              <pubplace>Reston, VA</pubplace>
              <publish>U.S. Geological Survey</publish>
            </pubinfo>
            <onlink>https://doi.org/10.5066/F74F1PX3</onlink>
          </citeinfo>
        </srccite>
        <typesrc>raster digital images</typesrc>
        <srctime>
          <timeinfo>
            <rngdates>
              <begdate>20170710</begdate>
              <enddate>20170711</enddate>
            </rngdates>
          </timeinfo>
          <srccurr>ground condition; images were obtained between 20170710 and 20170711.</srccurr>
        </srctime>
        <srccitea>geotagged aerial digital images</srccitea>
        <srccontr>The digital images are the raw data used to produce subsequent photogrammetric products.</srccontr>
      </srcinfo>
      <srcinfo>
        <srccite>
          <citeinfo>
            <origin>U.S. Geological Survey</origin>
            <pubdate>2018</pubdate>
            <title>Ground control point and transect locations associated with images collected during unmanned aerial systems (UAS) flights over the Lake Ontario shoreline in the vicinity of Braddock Bay, New York, USA in July 2017</title>
            <serinfo>
              <sername>data release</sername>
              <issue>DOI:10.5066/F74F1PX3</issue>
            </serinfo>
            <pubinfo>
              <pubplace>Reston, VA</pubplace>
              <publish>U.S. Geological Survey</publish>
            </pubinfo>
            <onlink>https://doi.org/10.5066/F74F1PX3</onlink>
          </citeinfo>
        </srccite>
        <typesrc>text data files</typesrc>
        <srctime>
          <timeinfo>
            <rngdates>
              <begdate>20170710</begdate>
              <enddate>20170711</enddate>
            </rngdates>
          </timeinfo>
          <srccurr>ground condition; ground control points were obtained between 20170710 and 20170711.</srccurr>
        </srctime>
        <srccitea>text files with ground control point (GCPs)</srccitea>
        <srccontr>The ground control points (GCPs; not transect points -- see metadata for more information) were used to geolocate the photogrammetric products.</srccontr>
      </srcinfo>
      <procstep>
        <procdesc>Orthomosaics for the Lake Ontario projects were constructed using photogrammetry software (Agisoft Photoscan Professional v. 1.3.2) and digital images taken approximately 80 and 100 m above the ground on July 10 - 14, 2017, with a Ricoh GRII digital camera mounted in a 3DR Solo quadcopter operated the U.S. Geological Survey. This orthomosaic is the product from one of several photogrammetry projects from field activity 2017-042-FA. Two projects incorporated flights over Braddock Bay on July 10 and 11, 2017 (Braddock West, Braddock East); four were used for flights in the vicinity of Sodus Bay on July 12, 13, and 14, 2017 (Lake Bluff / Crescent Bar, Crescent Bar / Charles Point, Sodus North, and Greig Street); and one project incorporated flights over Chimney Bluffs on July 14, 2017. The projects combined images with 5 to 27 ground control points to produce geolocated, colored (red-green-blue schema) point clouds. This orthomosaic, for the Braddock West project, was created using a standard processing flow as described in the processing step below.</procdesc>
        <procdate>201709</procdate>
        <proccont>
          <cntinfo>
            <cntorgp>
              <cntorg>U.S. Geological Survey, Woods Hole Coastal and Marine Science Center</cntorg>
              <cntper>Christopher R. Sherwood</cntper>
            </cntorgp>
            <cntpos>Research Oceanographer</cntpos>
            <cntaddr>
              <addrtype>mailing and physical address</addrtype>
              <address>384 Woods Hole Road</address>
              <city>Woods Hole</city>
              <state>Massachusetts</state>
              <postal>02543</postal>
              <country>U.S.A.</country>
            </cntaddr>
            <cntvoice>508-548-8700 x2269</cntvoice>
            <cntfax>508 457 2310</cntfax>
            <cntemail>csherwood@usgs.gov</cntemail>
          </cntinfo>
        </proccont>
      </procstep>
      <procstep>
        <procdesc>The following steps make up the general processing flow for creating orthomosaics from UAS flights:
1. Geotagged images (see source citation) containing useful imagery from the survey area were imported into Agisoft Photoscan Professional v. 1.3.2 software using the “Add photos…” tool. Photos taken before and immediately after takeoff, photos taken immediately prior to and after landing, and photos with 100% water were not loaded into the project.  Project coordinate system is set to EPSG::7660 WGS84 (G1150) geocentric coordinate system.
2. Using ”Convert”, the coordinate system of the images (called “cameras” in Photoscan) was converted from native latitude/longitude WGS84 (G1150) coordinate system to meters in NAD83/UTM zone 18N (EPSG::26918).
3. The photos were processed through an initial alignment and optimization procedure using the following settings:
Alignment - Accuracy: “High”; Pair selection: “Reference”; Key point limit: 80,000; Tie point limit; 0 (unlimited). Adaptive camera model fitting option was selected.
Optimization - Lens-calibration parameters f, cx, cy, k1, k2, k3, p1, and p2 were included; b1, b2, and higher-order parameters k4, p3, and p4 were not.
4. The sparse point cloud (also known as tie points; created as a result of photo alignment and optimization) was edited using an iterative error-reduction procedure to filter the data.  This was done in several iterations of a process called "Gradual Selection" to first to reduce reconstruction uncertainty (to a unitless value of 10) and then projection accuracy (to a weighted value of 3).
5. Ground control points were created by first by letting the software automatically detect markers where it finds all of the 4-ft square black/white targets deployed (false targets that are sometimes detected were manually deleted). The automatically-generated marker labels were manually changed to match the names in the survey notes and GCP location files.
6. "Import markers” was used to load the GCP location file, which assigned coordinates (northing, easting, and elevation in UTM Zone 18 North meters in NAD83 and NAVD88 coordinate systems) from the location file to the detected markers. The locations of auto-detected markers were retained.
7. Another round of "Gradual Selection" was done to reduce the reprojection error (to a value of 0.3 pixels, unless more than 10% of the points would be removed).
8. A dense point cloud was then created with the parameters "High" quality and “Aggressive” depth filtering.
9. A DEM was create with the parameters Source data="Dense Cloud" Interpolation="Enabled" Resolution="0.05"
10. An orthomosaic was create with the parameters Surface="DEM" Blending mode="Mosaic" Pixel size X="0.025" Pixel size Y="0.025"
11. The orthomosaic was exported in GeoTIFF format (2017-07-10_Braddock_West_ORTHO_2pt5cm.tif) along with a world file (tfw), then both were renamed to the AIM Data Release filenaming standard (e.g. 2017042FA_BraddockWest_Orthomosaic.tif).</procdesc>
        <procdate>20170913</procdate>
        <proccont>
          <cntinfo>
            <cntorgp>
              <cntorg>U.S. Geological Survey, Woods Hole Coastal and Marine Science Center</cntorg>
              <cntper>Christopher R. Sherwood</cntper>
            </cntorgp>
            <cntpos>Research Oceanographer</cntpos>
            <cntaddr>
              <addrtype>mailing and physical address</addrtype>
              <address>384 Woods Hole Road</address>
              <city>Woods Hole</city>
              <state>Massachusetts</state>
              <postal>02543</postal>
              <country>U.S.A.</country>
            </cntaddr>
            <cntvoice>508-548-8700 x2269</cntvoice>
            <cntfax>508 457 2310</cntfax>
            <cntemail>csherwood@usgs.gov</cntemail>
          </cntinfo>
        </proccont>
      </procstep>
      <procstep>
        <procdesc>Added keywords section with USGS persistent identifier as theme keyword.</procdesc>
        <procdate>20200807</procdate>
        <proccont>
          <cntinfo>
            <cntorgp>
              <cntorg>U.S. Geological Survey</cntorg>
              <cntper>VeeAnn A. Cross</cntper>
            </cntorgp>
            <cntpos>Marine Geologist</cntpos>
            <cntaddr>
              <addrtype>Mailing and Physical</addrtype>
              <address>384 Woods Hole Road</address>
              <city>Woods Hole</city>
              <state>MA</state>
              <postal>02543-1598</postal>
            </cntaddr>
            <cntvoice>508-548-8700 x2251</cntvoice>
            <cntfax>508-457-2310</cntfax>
            <cntemail>vatnipp@usgs.gov</cntemail>
          </cntinfo>
        </proccont>
      </procstep>
    </lineage>
  </dataqual>
  <spdoinfo>
    <direct>Raster</direct>
    <rastinfo>
      <rasttype>Pixel</rasttype>
      <rowcount>36680</rowcount>
      <colcount>43960</colcount>
    </rastinfo>
  </spdoinfo>
  <spref>
    <horizsys>
      <planar>
        <mapproj>
          <mapprojn>Universal Transverse Mercator</mapprojn>
          <transmer>
            <sfctrmer>0.999600</sfctrmer>
            <longcm>-75.00000</longcm>
            <latprjo>0.000</latprjo>
            <feast>500000.0000</feast>
            <fnorth>0.0000</fnorth>
          </transmer>
        </mapproj>
        <planci>
          <plance>coordinate pair</plance>
          <coordrep>
            <absres>0.025</absres>
            <ordres>0.025</ordres>
          </coordrep>
          <plandu>meters</plandu>
        </planci>
      </planar>
      <geodetic>
        <horizdn>North American Datum of 1983</horizdn>
        <ellips>Geodetic Reference System 80</ellips>
        <semiaxis>6378137.000000</semiaxis>
        <denflat>298.257222101</denflat>
      </geodetic>
    </horizsys>
  </spref>
  <eainfo>
    <overview>
      <eaover>There are no attributes associated with this GeoTIFF. This is a 4-band (each is 8-bits) orthomosaic in GeoTIFF format. Band1=RedBand, Band2=GreenBand, Band3=BlueBand, Band4=transparency</eaover>
      <eadetcit>U.S. Geological Survey</eadetcit>
    </overview>
  </eainfo>
  <distinfo>
    <distrib>
      <cntinfo>
        <cntorgp>
          <cntorg>U.S. Geological Survey - ScienceBase</cntorg>
        </cntorgp>
        <cntaddr>
          <addrtype>mailing and physical address</addrtype>
          <address>Denver Federal Center, Building 810, Mail Stop 302</address>
          <city>Denver</city>
          <state>CO</state>
          <postal>80225</postal>
        </cntaddr>
