<?xml version='1.0' encoding='UTF-8'?>
<metadata>
  <idinfo>
    <citation>
      <citeinfo>
        <origin>Bradford Butman</origin>
        <origin>Page C. Valentine</origin>
        <origin>William W. Danforth</origin>
        <pubdate>2007</pubdate>
        <title>10-m resolution gray-scale image of multibeam bathymetry in Massachusetts Bay (MB_BATHYGS10M.TIF)</title>
        <edition>1.0</edition>
        <geoform>remote-sensing image</geoform>
        <serinfo>
          <sername>Data Series</sername>
          <issue>99</issue>
        </serinfo>
        <pubinfo>
          <pubplace>Woods Hole Coastal and Marine Science Center, Woods Hole, MA</pubplace>
          <publish>U.S. Geological Survey, Coastal and Marine Geology Program</publish>
        </pubinfo>
        <onlink>https://doi.org/10.3133/ds99</onlink>
        <onlink>http://pubs.usgs.gov/ds/99/massbay_gis/2_multibeam/imagery/mb_bathygs10m.zip</onlink>
        <onlink>http://pubs.usgs.gov/ds/99/webpages/massbay.html</onlink>
        <lworkcit>
          <citeinfo>
            <origin>Butman, Bradford</origin>
            <origin>Valentine, Page C.</origin>
            <origin>Middleton, Tammie J.</origin>
            <origin>Danforth, William W.</origin>
            <pubdate>2007</pubdate>
            <title>A GIS Library of Multibeam Data for Massachusetts Bay and the Stellwagen Bank National Marine Sanctuary, Offshore of Boston, Massachusetts</title>
            <edition>1.0</edition>
            <serinfo>
              <sername>Data Series</sername>
              <issue>99</issue>
            </serinfo>
            <pubinfo>
              <pubplace>Reston, VA</pubplace>
              <publish>U.S. Geological Survey</publish>
            </pubinfo>
            <onlink>http://pubs.usgs.gov/ds/99/</onlink>
          </citeinfo>
        </lworkcit>
      </citeinfo>
    </citation>
    <descript>
      <abstract>The U.S. Geological Survey has conducted geologic mapping to characterize the sea floor offshore of Massachusetts.  The mapping was carried out using a Simrad Subsea EM 1000 Multibeam Echo Sounder on the Frederick G. Creed on four cruises conducted between 1994 and 1998.  The mapping was conducted in cooperation with the National Oceanic and Atmospheric Administration (NOAA) and with support from the Canadian Hydrographic Service and the University of New Brunswick. 
The long-term goal of this mapping effort is to produce high-resolution geologic maps and a Geographic Information System (GIS) project that presents images and grids of bathymetry, shaded relief bathymetry, and backscatter intensity data from these surveys that will serve the needs of research, management and the public.</abstract>
      <purpose>This GeoTIFF (Tagged Image File Format) image shows multibeam bathymetry in Massachusetts Bay as grayscale at 10-m resolution.  Range is -200 m (0, black) to 0 m (255, white).</purpose>
    </descript>
    <timeperd>
      <timeinfo>
        <rngdates>
          <begdate>1994</begdate>
          <enddate>1998</enddate>
        </rngdates>
      </timeinfo>
      <current>ground condition</current>
    </timeperd>
    <status>
      <progress>Complete</progress>
      <update>None planned</update>
    </status>
    <spdom>
      <bounding>
        <westbc>-70.788907</westbc>
        <eastbc>-70.599983</eastbc>
        <northbc>42.322212</northbc>
        <southbc>42.203333</southbc>
      </bounding>
    </spdom>
    <keywords>
      <theme>
        <themekt>USGS Metadata Identifier</themekt>
        <themekey>USGS:d6263276-03ba-4be0-a8d2-00d225e91a0f</themekey>
      </theme>
      <theme>
        <themekt>None</themekt>
        <themekey>bathymetry</themekey>
        <themekey>gray-scale bathymetry</themekey>
        <themekey>multibeam</themekey>
        <themekey>image</themekey>
        <themekey>GeoTIFF</themekey>
        <themekey>10-m resolution</themekey>
        <themekey>sea floor</themekey>
        <themekey>sea floor mapping</themekey>
        <themekey>USGS Map I-2734</themekey>
        <themekey>Simrad</themekey>
        <themekey>EM 1000</themekey>
        <themekey>Frederick G. Creed</themekey>
        <themekey>Woods Hole Science Center</themekey>
        <themekey>WHSC</themekey>
        <themekey>Coastal and Marine Geology Program</themekey>
        <themekey>CMGP</themekey>
        <themekey>U.S. Geological Survey</themekey>
        <themekey>USGS</themekey>
      </theme>
      <theme>
        <themekt>ISO 19115 Topic Category</themekt>
        <themekey>oceans</themekey>
        <themekey>elevation</themekey>
        <themekey>imageryBaseMapsEarthCover</themekey>
      </theme>
      <theme>
        <themekt>USGS Thesaurus</themekt>
        <themekey>sea-floor characteristics</themekey>
        <themekey>marine geophysics</themekey>
        <themekey>geospatial datasets</themekey>
        <themekey>multibeam sonar</themekey>
      </theme>
      <place>
        <placekt>None</placekt>
        <placekey>Massachusetts</placekey>
        <placekey>Massachusetts Bay</placekey>
        <placekey>Boston</placekey>
        <placekey>Gloucester</placekey>
        <placekey>Stellwagen Basin</placekey>
        <placekey>Stellwagen Bank</placekey>
        <placekey>Stellwagen Bank National Marine Sanctuary</placekey>
        <placekey>SBNMS</placekey>
        <placekey>Jeffreys Ledge</placekey>
        <placekey>MWRA ocean outfall</placekey>
        <placekey>MWRA</placekey>
        <placekey>Massachusetts Bay Disposal Site</placekey>
        <placekey>MBDS</placekey>
        <placekey>Tillies Bank</placekey>
        <placekey>Race Point Channel</placekey>
        <placekey>Gulf of Maine</placekey>
        <placekey>United States</placekey>
        <placekey>North Atlantic Ocean</placekey>
      </place>
    </keywords>
    <accconst>None</accconst>
    <useconst>Public domain data from the U.S. Government are freely redistributable with proper metadata and source attribution.  Please recognize the U.S. Geological Survey (USGS) as the source of this information.</useconst>
    <ptcontac>
      <cntinfo>
        <cntorgp>
          <cntorg>U.S. Geological Survey</cntorg>
          <cntper>Bradford Butman</cntper>
        </cntorgp>
        <cntpos>Oceanographer</cntpos>
        <cntaddr>
          <addrtype>mailing and physical address</addrtype>
          <address>384 Woods Hole Rd</address>
          <city>Woods Hole</city>
          <state>MA</state>
          <postal>02543-1598</postal>
          <country>USA</country>
        </cntaddr>
        <cntvoice>(508) 548-8700 x2212</cntvoice>
        <cntfax>(508) 457-2309</cntfax>
        <cntemail>bbutman@usgs.gov</cntemail>
        <hours>8 a.m. - 5 p.m.</hours>
      </cntinfo>
    </ptcontac>
    <native>Microsoft Windows XP Version 5.1 (Build 2600) Service Pack 2; ESRI ArcCatalog 9.1.0.780</native>
  </idinfo>
  <dataqual>
    <attracc>
      <attraccr>There are no attributes associated with a GeoTIFF image.</attraccr>
    </attracc>
    <logic>Information unavailable from original metadata.</logic>
    <complete>These data are complete. No further processing and/or modifications will be made to these data.</complete>
    <posacc>
      <horizpa>
        <horizpar>These data were navigated with a Differential Global Positioning System (DGPS); they are accurate to +/- 3 meters, horizontally.</horizpar>
      </horizpa>
      <vertacc>
        <vertaccr>These data have been corrected for vessel motion (roll, pitch, heave, yaw) and tidal offsets, and referenced to mean lower low water.  The theoretical vertical resolution of the Simrad EM-1000 multibeam echosounder is 1 % of water depth; roughly 30 - 50 cm within the study area.</vertaccr>
      </vertacc>
    </posacc>
    <lineage>
      <srcinfo>
        <srccite>
          <citeinfo>
            <origin>U.S. Gelogical Survey</origin>
            <pubdate>Unpublished Material</pubdate>
            <title>Multibeam bathymetric survey data collected by USGS in Massachusetts Bay, 1994-1998</title>
          </citeinfo>
        </srccite>
        <typesrc>Information unavailable from original metadata.</typesrc>
        <srctime>
          <timeinfo>
            <rngdates>
              <begdate>1994</begdate>
              <enddate>1998</enddate>
            </rngdates>
          </timeinfo>
          <srccurr>ground condition</srccurr>
        </srctime>
        <srccitea>Information unavailable from original metadata.</srccitea>
        <srccontr>Information unavailable from original metadata.</srccontr>
      </srcinfo>
      <procstep>
        <procdesc>A suite of processing software (called SwathEd) (www.omg.unb.ca/~jhc/SwathEd.html), developed by the Ocean Mapping Group at the University of New Brunswick, Canada, was used to process and grid the multibeam bathymetric soundings and produce shaded-relief images.  The metadata for the grids describes the processing steps applied to the navigation and bathymetric soundings.  The following processing steps produced the grayscale image of depth values: 
1. Anomalous soundings which were not edited in the field were removed using SwathEd (see metadata for bathymetric grids for description).
2.  Create a grayscale image from the binary swathed grids that depicts the depth range.  For this we used a low value of -200 (black) and a high value of 0 (white):
Command line:  r4to8bit -low -200 -high 0 gridFile.r4 gridFile.8bit
3.  Create a tiff from the grayscale depth image using the netpbm utilities (http://netpbm.sourceforge.net/):
Command line:  rawtopgm -headerskip 1024 image_width image_height gridFile.8bit | pnmtotiff -none - &gt; grayscaleDepths.tif
4.  Create an ESRI world file (tfw) for the mosaic tiff image for import to ArcView or ArcGIS. Copy bounding box and resolution from the jview program output to the .tfw file.
Command line:  jview gridFile.8bit</procdesc>
        <procdate>Unknown</procdate>
        <proccont>
          <cntinfo>
            <cntorgp>
              <cntorg>U.S. Geological Survey</cntorg>
              <cntper>Tammie J. Middleton</cntper>
            </cntorgp>
            <cntaddr>
              <addrtype>mailing and physical address</addrtype>
              <address>384 Woods Hole Road</address>
              <city>Woods Hole</city>
              <state>MA</state>
              <postal>02543-1598</postal>
              <country>USA</country>
            </cntaddr>
            <cntvoice>(508) 548-8700</cntvoice>
            <cntfax>(508) 457-2310</cntfax>
          </cntinfo>
        </proccont>
      </procstep>
      <procstep>
        <procdesc>Reprocessing to correct projection error
An error in the UNB processing software that resulted in the multibeam observations not being properly projected onto a plane was discovered in 2003.  These software errors were corrected and the data re-gridded.  The images of backscatter intensity in the Stellwagen Bank region presented here may differ from preliminary versions included in the following publications:
Butman, B., and Lindsay, J.A. (Eds.), 1999, A marine GIS Library for Massachusetts Bay: focusing on Disposal sites, Contaminated Sediments, and Sea Floor Mapping: U.S. Geological Survey Open-File Report 99-439, 1 CD-ROM. (Also available on line at http://pubs.usgs.gov/of/of99-439/start.htm)
Gutierrez, B.T., Butman, Bradford, and Blackwood, D.S., 2001, Photographs of the sea floor of western Massachusetts Bay, offshore of Boston, Massachusetts, July 1999: U.S. Geological Survey Open-File Report 00-427, 1 CD-ROM. (Also available on line at http://pubs.usgs.gov/of/of00-427/)
Valentine, P.C., Middleton, T., and Fuller, S., 2001, Maps showing sea floor topography, sun-illuminated sea floor topography, and backscatter intensity of the Stellwagen Bank National Marine Sanctuary region off Boston, Massachusetts: USGS Open-File Report #00-410, 1 CD-ROM, scale 1:60,000. (Also available on line at http://pubs.usgs.gov/of/of00-410/)</procdesc>
        <procdate>Unknown</procdate>
        <proccont>
          <cntinfo>
            <cntperp>
              <cntper>William Danforth</cntper>
              <cntorg>U.S. Geological Survey</cntorg>
            </cntperp>
            <cntpos>Operational Geologist</cntpos>
            <cntaddr>
              <addrtype>mailing and physical address</addrtype>
              <address>384 Woods Hole Road</address>
              <city>Woods Hole</city>
              <state>MA</state>
              <postal>02543-1598</postal>
              <country>USA</country>
            </cntaddr>
            <cntvoice>(508) 548-8700 x2274</cntvoice>
            <cntfax>(508) 457-2310</cntfax>
            <cntemail>bdanforth@usgs.gov</cntemail>
          </cntinfo>
        </proccont>
      </procstep>
      <procstep>
        <procdesc>Image shifted 1/2 grid cell to northwest (using the ArcMap/Data Management Tools/Projections and Transformations/Raster/Shift tool) to correct for an error identified in the SwathEd gridding algorithm in 2007.  Correct world file.</procdesc>
        <procdate>200702</procdate>
        <srcprod>mb_bathygs10m.tif</srcprod>
        <srcprod>mb_bathygs10m.tfw</srcprod>
        <proccont>
          <cntinfo>
            <cntperp>
              <cntper>William Danforth</cntper>
              <cntorg>U.S. Geological Survey</cntorg>
            </cntperp>
            <cntpos>Operational Geologist</cntpos>
            <cntaddr>
              <addrtype>mailing and physical address</addrtype>
              <address>384 Woods Hole Road</address>
              <city>Woods Hole</city>
              <state>MA</state>
              <postal>02543-1598</postal>
              <country>USA</country>
            </cntaddr>
            <cntvoice>(508) 548-8700 x2274</cntvoice>
            <cntfax>(508) 457-2310</cntfax>
            <cntemail>bdanforth@usgs.gov</cntemail>
          </cntinfo>
        </proccont>
      </procstep>
      <procstep>
        <procdesc>Edits to the metadata were made to fix any errors that MP v 2.9.30 flagged. This is necessary to enable the metadata to be successfully harvested for various data catalogs. In some cases, this meant adding text "Information unavailable" or "Information unavailable from original metadata" for those required fields that were left blank. Other minor edits were probably performed (title, publisher, publication place, etc.). The source information was incomplete and had to be modified to meet the standard. The metadata date (but not the metadata creator) was edited to reflect the date of these changes. The metadata available from a harvester may supersede metadata bundled within a download file. Compare the metadata dates to determine which metadata file is most recent.</procdesc>
        <procdate>20151118</procdate>
        <proccont>
          <cntinfo>
            <cntorgp>
              <cntorg>U.S. Geological Survey</cntorg>
              <cntper>VeeAnn A. Cross</cntper>
            </cntorgp>
            <cntpos>Marine Geologist</cntpos>
            <cntaddr>
              <addrtype>mailing and physical address</addrtype>
              <address>384 Woods Hole Rd.</address>
              <city>Woods Hole</city>
              <state>MA</state>
              <postal>02543</postal>
            </cntaddr>
            <cntvoice>508-548-8700 x2251</cntvoice>
            <cntfax>508-457-2310</cntfax>
            <cntemail>vatnipp@usgs.gov</cntemail>
          </cntinfo>
        </proccont>
      </procstep>
      <procstep>
        <procdesc>USGS Thesaurus keywords added to the keyword section.</procdesc>
        <procdate>20180720</procdate>
        <proccont>
          <cntinfo>
            <cntorgp>
              <cntorg>U.S. Geological Survey</cntorg>
              <cntper>VeeAnn A. Cross</cntper>
            </cntorgp>
            <cntpos>Marine Geologist</cntpos>
            <cntaddr>
              <addrtype>Mailing and Physical</addrtype>
              <address>384 Woods Hole Road</address>
              <city>Woods Hole</city>
              <state>MA</state>
              <postal>02543-1598</postal>
            </cntaddr>
            <cntvoice>508-548-8700 x2251</cntvoice>
            <cntfax>508-457-2310</cntfax>
            <cntemail>vatnipp@usgs.gov</cntemail>
          </cntinfo>
        </proccont>
      </procstep>
      <procstep>
        <procdesc>Crossref DOI link was added as the first link in the metadata.</procdesc>
        <procdate>20191115</procdate>
        <proccont>
          <cntinfo>
            <cntorgp>
              <cntorg>U.S. Geological Survey</cntorg>
              <cntper>VeeAnn A. Cross</cntper>
            </cntorgp>
            <cntpos>Marine Geologist</cntpos>
            <cntaddr>
              <addrtype>Mailing and Physical</addrtype>
              <address>384 Woods Hole Road</address>
              <city>Woods Hole</city>
              <state>MA</state>
              <postal>02543-1598</postal>
            </cntaddr>
            <cntvoice>508-548-8700 x2251</cntvoice>
            <cntfax>508-457-2310</cntfax>
            <cntemail>vatnipp@usgs.gov</cntemail>
          </cntinfo>
        </proccont>
      </procstep>
      <procstep>
        <procdesc>Added keywords section with USGS persistent identifier as theme keyword.</procdesc>
        <procdate>20200908</procdate>
        <proccont>
          <cntinfo>
            <cntorgp>
              <cntorg>U.S. Geological Survey</cntorg>
              <cntper>VeeAnn A. Cross</cntper>
            </cntorgp>
            <cntpos>Marine Geologist</cntpos>
            <cntaddr>
              <addrtype>Mailing and Physical</addrtype>
              <address>384 Woods Hole Road</address>
              <city>Woods Hole</city>
              <state>MA</state>
              <postal>02543-1598</postal>
            </cntaddr>
            <cntvoice>508-548-8700 x2251</cntvoice>
            <cntfax>508-457-2310</cntfax>
            <cntemail>vatnipp@usgs.gov</cntemail>
          </cntinfo>
        </proccont>
      </procstep>
    </lineage>
  </dataqual>
  <spdoinfo>
    <direct>Raster</direct>
    <rastinfo>
      <rasttype>Pixel</rasttype>
      <rowcount>8060</rowcount>
      <colcount>7220</colcount>
      <vrtcount>1</vrtcount>
    </rastinfo>
  </spdoinfo>
  <spref>
    <horizsys>
      <planar>
        <mapproj>
          <mapprojn>Mercator</mapprojn>
          <mercator>
            <stdparll>41.650000</stdparll>
            <longcm>-70.316667</longcm>
            <feast>0.000000</feast>
            <fnorth>0.000000</fnorth>
          </mercator>
        </mapproj>
        <planci>
          <plance>row and column</plance>
          <coordrep>
            <absres>10.000000</absres>
            <ordres>10.000000</ordres>
          </coordrep>
          <plandu>meters</plandu>
        </planci>
      </planar>
      <geodetic>
        <horizdn>North American Datum of 1983</horizdn>
        <ellips>Geodetic Reference System 80</ellips>
        <semiaxis>6378137.000000</semiaxis>
        <denflat>298.257222</denflat>
      </geodetic>
    </horizsys>
  </spref>
  <eainfo>
    <detailed>
      <enttyp>
        <enttypl>Band_1</enttypl>
        <enttypd>Information unavailable from original metadata.</enttypd>
        <enttypds>Information unavailable from original metadata.</enttypds>
      </enttyp>
      <attr>
        <attrlabl>ObjectID</attrlabl>
        <attrdef>Internal feature number.</attrdef>
        <attrdefs>ESRI</attrdefs>
        <attrdomv>
          <udom>Sequential unique whole numbers that are automatically generated.</udom>
        </attrdomv>
      </attr>
    </detailed>
  </eainfo>
  <distinfo>
    <distrib>
      <cntinfo>
        <cntperp>
          <cntper>Bradford Butman</cntper>
          <cntorg>U.S. Geological Survey</cntorg>
        </cntperp>
        <cntpos>Oceanographer</cntpos>
        <cntaddr>
          <addrtype>mailing and physical address</addrtype>
          <address>384 Woods Hole Road</address>
          <city>Woods Hole</city>
          <state>Massachusetts</state>
          <postal>02543-1598</postal>
          <country>USA</country>
        </cntaddr>
        <cntvoice>(508) 548-8700 x2212</cntvoice>
        <cntfax>(508) 457-2309</cntfax>
        <cntemail>bbutman@usgs.gov</cntemail>
        <hours>8 a.m. to 5 p.m. EST</hours>
      </cntinfo>
    </distrib>
    <resdesc>Downloadable Data</resdesc>
    <distliab>Although these data have been used by the U.S. Geological Survey (USGS), U.S. Department of the Interior (DOI), no warranty expressed or implied is made by the U.S. Geological Survey as to the accuracy of the data. The act of distribution shall not constitute any such warranty, and no responsibility is assumed by the USGS in the use of these data or related materials.
Any use of trade, product, or firm names is for descriptive purposes only and does not imply endorsement by the U.S. Government.</distliab>
    <stdorder>
      <digform>
        <digtinfo>
          <formname>TIFF</formname>
          <formvern>Information unavailable from original metadata.</formvern>
          <formspec>GeoTIFF</formspec>
          <formcont>A zip archive containing the GeoTIFF image, associated world file, and metadata.</formcont>
          <filedec>zip archive</filedec>
          <transize>6.56</transize>
        </digtinfo>
        <digtopt>
          <onlinopt>
            <computer>
              <networka>
                <networkr>http://pubs.usgs.gov/ds/99/massbay_gis/2_multibeam/imagery/mb_bathygs10m.zip</networkr>
              </networka>
            </computer>
            <accinstr>Data may be downloaded via the World Wide Web.</accinstr>
          </onlinopt>
          <offoptn>
            <offmedia>DVD-ROM</offmedia>
            <reccap>
              <recden>4.75</recden>
              <recdenu>Gbytes</recdenu>
            </reccap>
            <recfmt>UDF</recfmt>
          </offoptn>
        </digtopt>
      </digform>
      <fees>None</fees>
    </stdorder>
    <techpreq>This image is available as a GeoTIFF image with an accompanying world file. To utilize this data, the user must have an image viewer, image processing or GIS software package capable of importing a GeoTIFF image.</techpreq>
  </distinfo>
  <distinfo>
    <distrib>
      <cntinfo>
        <cntorgp>
          <cntorg>U.S. Geological Survey Information Services</cntorg>
        </cntorgp>
        <cntaddr>
          <addrtype>mailing address</addrtype>
          <address>Box 25286 Denver Federal Center</address>
          <city>Denver</city>
          <state>Colorado</state>
          <postal>80225-0046</postal>
          <country>USA</country>
        </cntaddr>
        <cntvoice>(303) 202-4700</cntvoice>
        <cntfax>(303) 202-4188</cntfax>
        <hours>8 a.m. to 5 p.m. Mountain Time</hours>
      </cntinfo>
    </distrib>
    <resdesc>Downloadable Data</resdesc>
    <distliab>Although these data have been used by the U.S. Geological Survey (USGS), U.S. Department of the Interior (DOI), no warranty expressed or implied is made by the U.S. Geological Survey as to the accuracy of the data. The act of distribution shall not constitute any such warranty, and no responsibility is assumed by the USGS in the use of these data or related materials.
Any use of trade, product, or firm names is for descriptive purposes only and does not imply endorsement by the U.S. Government.</distliab>
    <stdorder>
      <digform>
        <digtinfo>
          <formname>TIFF</formname>
          <formvern>Information unavailable from original metadata.</formvern>
          <formspec>GeoTIFF</formspec>
          <formcont>A zip archive containing the GeoTIFF image, associated world file, and metadata.</formcont>
          <filedec>zip archive</filedec>
          <transize>6.56</transize>
        </digtinfo>
        <digtopt>
          <offoptn>
            <offmedia>DVD-ROM</offmedia>
            <reccap>
              <recden>4.75</recden>
