<?xml version="1.0" encoding="UTF-8"?>
<metadata>
  <idinfo>
    <citation>
      <citeinfo>
        <origin>U.S. Geological Survey</origin>
        <pubdate>2021</pubdate>
        <title>Orthomosaic representing Marconi Beach, Wellfleet from images acquired during field activity 2021-022-FA on March 17, 2021</title>
        <edition>1.0</edition>
        <geoform>raster digital data</geoform>
        <serinfo>
          <sername>data release</sername>
          <issue>DOI:10.5066/P9POZ9VH</issue>
        </serinfo>
        <pubinfo>
          <pubplace>Woods Hole Coastal and Marine Science Center, Woods Hole, MA</pubplace>
          <publish>U.S. Geological Survey, Coastal and Marine Hazards and Resources Program</publish>
        </pubinfo>
        <onlink>https://doi.org/10.5066/P9POZ9VH</onlink>
        <onlink>https://cmgds.marine.usgs.gov/data/field-activity-data/2021-022-FA/</onlink>
        <lworkcit>
          <citeinfo>
            <origin>J. Over</origin>
            <origin>C. Sherwood</origin>
            <origin>P. Traykovski</origin>
            <origin>E. Marsjanik</origin>
            <pubdate>2021</pubdate>
            <title>Topographic and bathymetric data, sediment samples, structure from motion imagery, and reference mark data collected at Marconi Beach, Wellfleet in Winter and Spring 2021, U.S Geological Survey Field Activity 2021-022-FA.</title>
            <edition>1.0</edition>
            <geoform>raster digital files</geoform>
            <serinfo>
              <sername>data release</sername>
              <issue>DOI:10.5066/P9KSG1RQ</issue>
            </serinfo>
            <pubinfo>
              <pubplace>Reston, VA</pubplace>
              <publish>U.S. Geological Survey</publish>
            </pubinfo>
            <othercit>Over, J.R., Sherwood, C.R., Traykovski, P., and Marsjanik, E., 2021, Topographic and bathymetric data, sediment samples, structure from motion imagery, and reference mark data collected at Marconi Beach, Wellfleet in winter 2021, U.S Geological Survey Field Activity 2021-022-FA: U.S Geological Survey data release, https://doi.org/10.5066/P9POZ9VH.</othercit>
            <onlink>https://doi.org/10.5066/P9POZ9VH</onlink>
          </citeinfo>
        </lworkcit>
      </citeinfo>
    </citation>
    <descript>
      <abstract>The data in this publication map the beach and nearshore environment at Marconi Beach in Wellfleet, MA and provide regional context for the 2021 CoastCam installation that looks out at the coast shared by beachgoers, shorebirds, seals, and sharks. These data were collected as part of field activity 2021-022-FA and a collaboration with the National Park Service at Cape Cod National Seashore to monitor the region that falls within the field of view of CoastCam CACO-02, which are two video cameras aimed at the beach. Starting in February and ending in March 2021, U.S Geological Survey and Woods Hole Oceanographic Institute (WHOI) scientists conducted field surveys to collect position and orientation information for the CoastCam cameras and map the field of view. Two new reference marks were established in the Marconi Beach parking area to establish ground control for future surveys. Elevation data were collected using a real time kinematic – satellite navigation system (RTK-GNSS) receiver attached to a pole and walked on the beach. Point data of the beach face were collected along transects. Grain-size analysis was performed on sediment samples collected with a spade along multiple profiles from the bluff base to the intertidal zone. Aerial images of the beach for use in Structure-from-Motion were taken with a camera (Ricoh GRII) and a post-processed kinematic (PPK) system attached to a helium powered balloon-kite (Helikite) and high-precision GPS targets (AeroPoints) were used as ground control points. Bathymetry was collected in the nearshore using a single-beam echosounder mounted on a surf capable self-righting electric autonomous survey vehicle. Agisoft Metashape (v. 1.7.2) was used to create a digital elevation model with the collected imagery and this was merged with the bathymetry in MATLAB (v. 2020) to create a continuous topobathy product.</abstract>
      <purpose>Product can be used for visual inspection of beach features.</purpose>
      <supplinf>This orthomosaic, as constructed using structure-from-motion from the images in the 2021022FA_Marconi_f1.zip file, represents 0.1778 square kilometers of Marconi Beach in view of the CoastCam cameras on March 17, 2021. The GeoTIFF is not cloud optimized. For more information about the WHCMSC Field Activity, see https://cmgds.marine.usgs.gov/fan_info.php?fan=2021-022-FA.</supplinf>
    </descript>
    <timeperd>
      <timeinfo>
        <sngdate>
          <caldate>20210317</caldate>
        </sngdate>
      </timeinfo>
      <current>ground condition; represents the state of the beach on March 17, 2021</current>
    </timeperd>
    <status>
      <progress>Complete</progress>
      <update>Not planned</update>
    </status>
    <spdom>
      <bounding>
        <westbc>-69.96519761</westbc>
        <eastbc>-69.96170192</eastbc>
        <northbc>41.89748133</northbc>
        <southbc>41.89094392</southbc>
      </bounding>
    </spdom>
    <keywords>
      <theme>
        <themekt>USGS Metadata Identifier</themekt>
        <themekey>USGS:1f70b595-baea-4ef0-8882-e91457d70bd2</themekey>
      </theme>
      <theme>
        <themekt>None</themekt>
        <themekey>U.S. Geological Survey</themekey>
        <themekey>USGS</themekey>
        <themekey>Coastal and Marine Hazards and Resources Program</themekey>
        <themekey>CMHRP</themekey>
        <themekey>Woods Hole Coastal and Marine Science Center</themekey>
        <themekey>WHCMSC</themekey>
      </theme>
      <theme>
        <themekt>USGS Thesaurus</themekt>
        <themekey>remote sensing</themekey>
        <themekey>structure from motion</themekey>
        <themekey>datasets</themekey>
        <themekey>aerial photography</themekey>
        <themekey>coastal processes</themekey>
        <themekey>geomorphology</themekey>
      </theme>
      <theme>
        <themekt>ISO 19115 Topic Category</themekt>
        <themekey>geoscientificInformation</themekey>
        <themekey>imagerybaseMapsEarthCover</themekey>
      </theme>
      <place>
        <placekt>Common geographic areas</placekt>
        <placekey>United States</placekey>
        <placekey>Wellfleet</placekey>
        <placekey>Massachusetts</placekey>
        <placekey>Cape Cod</placekey>
      </place>
    </keywords>
    <accconst>None</accconst>
    <useconst>Public domain data from the U.S. Government are freely redistributable with proper metadata and source attribution. Although these data have been processed successfully on a computer system at the U.S. Geological Survey (USGS), no warranty expressed or implied is made regarding the display or utility of the data for other purposes, nor on all computer systems, nor shall the act of distribution constitute any such warranty. The USGS or the U.S. Government shall not be held liable for improper or incorrect use of the data described and/or contained herein. Not for navigational use. Please recognize the U.S. Geological Survey (USGS) as the source of this information.</useconst>
    <ptcontac>
      <cntinfo>
        <cntperp>
          <cntper>Jin-Si Over</cntper>
          <cntorg>U.S. Geological Survey</cntorg>
        </cntperp>
        <cntaddr>
          <addrtype>mailing and physical address</addrtype>
          <address>U.S. Geological Survey</address>
          <city>Woods Hole</city>
          <state>MA</state>
          <postal>02543-1598</postal>
        </cntaddr>
        <cntvoice>508-548-8700 x2269</cntvoice>
        <cntemail>jover@usgs.gov</cntemail>
      </cntinfo>
    </ptcontac>
    <browse>
      <browsen>2021022FA_Marconi_ortho_browse.JPG https://cmgds.marine.usgs.gov/data/field-activity-data/2021-022-FA/data/Imagery/2021022FA_Marconi_ortho_browse.JPG</browsen>
      <browsed>True-Color RBG image of Marconi Beach, Wellfleet MA</browsed>
      <browset>JPEG</browset>
    </browse>
    <crossref>
      <citeinfo>
        <origin>Jin-Si R. Over</origin>
        <origin>Andrew C. Ritchie</origin>
        <origin>Christine Kranenburg</origin>
        <origin>Jennifer (Jenna) A. Brown</origin>
        <origin>Daniel D. Buscombe</origin>
        <origin>Tom Noble</origin>
        <origin>Christopher R. Sherwood</origin>
        <origin>Jonathan Warrick</origin>
        <origin>Phillipe Wernette</origin>
        <pubdate>2021</pubdate>
        <title>Processing coastal imagery with Agisoft Metashape Professional Edition, version 1.6—Structure from motion workflow documentation</title>
        <serinfo>
          <sername>Open-File Report</sername>
          <issue>2021-1039</issue>
        </serinfo>
        <pubinfo>
          <pubplace>Reston, VA</pubplace>
          <publish>U.S. Geological Survey</publish>
        </pubinfo>
        <othercit>This publication includes the general methodology for processing imagery in Metashape to produce DEMs and ortho products.</othercit>
        <onlink>https://doi.org/10.3133/ofr20211039</onlink>
      </citeinfo>
    </crossref>
  </idinfo>
  <dataqual>
    <attracc>
      <attraccr>The positional information used on the Helikite and ground control point datasets and metadata are available in the imagery and navigational components of the larger work citation. No color corrections were applied.</attraccr>
    </attracc>
    <logic>There is one orthomosaic of Marconi Beach created from imagery in the larger work citation.</logic>
    <complete>The structure-from-motion process that builds the DSM and then the orthomosaic uses all the available imagery and location information at the start, however 702/811 images aligned in the software to produce the final product and any data holes may appear blurry due to interpolation. Users are advised to read the rest of the metadata record carefully for additional details.</complete>
    <posacc>
      <horizpa>
        <horizpar>Navigation information was acquired from a GNSS receiver (EMLID Reach M2) in PPK mode with a Multi-band GNSS antenna that has an estimated horizontal accuracy of 2-5 cm from the errors reported in the Metashape project.</horizpar>
      </horizpa>
    </posacc>
    <lineage>
      <procstep>
        <procdesc>Digital Surface Model was created in Agisoft Metashape v. 1.7.2 using the following general steps (see Over and others, 2021):
1. Project created and imagery (located in larger work citation 2021022FA_Marconi_f1.zip) and position (located in larger work citation 2021022FA_Marconi_f1_photolocations.csv) data were brought in using the NAD83(2011) datum.
2. Photos were aligned at high accuracy (the pixels are not subsampled for increased processing speed) with a keypoint limit of 40,000 and unlimited tie points. Alignment uses the positions and matching pixels between images to create point clouds and put the imagery into a relative spatial context. Photos that failed to align/find tie points contained breaking waves and water, but are kept in the project to reconstruct the orthomosaic because they are still spatially orientated even if they do not contribute to the elevation model. Metashape software refined and optimized the camera positions and lens model in a least squares sense to minimize the reprojection error or the distance between the measured points and the software created points.
3. Nine ground control points (GCPs) (2021022FA_Marconi_nav_AeroPoints.csv located in the larger work citation were added to the project in NAD83(2011) and manually placed on the images as markers.
4. A dense point cloud was generated using high quality (images are not subsampled) and a low frequency filtering algorithm. Accuracies for the GCPs were set 0.01 m and accuracies for the camera positions were set to 5 cm, resulting in a total camera position error of 0.05 m and a total GCP error of 0.016 m. The dense point cloud was then edited to remove noise by filtering by point confidence before generating an interpolated digital elevation model (the software calls all models elevation models, but technically it is a surface model because it includes vegetation/canopy returns, a terrain model would be only bare earth returns).
5. The digital surface model was used to build an orthomosaic, which was then exported from the software at a resolution of 25 cm and in NAD83(2011)/UTM Zone 19N (ESPG:6348) and GEOID 18B NAVD88 in meters.</procdesc>
        <procdate>20210514</procdate>
        <proccont>
          <cntinfo>
            <cntperp>
              <cntper>Jin-Si Over</cntper>
              <cntorg>U.S Geological Survey</cntorg>
            </cntperp>
            <cntpos>Geographer</cntpos>
            <cntaddr>
              <addrtype>mailing and physical address</addrtype>
              <address>384 Woods Hole Rd</address>
              <city>Woods Hole</city>
              <state>MA</state>
              <postal>02543-1598</postal>
            </cntaddr>
            <cntvoice>508-548-8700 x2269</cntvoice>
            <cntemail>jover@usgs.gov</cntemail>
          </cntinfo>
        </proccont>
      </procstep>
    </lineage>
  </dataqual>
  <spdoinfo>
    <direct>Raster</direct>
    <rastinfo>
      <rasttype>Pixel</rasttype>
      <rowcount>2892</rowcount>
      <colcount>1128</colcount>
    </rastinfo>
  </spdoinfo>
  <spref>
    <horizsys>
      <planar>
        <gridsys>
          <gridsysn>Universal Transverse Mercator</gridsysn>
          <utm>
            <utmzone>19</utmzone>
            <transmer>
              <sfctrmer>0.999600</sfctrmer>
              <longcm>-69.000000</longcm>
              <latprjo>0.000000</latprjo>
              <feast>500000.000000</feast>
              <fnorth>0.000000</fnorth>
            </transmer>
          </utm>
        </gridsys>
        <planci>
          <plance>row and column</plance>
          <coordrep>
            <absres>0.25</absres>
            <ordres>0.25</ordres>
          </coordrep>
          <plandu>meters</plandu>
        </planci>
      </planar>
      <geodetic>
        <horizdn>North American Datum of 1983 (National Spatial Reference System 2011)</horizdn>
        <ellips>GRS_1980</ellips>
        <semiaxis>6378137.000000</semiaxis>
        <denflat>298.257222101</denflat>
      </geodetic>
    </horizsys>
  </spref>
  <eainfo>
    <detailed>
      <enttyp>
        <enttypl>2021022FA_Marconi_ortho_25cm</enttypl>
        <enttypd>A raster dataset (unsigned 8-bit integer GeoTIFF format) with encoded RGB values of Marconi Beach in Massachusetts as recorded on March 17, 2021. Pixel resolution is 25-cm. Pixel based raster matrix with 3 layers of information for each pixel.</enttypd>
        <enttypds>Producer defined</enttypds>
      </enttyp>
      <attr>
        <attrlabl>Band_1</attrlabl>
        <attrdef>Red wavelength band</attrdef>
        <attrdefs>Agisoft Metashape</attrdefs>
        <attrdomv>
          <rdom>
            <rdommin>0</rdommin>
            <rdommax>255</rdommax>
          </rdom>
        </attrdomv>
      </attr>
      <attr>
        <attrlabl>Band_2</attrlabl>
        <attrdef>Green wavelength band</attrdef>
        <attrdefs>Agisoft Metashape</attrdefs>
        <attrdomv>
          <rdom>
            <rdommin>0</rdommin>
            <rdommax>255</rdommax>
          </rdom>
        </attrdomv>
      </attr>
      <attr>
        <attrlabl>Band_3</attrlabl>
        <attrdef>Blue wavelength band</attrdef>
        <attrdefs>Agisoft Metashape</attrdefs>
        <attrdomv>
          <rdom>
            <rdommin>0</rdommin>
            <rdommax>255</rdommax>
          </rdom>
        </attrdomv>
      </attr>
    </detailed>
    <overview>
      <eaover>There are no text attributes associated with a binary GeoTIFF image. The horizontal projection is in NAD83(2011). There are no 'no-data' values.</eaover>
      <eadetcit>USGS Field Activity 2021-022-FA</eadetcit>
    </overview>
  </eainfo>
  <distinfo>
    <distrib>
      <cntinfo>
        <cntperp>
          <cntper>Jin-Si Over</cntper>
          <cntorg>U.S. Geological Survey</cntorg>
        </cntperp>
        <cntpos>geographer</cntpos>
        <cntaddr>
          <addrtype>mailing and physical</addrtype>
          <address>U.S. Geological Survey</address>
          <address>384 Woods Hole Rd.</address>
          <city>Woods Hole</city>
          <state>MA</state>
          <postal>02543-1598</postal>
        </cntaddr>
        <cntvoice>508-548-8700 x2269</cntvoice>
        <cntemail>jover@usgs.gov</cntemail>
      </cntinfo>
    </distrib>
    <resdesc>GeoTIFF file 2021022FA_Marconi_ortho_25cm.tif is an unsigned 8-bit integer representing the orthomosaic image of the survey area at Marconi Beach, Wellfleet, MA.</resdesc>
    <distliab>Neither the U.S. Government, the Department of the Interior, nor the USGS, nor any of their employees, contractors, or subcontractors, make any warranty, express or implied, nor assume any legal liability or responsibility for the accuracy, completeness, or usefulness of any information, apparatus, product, or process disclosed, nor represent that its use would not infringe on privately owned rights. The act of distribution shall not constitute any such warranty, and no responsibility is assumed by the U.S. Geological Survey in the use of these data or related materials. Any use of trade, product, or firm names is for descriptive purposes only and does not imply endorsement by the U.S. Government.</distliab>
    <stdorder>
      <digform>
        <digtinfo>
          <formname>GeoTIFF</formname>
          <formvern>1.0.0</formvern>
          <formspec>unsigned 8-bit integer GeoTIFF</formspec>
          <formcont>GeoTIFF of the orthomosaic for Marconi Beach, Wellfleet MA on March 17, 2021.</formcont>
          <transize>4.58</transize>
        </digtinfo>
        <digtopt>
          <onlinopt>
            <computer>
              <networka>
                <networkr>https://cmgds.marine.usgs.gov/data/field-activity-data/2021-022-FA/data/Imagery/2021022FA_Marconi_ortho_25cm.tif</networkr>
                <networkr>https://cmgds.marine.usgs.gov/data/field-activity-data/2021-022-FA/</networkr>
                <networkr>https://doi.org/10.5066/P9POZ9VH</networkr>
              </networka>
            </computer>
            <accinstr>The first link in the list above is to directly download the data, the second to the field data page, and the third link is to the publication landing page.</accinstr>
          </onlinopt>
        </digtopt>
      </digform>
      <fees>None.</fees>
    </stdorder>
  </distinfo>
  <metainfo>
    <metd>20240318</metd>
    <metc>
      <cntinfo>
        <cntperp>
          <cntper>Jin-Si Over</cntper>
          <cntorg>U.S. Geological Survey</cntorg>
        </cntperp>
        <cntpos>geographer</cntpos>
        <cntaddr>
          <addrtype>mailing and physical</addrtype>
          <address>U.S. Geological Survey</address>
          <address>384 Woods Hole Rd.</address>
          <city>Woods Hole</city>
          <state>MA</state>
          <postal>02543-1598</postal>
        </cntaddr>
        <cntvoice>508-548-8700 x2269</cntvoice>
        <cntemail>whsc_data_contact@usgs.gov</cntemail>
        <cntinst>The metadata contact email address is a generic address in the event the person is no longer with USGS. (updated on 20240318)</cntinst>
      </cntinfo>
    </metc>
    <metstdn>Content Standard for Digital Geospatial Metadata</metstdn>
    <metstdv>FGDC-STD-001-1998</metstdv>
    <metac>None</metac>
    <metuc>None</metuc>
  </metainfo>
</metadata>
