<?xml version="1.0" encoding="ISO-8859-1"?>
<!DOCTYPE metadata SYSTEM "http://www.fgdc.gov/metadata/fgdc-std-001-1998.dtd">
<metadata>
	<idinfo>
		<citation>
			<citeinfo>
				<origin>U.S. Geological Survey</origin>
				<pubdate>2006</pubdate>
				<title>CAPENORTHMOS_GEO4M_WGS84.TIF - 4-m Image of the Northern Half of the Backscatter Intensity Mosaic of the Sea Floor off Northeastern Cape Cod from USGS Cruise 98015 (Geographic)</title>
				<edition>1.0</edition>
				<geoform>remote-sensing image</geoform>
				<serinfo>
					<sername>Open-File Report</sername>
					<issue>2005-1048</issue>
				</serinfo>
				<pubinfo>
					<pubplace>Woods Hole Science Center, Woods Hole, MA</pubplace>
					<publish>U.S. Geological Survey, Coastal and Marine Geology Program</publish>
				</pubinfo>
				<onlink>http://pubs.usgs.gov/of/2005/1048/data/backscatter/mosaic/geo/capenorthmos_geo4m_wgs84.zip</onlink>
				<onlink>http://pubs.usgs.gov/of/2005/1048/data/backscatter/mosaic/geo/capenorthmos_geo4m_wgs84.tif</onlink>
				<onlink>http://pubs.usgs.gov/of/2005/1048/htmldocs/data_catalog.htm</onlink>
				<lworkcit>
					<citeinfo>
						<origin>L.J. Poppe</origin>
						<origin>V.F. Paskevich</origin>
						<origin>B. Butman</origin>
						<origin>P.C. Valentine</origin>
						<origin>W.W. Danforth</origin>
						<origin>D.S. Foster</origin>
						<origin>D.S. Blackwood</origin>
						<pubdate>2005</pubdate>
						<title>Geological Interpretation of Bathymetric and Backscatter Imagery of the Sea Floor off Eastern Cape Cod, Massachusetts</title>
						<edition>1.0</edition>
						<serinfo>
							<sername>Open-File Report</sername>
							<issue>2005-1048</issue>
						</serinfo>
						<pubinfo>
							<pubplace>Woods Hole Science Center, Woods Hole, MA</pubplace>
							<publish>U.S. Geological Survey, Coastal and Marine Geology Program</publish>
						</pubinfo>
						<onlink>http://pubs.usgs.gov/of/2005/1048/</onlink>
					</citeinfo>
				</lworkcit>
				<ftname Sync="TRUE">capenorthmos_geo4m_wgs84.tif</ftname><onlink>http://pubs.usgs.gov/of/2005/1048/data/backscatter/mosaic/geo/</onlink></citeinfo>
		</citation>
		<descript>
			<abstract>This data set includes backscatter intensity of the sea floor offshore of northern Cape Cod, Massachusetts.  The data were collected with a multibeam sea floor mapping system during USGS survey 98015, conducted November 9 - 25, 1998.  The surveys were conducted using a Simrad EM 1000 multibeam echo sounder mounted aboard the Canadian Coast Guard vessel Frederick G. Creed.  This multibeam system utilizes 60 electronically aimed receive beams spaced at intervals of 2.5 degrees that insonify a strip of sea floor up to 7.5 times the water depth (swath width of 100 to 200 m within the survey area).  The horizontal resolution of the beam on the sea floor is approximately 10% of the water depth.  Vertical resolution is approximately 1 percent of the water depth.

With backscatter intensity, the intensity of the acoustic return from the sea floor from the multibeam system, is a function of the properties of the surficial sediments and of the bottom roughness.  Generally, a strong return (light gray tones) is associated with rock or coarse-grained sediment, and a weak return (dark gray tones) with fine-grained sediments.  However, the micro-topography, such as ripples, burrows, and benthic populations also affect the reflectivity of the sea floor.  Direct observations, using bottom photography or video, and surface samples, are needed to verify interpretations of the backscatter intensity data.  The backscatter data have a weak striping that runs parallel to the ship's track.  Some of the striping is the result of poor data return at nadir that appears as evenly-spaced thin speckled lines. Some striping is also due to critical angle effects, where the intensity of return varies as a function of the angle of incidence of the incoming sound on the seafloor (Hughes-Clark and others, 1997).</abstract>
			<purpose>To release a digital map derived from multibeam observations that shows sea floor backscatter intensity (a measure of sea floor texture and roughness) at a spatial resolution of 4 meters per pixel.</purpose>
			<langdata Sync="TRUE">en</langdata></descript>
		<timeperd>
			<timeinfo>
				<rngdates>
					<begdate>19981109</begdate>
					<enddate>19981125</enddate>
				</rngdates>
			</timeinfo>
			<current>ground condition</current>
		</timeperd>
		<status>
			<progress>Complete</progress>
			<update>None planned</update>
		</status>
		<spdom>
			<bounding>
				<westbc>
-70.307833</westbc>
				<eastbc>
-69.828333</eastbc>
				<northbc>
42.116667</northbc>
				<southbc>
41.966667</southbc>
			</bounding>
			<lboundng><leftbc Sync="TRUE">-70.307809</leftbc><rightbc Sync="TRUE">-69.828308</rightbc><bottombc Sync="TRUE">41.966641</bottombc><topbc Sync="TRUE">42.116649</topbc></lboundng></spdom>
		<keywords>
			<theme>
				<themekt>General</themekt>
				<themekey>U.S. Geological Survey</themekey>
				<themekey>USGS</themekey>
				<themekey>Woods Hole Science Center</themekey>
				<themekey>WHSC</themekey>
				<themekey>Coastal and Marine Geology Program</themekey>
				<themekey>CMGP</themekey>
				<themekey>Frederick G. Creed</themekey>
				<themekey>Field Activity Number 98015</themekey>
				<themekey>Sea Floor Mapping</themekey>
				<themekey>Multibeam Echo Sounder</themekey>
				<themekey>Backscatter Intensity</themekey>
				<themekey>multibeam backscatter mosaic</themekey>
				<themekey>GeoTIFF Image</themekey>
				<themekey>greyscale image</themekey>
				<themekey>gray scale image</themekey>
				<themekey>Geographic Information System</themekey>
				<themekey>Sea Floor Geology</themekey>
				<themekey>Surficial Geology</themekey>
				<themekey>GeoTIFF Image</themekey>
				<themekey>Multibeam</themekey>
				<themekey>Simrad EM1000</themekey>
			</theme>
			<theme>
				<themekt>ISO 19115 Topic Category</themekt>
				<themekey>oceans and estuaries</themekey>
				<themekey>imageryBaseMapsEarthCover</themekey>
				<themekey>geoscientificInformation</themekey>
			</theme>
			<place>
				<placekt>General</placekt>
				<placekey>Cape Cod</placekey>
				<placekey>Massachusetts</placekey>
				<placekey>Cape Cod National Seashore Park</placekey>
				<placekey>U.S. East Coast</placekey>
				<placekey>United States</placekey>
				<placekey>North America</placekey>
				<placekey>Atlantic Ocean</placekey>
			</place>
		</keywords>
		<accconst>None</accconst>
		<useconst>Public domain data are freely redistributable with proper metadata and source attribution. Please recognize the U.S. Geological Survey (USGS) as the source of this information.</useconst>
		<ptcontac>
			<cntinfo>
				<cntpos>Geologist</cntpos>
				<cntaddr>
					<addrtype>mailing and physical address</addrtype>
					<address>384 Woods Hole Road</address>
					<city>Woods Hole</city>
					<state>MA</state>
					<postal>02543-1598</postal>
					<country>USA</country>
				</cntaddr>
				<cntvoice>(508) 548-8700 x2314</cntvoice>
				<cntfax>(508) 457-2310</cntfax>
				<cntemail>lpoppe@usgs.gov</cntemail>
				<cntperp><cntper>Lawrence J. Poppe</cntper><cntorg>U.S. Geological Survey</cntorg></cntperp></cntinfo>
		</ptcontac>
		<browse>
			<browsen>http://pubs.usgs.gov/of/2005/1048/data/backscatter/mosaic/geo/capenorthmos_geo4m_wgs84-thumb.gif</browsen>
			<browsed>Thumbnail image showing the extent and coverage of the data layer.</browsed>
			<browset>GIF</browset>
		</browse>
		<browse>
			<browsen>http://pubs.usgs.gov/of/2005/1048/data/backscatter/mosaic/geo/capenorthmos_geo4m_wgs84.gif</browsen>
			<browsed>Image map showing the extent and coverage of the data layer.</browsed>
			<browset>GIF</browset>
		</browse>
		<native>Microsoft Windows XP Version 5.1 (Build 2600) Service Pack 2; ESRI ArcCatalog 9.1.0.722</native>
		<natvform Sync="TRUE">Raster Dataset</natvform></idinfo>
	<dataqual>
		<complete>This image is complete; all available data were used to create the backscatter mosaic; no further processing and(or) modifications will be made.</complete>
		<posacc>
			<horizpa>
				<horizpar>These data were navigated with a Differential Global Positioning System (DGPS); they are accurate to +/- 3 meters, horizontally.</horizpar>
			</horizpa>
			<vertacc>
			</vertacc>
		</posacc>
		<lineage>
			<srcinfo>
				<typesrc>DVD-ROM</typesrc>
				<srctime>
					<timeinfo>
						<rngdates>
							<begdate>19981109</begdate>
							<enddate>19981125</enddate>
						</rngdates>
					</timeinfo>
					<srccurr>ground condition</srccurr>
				</srctime>
				<srccitea>98015_multibeam_data</srccitea>
				<srccontr>The original multibeam backscatter data acquired with a Simrad EM 1000 echosounder during USGS cruise 98015 aboard the Canadian Coast Guard vessel Frederick G. Creed</srccontr>
			</srcinfo>
			<procstep>
				<procdesc>Initial Data and acquisition processing at sea:

After the echo sounder data were logged onto the hard disk of the Sun workstation, a suite of processing software developed by the Ocean Mapping Group (www.omg.unb.ca/~jhc/SwathEd.html) was used to correct for artifacts and errors that may have been introduced during data collection. This software also enhanced the corrected data by resolving beam pattern and aspect ratio distortions and by imposing a linear contrast stretch before it generated bathymetric and sidescan sonar image mosaics in a Mercator projection.  All data processing described here is initiated using Silicon Graphics workstations as soon as each acquisition file is closed by the Simrad Mermaid workstation (usually at the end of each survey line).  Additional processing was done in the lab to correct for fluctuations in sea level during the survey and for artifacts in the data files that were not corrected in the field (see below).

The processing and editing steps on board the ship were:

(A.) Demultiplex, or unravel, the acquired Simrad data files using RT to generate separate files containing navigation, depth soundings, sidescan sonar backscatter values, and sound velocity information.

(B.) Automatically reject bad data (autoRejectSoundings). For the multibeam soundings, reject data outside expected depth ranges (operator's decision based on nautical chart data); for navigation data, reject fixes with poor GPS statistics.

(C.) Edit the navigation data on-screen using jview to remove undesirable points, including turns at the ends of survey lines.

(D.) Edit the multibeam soundings on-screen using swathed to remove individual anomalous soundings.

(E). Merge tidal information and the corrected navigation back (mergetide and mergenav) into the data files. Tidal information was obtained from predicted tides using the Xtide program http://www.flaterco.com/xtide/xtide.html), which generated predicted tides based on the harmonic coefficients for Chatham provided by the Xtide program.

(F.) Map the bathymetric soundings from each processed data file onto a Mercator grid using weigh_grid  with node spacings and scale selected by the operator. The data files capenorth.asc and capenorth.xyz were produced from the gridded data. The data file capenorth.txt is a comma-delimited version of capenorth.xyz.

(G.) Map the extracted sidescan sonar backscatter values onto a digital mosaic using mos2 in the Mercator projection at a scale selected by the user.</procdesc>
				<srcused>98015_multibeam_data</srcused>
				<procdate>Unknown</procdate>
				<srcprod>capenorth.asc</srcprod>
				<srcprod>capenoth.xyz</srcprod>
				<srcprod>capenorth.txt</srcprod>
				<srcprod>capenorthmos_mer4m.tif</srcprod>
				<proccont>
					<cntinfo>
						<cntperp>
							<cntper>Bill Danforth</cntper>
							<cntorg>U.S. Geological Survey</cntorg>
						</cntperp>
						<cntpos>Geologist</cntpos>
						<cntaddr>
							<addrtype>mailing and physical address</addrtype>
							<address>384 Woods Hole Road</address>
							<city>Woods Hole</city>
							<state>MA</state>
							<postal>02543-1598</postal>
							<country>USA</country>
						</cntaddr>
						<cntvoice>(508) 548-8700 x2274</cntvoice>
						<cntfax>(508) 457-2310</cntfax>
						<cntemail>bdanforth@usgs.gov</cntemail>
					</cntinfo>
				</proccont>
			</procstep>
			<procstep>
				<procdesc>Map the extracted sidescan sonar backscatter values onto a digital mosaic using the SwathEd utility mos2 in the Mercator projection, having a central longitude of -70.3166667 degrees West, a latitude of true scale of 41.65 degrees north and the horizontal datum is WGS84.</procdesc>
				<srcused>capenorth.asc</srcused>
				<srcused>capenorth.xyz</srcused>
				<srcused>capenorth.txt</srcused>
				<procdate>Unknown</procdate>
				<srcprod>capenorthmos_mer4m.tif</srcprod>
				<proccont>
					<cntinfo>
						<cntperp>
							<cntper>Bill Danforth</cntper>
							<cntorg>U.S. Geological Survey</cntorg>
						</cntperp>
						<cntpos>Geologist</cntpos>
						<cntaddr>
							<addrtype>mailing and physical address</addrtype>
							<address>384 Woods Hole Road</address>
							<city>Woods Hole</city>
							<state>MA</state>
							<postal>02543-1598</postal>
							<country>USA</country>
						</cntaddr>
						<cntvoice>(508) 548-8700 x2274</cntvoice>
						<cntfax>(508) 457-2310</cntfax>
						<cntemail>bdanforth@usgs.gov</cntemail>
					</cntinfo>
				</proccont>
			</procstep>
			<procstep>
				<procdesc>The imagery in Mercator projection was converted to geographic.</procdesc>
				<srcused>capenorthmos_mer4m.tif</srcused>
				<procdate>2004</procdate>
				<srcprod>capenorthmos_mer4m_wgs84.tif</srcprod>
				<proccont>
					<cntinfo>
						<cntperp>
							<cntper>Valerie Paskevich</cntper>
							<cntorg>U.S. Geological Survey</cntorg>
						</cntperp>
						<cntpos>Information Technology Specialist / GIS Coordinator</cntpos>
						<cntaddr>
							<addrtype>mailing and physical address</addrtype>
							<address>384 Woods Hole Road</address>
							<city>Woods Hole</city>
							<state>MA</state>
							<postal>02543-1598</postal>
							<country>USA</country>
						</cntaddr>
						<cntvoice>(508) 548-8700 x2281</cntvoice>
						<cntfax>(508) 457-2310</cntfax>
						<cntemail>vpaskevich@usgs.gov</cntemail>
					</cntinfo>
				</proccont>
			</procstep>
		</lineage>
	</dataqual>
	<spdoinfo>
		<direct>Raster</direct>
		<rastinfo>
			<rasttype>Pixel</rasttype>
			<rowcount>4191</rowcount>
			<colcount>9986</colcount>
			<vrtcount>1</vrtcount>
			<rastxsz Sync="TRUE">0.000048</rastxsz><rastysz Sync="TRUE">0.000036</rastysz><rastbpp Sync="TRUE">8</rastbpp><rastorig Sync="TRUE">Upper Left</rastorig><rastcmap Sync="TRUE">FALSE</rastcmap><rastcomp Sync="TRUE">None</rastcomp><rastband Sync="TRUE">1</rastband><rastdtyp Sync="TRUE">pixel codes</rastdtyp><rastplyr Sync="TRUE">TRUE</rastplyr><rastifor Sync="TRUE">TIFF</rastifor><rastxu>decimal degrees</rastxu><rastyu>decimal degrees</rastyu><rastnodt>255</rastnodt><rastityp>GeoTIFF</rastityp></rastinfo>
	</spdoinfo>
	<spref>
		<horizsys>
			<geograph>
				<geogunit>Decimal degrees</geogunit>
				<latres>0.00001</latres><longres>0.00001</longres></geograph>
			<geodetic>
				<horizdn>World Geodetic System 84</horizdn>
				<ellips>World Geodetic System 84</ellips>
				<semiaxis>6378137</semiaxis>
				<denflat>298.257</denflat>
			</geodetic>
			<cordsysn><geogcsn Sync="TRUE">GCS_WGS_1984</geogcsn></cordsysn><planar><planci><plance Sync="TRUE">row and column</plance><coordrep><absres Sync="TRUE">0.000048</absres><ordres Sync="TRUE">0.000036</ordres></coordrep></planci></planar></horizsys>
		<vertdef>
			<depthsys>
			</depthsys>
		</vertdef>
	</spref>
	<eainfo>
		<overview>
			<eaover>There are no attributes associated with the GEOTIFF image.</eaover>
			<dsoverv>GeoTIFF image containing greyscale digital sidescan sonar mosaic from USGS/CMGP survey 98015. Pixel values contain acoustic reflectivity values normalized to an 8-bit data range (0-255).  Low-backscatter is represented by dark tones (low values) and high-backscatter is represented by bright tones (high values).
</dsoverv></overview>
	</eainfo>
	<distinfo>
		<distrib>
			<cntinfo>
				<cntperp>
					<cntper>Lawrence J. Poppe</cntper>
					<cntorg>U.S. Geological Survey</cntorg>
				</cntperp>
				<cntpos>Geologist</cntpos>
				<cntaddr>
					<addrtype>mailing and physical address</addrtype>
					<address>384 Woods Hole Road</address>
					<city>Woods Hole</city>
					<state>MA</state>
					<postal>02543-1598</postal>
					<country>USA</country>
				</cntaddr>
				<cntvoice>(508) 548-8700 x2314</cntvoice>
				<cntfax>(508) 457-2310</cntfax>
				<cntemail>lpoppe@usgs.gov</cntemail>
			</cntinfo>
		</distrib>
		<resdesc>Downloadable Data: capenorthmos_geo4m_wgs84.tif</resdesc>
		<distliab>Although all data have been used by the USGS, no warranty, expressed or implied, is made by the USGS as to the accuracy of the data and/or related materials. The act of distribution shall not constitute any such warranty, and no responsibility is assumed by the USGS in the use of these data or related materials.

Any use of trade, product, or firm names is for descriptive purposes only and does not imply endorsement by the U.S. Government.</distliab>
		<stdorder>
			<digform>
				<digtinfo>
					<formname>TIFF</formname>
					<formspec>GeoTIFF</formspec>
					<formcont>GeoTIFF format backscatter mosaic, GeoTIFF world file and associated metadata</formcont>
					<filedec>zip archive</filedec>
					<transize>0.000</transize>
					<dssize Sync="TRUE">0.000</dssize></digtinfo>
				<digtopt>
					<onlinopt>
						<computer>
							<networka>
								<networkr>http://pubs.usgs.gov/of/2005/1048/data/backscatter/mosaic/geo/capenorthmos_geo4m_wgs84.zip</networkr>
								<networkr>http://pubs.usgs.gov/of/2005/1048/data/backscatter/mosaic/geo/capenorthmos_geo4m_wgs84.tif</networkr>
								<networkr>http://pubs.usgs.gov/of/2005/1048/htmldocs/data_catalog.htm</networkr>
								<networkr>http://pubs.usgs.gov/of/2005/1048/data/backscatter/mosaic/geo/</networkr></networka>
						</computer>
						<accinstr>Data are downloadable via the World Wide Web (WWW).</accinstr>
					</onlinopt>
					<offoptn>
						<offmedia>DVD-ROM</offmedia>
						<reccap>
							<recden>4.75</recden>
							<recdenu>Gbytes</recdenu>
						</reccap>
						<recfmt>UDF</recfmt>
					</offoptn>
				</digtopt>
			</digform>
			<fees>None</fees>
		</stdorder>
		<techpreq>This image is available as a GeoTIFF image with an accompanying world file. To utilize this data, the user must have an image viewer, image processing or GIS software package capable of importing a GeoTIFF image.</techpreq>
		<availabl>
			<timeinfo>
				<sngdate>
					<caldate>2006</caldate>
				</sngdate>
			</timeinfo>
		</availabl>
	</distinfo>
	<metainfo>
		<metd>20060321</metd>
		<metc>
			<cntinfo>
				<cntperp>
					<cntper>William Danforth</cntper>
					<cntorg>U.S. Geological Survey</cntorg>
				</cntperp>
				<cntpos>Geologist</cntpos>
				<cntaddr>
					<addrtype>mailing and physical address</addrtype>
					<address>384 Woods Hole Road</address>
					<city>Woods Hole</city>
					<state>MA</state>
					<postal>02543-1598</postal>
					<country>USA</country>
				</cntaddr>
				<cntvoice>(508) 548-8700 x2274</cntvoice>
				<cntfax>(508) 457-2310</cntfax>
				<cntemail>bdanforth@usgs.gov</cntemail>
			</cntinfo>
		</metc>
		<metstdn>FGDC Content Standards for Digital Geospatial Metadata</metstdn>
		<metstdv>FGDC-STD-001-1998</metstdv>
		<mettc>local time</mettc>
		<metac>None</metac>
		<metuc>None</metuc>
		<langmeta Sync="TRUE">en</langmeta><metextns><onlink Sync="TRUE">http://www.esri.com/metadata/esriprof80.html</onlink><metprof Sync="TRUE">ESRI Metadata Profile</metprof></metextns></metainfo>
	<dataIdInfo><envirDesc Sync="TRUE">Microsoft Windows XP Version 5.1 (Build 2600) Service Pack 2; ESRI ArcCatalog 9.1.0.722</envirDesc><dataLang><languageCode Sync="TRUE" value="en"></languageCode></dataLang><idCitation><resTitle Sync="TRUE">capenorthmos_geo4m_wgs84.tif</resTitle><presForm><PresFormCd Sync="TRUE" value="005"></PresFormCd></presForm></idCitation><spatRpType><SpatRepTypCd Sync="TRUE" value="002"></SpatRepTypCd></spatRpType><dataExt><geoEle><GeoBndBox esriExtentType="native"><westBL Sync="TRUE">-70.307809</westBL><eastBL Sync="TRUE">-69.828308</eastBL><northBL Sync="TRUE">42.116649</northBL><southBL Sync="TRUE">41.966641</southBL><exTypeCode Sync="TRUE">1</exTypeCode></GeoBndBox></geoEle></dataExt><geoBox esriExtentType="decdegrees"><westBL Sync="TRUE">-70.307809</westBL><eastBL Sync="TRUE">-69.828308</eastBL><northBL Sync="TRUE">42.116649</northBL><southBL Sync="TRUE">41.966641</southBL><exTypeCode Sync="TRUE">1</exTypeCode></geoBox></dataIdInfo><mdLang><languageCode Sync="TRUE" value="en"></languageCode></mdLang><mdStanName Sync="TRUE">ISO 19115 Geographic Information - Metadata</mdStanName><mdStanVer Sync="TRUE">DIS_ESRI1.0</mdStanVer><mdChar><CharSetCd Sync="TRUE" value="004"></CharSetCd></mdChar><mdHrLv><ScopeCd Sync="TRUE" value="005"></ScopeCd></mdHrLv><mdHrLvName Sync="TRUE">dataset</mdHrLvName><distInfo><distributor><distorTran><onLineSrc><orDesc Sync="TRUE">002</orDesc><linkage Sync="TRUE">file://\\FLORIDA-DESKTOP\OFR2005_1048\web-content\data\backscatter\mosaic\geo\capenorthmos_geo4m_wgs84.tif</linkage><protocol Sync="TRUE">Local Area Network</protocol></onLineSrc><transSize Sync="TRUE">0.000</transSize></distorTran><distorFormat><formatName Sync="TRUE">Raster Dataset</formatName></distorFormat></distributor></distInfo><refSysInfo><RefSystem><refSysID><identCode Sync="TRUE">GCS_WGS_1984</identCode></refSysID></RefSystem></refSysInfo><spatRepInfo><GridSpatRep><numDims Sync="TRUE">2</numDims><cellGeo><CellGeoCd Sync="TRUE" value="002"></CellGeoCd></cellGeo><tranParaAv Sync="TRUE">1</tranParaAv><axDimProps><Dimen><dimName><DimNameTypCd Sync="TRUE" value="002"></DimNameTypCd></dimName><dimSize Sync="TRUE">9986</dimSize><dimResol><value Sync="TRUE">0.000048</value><uom><UomLength><uomName Sync="TRUE">Degree</uomName></UomLength></uom></dimResol></Dimen><Dimen><dimName><DimNameTypCd Sync="TRUE" value="001"></DimNameTypCd></dimName><dimSize Sync="TRUE">4191</dimSize><dimResol><value Sync="TRUE">0.000036</value><uom><UomLength><uomName Sync="TRUE">Degree</uomName></UomLength></uom></dimResol></Dimen></axDimProps></GridSpatRep></spatRepInfo><Esri><SyncDate>20060322</SyncDate><SyncTime>12441500</SyncTime><ModDate>20060322</ModDate><ModTime>12441500</ModTime></Esri><mdDateSt Sync="TRUE">20060322</mdDateSt></metadata>
