<?xml version="1.0" encoding="ISO-8859-1"?>
<!DOCTYPE metadata SYSTEM "http://www.fgdc.gov/metadata/fgdc-std-001-1998.dtd">
<metadata>
	<idinfo>
		<citation>
			<citeinfo>
				<origin>U.S. Geological Survey</origin>
				<pubdate>2006</pubdate>
				<title>CAPESOUTHPSEUDO_GEO4M_WGS84.TIF: 4-m Image of the Southern Half of the Pseudo-colored Backscatter Intensity of the Sea Floor off Eastern Cape Cod (Geographic)</title>
				<edition>1.0</edition>
				<geoform>remote-sensing image</geoform>
				<pubinfo>
					<pubplace>Woods Hole Science Center, Woods Hole, MA</pubplace>
					<publish>U.S. Geological Survey, Coastal and Marine Geology Program</publish>
				</pubinfo>
				<onlink>http://pubs.usgs.gov/of/2005/1048/data/backscatter/pseudocolor/geo/capesouthpseudo_geo4m_wgs84.zip</onlink>
				<onlink>http://pubs.usgs.gov/of/2005/1048/data/backscatter/pseudocolor/geo/capesouthpseudo_geo4m_wgs84.tif</onlink>
				<onlink>http://pubs.usgs.gov/of/2005/1048/htmldocs/data_catalog.htm</onlink>
				<lworkcit>
					<citeinfo>
						<origin>L.J. Poppe</origin>
						<origin>V.F. Paskevich</origin>
						<origin>B. Butman</origin>
						<origin>P.C. Valentine</origin>
						<origin>W.W. Danforth</origin>
						<origin>D.S. Foster</origin>
						<origin>D.S. Blackwood</origin>
						<pubdate>2006</pubdate>
						<title>Geological Interpretation of Bathymetric and Backscatter Imagery of the Sea Floor off Eastern Cape Cod, Massachusetts</title>
						<edition>1.0</edition>
						<serinfo>
							<sername>Open-File Report</sername>
							<issue>2005-1048</issue>
						</serinfo>
						<pubinfo>
							<pubplace>Woods Hole Science Center, Woods Hole, MA</pubplace>
							<publish>U.S. Geological Survey, Coastal and Marine Geology Program</publish>
						</pubinfo>
						<onlink>http://pubs.usgs.gov/of/2005/1048/</onlink>
					</citeinfo>
				</lworkcit>
				<ftname Sync="TRUE">capesouthpseudo_geo4m_wgs84.tif</ftname><serinfo><sername>Open-Fie Report</sername><issue>2005-1048</issue></serinfo><onlink>http://pubs.usgs.gov/of/2005/1048/data/backscatter/pseudocolor/geo/</onlink></citeinfo>
		</citation>
		<descript>
			<abstract>This data set includes pseudo-colored backscatter intensity of the sea floor offshore of northeastern Cape Cod, Massachusetts.  The data were collected with a multibeam sea floor mapping system during USGS survey 98015, conducted November 9 - 25, 1998.  The surveys were conducted using a Simrad EM 1000 multibeam echo sounder mounted aboard the Canadian Coast Guard vessel Frederick G. Creed.  This multibeam system utilizes 60 electronically aimed receive beams spaced at intervals of 2.5 degrees that insonify a strip of sea floor up to 7.5 times the water depth (swath width of 100 to 200 m within the survey area).  The horizontal resolution of the beam on the sea floor is approximately 10% of the water depth.  Vertical resolution is approximately 1 percent of the water depth.

With pseudo-colored backscatter intensity, the backscatter intensity is combined with the topography to display the distribution of intensity in relation to the topography.  In the image shown here, the backscatter intensity is represented by a suite of eight colors ranging from blue, which represents low intensity, to red, which represents high intensity. These data are draped over a shaded relief image created by vertically exaggerating the topography four times and then artificially illuminating the relief by a light source positioned 45 degrees above the horizon from an azimuth of 0 degrees.  The resulting image displays light and dark intensities within each color band that result from a feature's position with respect to the light source.  For example, north-facing slopes, receiving strong illumination, show as a light intensity within a color band, whereas south-facing slopes, being in shadow, show as a dark intensity within a color band.</abstract>
			<purpose>To release a digital map (GeoTIFF image) derived from multibeam observations that shows sea floor pseudo-colored backscatter intensity (a measure of sea floor texture and roughness) at a spatial resolution of 4 m/pixel.</purpose>
			<langdata Sync="TRUE">en</langdata></descript>
		<timeperd>
			<timeinfo>
				<rngdates>
					<begdate>19981109</begdate>
					<enddate>19981125</enddate>
				</rngdates>
			</timeinfo>
			<current>ground condition</current>
		</timeperd>
		<status>
			<progress>Complete</progress>
			<update>None planned</update>
		</status>
		<spdom>
			<bounding>
				<westbc>
-70.307833</westbc>
				<eastbc>
-69.828333</eastbc>
				<northbc>
42.116667</northbc>
				<southbc>
41.966667</southbc>
			</bounding>
			<lboundng><leftbc Sync="TRUE">-69.999976</leftbc><rightbc Sync="TRUE">-69.828314</rightbc><bottombc Sync="TRUE">41.616648</bottombc><topbc Sync="TRUE">41.969982</topbc></lboundng></spdom>
		<keywords>
			<theme>
				<themekt>General</themekt>
				<themekey>U.S. Geological Survey</themekey>
				<themekey>USGS</themekey>
				<themekey>Coastal and Marine Geology Program</themekey>
				<themekey>CMGP</themekey>
				<themekey>Woods Hole Science Center</themekey>
				<themekey>WHSC</themekey>
				<themekey>Simrad Subsea EM1000</themekey>
				<themekey>Frederick G. Creed</themekey>
				<themekey>Sea Floor Mapping</themekey>
				<themekey>Multibeam Echo Sounder</themekey>
				<themekey>Multibeam</themekey>
				<themekey>Backscatter Intensity</themekey>
				<themekey>Pseudo-colored Backscatter Intensity</themekey>
				<themekey>Sea Floor Geology</themekey>
				<themekey>Surficial Geology</themekey>
				<themekey>Field Activity Number 98015</themekey>
				<themekey>GeoTIFF Image</themekey></theme>
			<theme>
				<themekt>ISO 19115 Topic Category</themekt>
				<themekey>oceans and estuaries</themekey>
				<themekey>oceans and coastal</themekey>
				<themekey>imageryBaseMapsEarthCover</themekey>
				<themekey>geoscientificInformation</themekey>
			</theme>
			<place>
				<placekt>General</placekt>
				<placekey>Cape Cod</placekey>
				<placekey>Massachusetts</placekey>
				<placekey>MA</placekey>
				<placekey>Cape Cod National Seashore Park</placekey>
				<placekey>U.S. East Coast</placekey>
				<placekey>United States</placekey>
				<placekey>North America</placekey>
				<placekey>Atlantic Ocean</placekey>
			</place>
		</keywords>
		<accconst>None</accconst>
		<useconst>
Public domain data are freely redistributable with proper metadata and source attribution. Please recognize the U.S. Geological Survey (USGS) as the source of this information.
</useconst>
		<ptcontac>
			<cntinfo>
				<cntpos>Geologist</cntpos>
				<cntaddr>
					<addrtype>mailing and physical address</addrtype>
					<address>384 Woods Hole Road</address>
					<city>Woods Hole</city>
					<state>MA</state>
					<postal>02543-1598</postal>
					<country>USA</country>
				</cntaddr>
				<cntvoice>(508) 548-8700</cntvoice>
				<cntfax>(508) 457-2310</cntfax>
				<cntemail>lpoppe@usgs.gov</cntemail>
				<cntperp><cntper>Lawrence J. Poppe</cntper><cntorg>U.S. Geological Survey</cntorg></cntperp></cntinfo>
		</ptcontac>
		<native>Microsoft Windows XP Version 5.1 (Build 2600) Service Pack 2; ESRI ArcCatalog 9.1.0.722</native>
		<crossref>
			<citeinfo>
				<origin>L.J. Poppe</origin>
				<origin>D.S. Foster</origin>
				<origin>W.W. Danforth</origin>
				<pubdate>2006</pubdate>
				<title>Character and distribution of exposed glaciodeltaic deposits off outer Cape Cod, Massachusetts, and their effects on hydrogeology and benthic habitats</title>
				<edition>1.0</edition>
				<serinfo>
					<sername>Geo-Marine Letters</sername>
					<issue>v. 26</issue>
				</serinfo>
				<pubinfo>
					<pubplace>Germany</pubplace>
					<publish>Springer</publish>
				</pubinfo>
			</citeinfo>
		</crossref>
		<natvform Sync="TRUE">Raster Dataset</natvform><browse><browsen>http://pubs.usgs.gov/of/2005/1048/data/backscatter/pseudocolor/geo/capesouthpseudo_geo4m_wgs84-thumb.gif</browsen><browsed>Thumbnail image showing data layer extent and coverage.</browsed><browset>GIF</browset></browse><browse><browsen>http://pubs.usgs.gov/of/2005/1048/data/backscatter/pseudocolor/geo/capesouthpseudo_geo4m_wgs84.gif</browsen><browsed>Image map showing data layer extent and coverage.</browsed><browset>EPS</browset></browse></idinfo>
	<dataqual>
		<complete>All collected data were processed and used to produce this dataset.</complete>
		<posacc>
			<horizpa>
				<horizpar>Navigation was by differential GPS.</horizpar>
			</horizpa>
			<vertacc>
			</vertacc>
		</posacc>
		<lineage>
			<srcinfo>
				<typesrc>DVD-ROM</typesrc>
				<srctime>
					<timeinfo>
						<rngdates>
							<begdate>19981109</begdate>
							<enddate>19981125</enddate>
						</rngdates>
					</timeinfo>
					<srccurr>ground condition</srccurr>
				</srctime>
				<srccontr>The original multibeam bathymetric data acquired with a Simrad EM 1000 echosounder during USGS cruise 98015 aboard the Canadian Coast Guard vessel Frederick G. Creed.</srccontr>
				<srccitea>98015_multibeam_data</srccitea></srcinfo>
			<procstep>
				<procdesc>(1) Data and acquisition processing at sea:
       
After the echo sounder data were logged onto the hard disk of the Sun workstation, a suite of processing software developed by the Ocean Mapping Group (www.omg.unb.ca/~jhc/SwathEd.html) was used to correct for artifacts and errors that may have been introduced during data collection. This software also enhanced the corrected data by resolving beam pattern and aspect ratio distortions and by imposing a linear contrast stretch before it generated bathymetric and sidescan sonar image mosaics in a Mercator projection.  All data processing described here is initiated using Silicon Graphics workstations as soon as each acquisition file is closed by the Simrad Mermaid workstation (usually at the end of each survey line).  Additional processing was done in the lab to correct for fluctuations in sea level during the survey and for artifacts in the data files that were not corrected in the field (see below).

(2) The processing and editing steps on board the ship were:

        (A.) Demultiplex, or unravel, the acquired Simrad data files using RT to generate separate files containing navigation, depth soundings, sidescan sonar backscatter values, and sound velocity information.

        (B.) Automatically reject bad data (autoRejectSoundings). For the multibeam soundings, reject data outside expected depth ranges (operator's decision based on nautical chart data); for navigation data, reject fixes with poor GPS statistics.

        (C.) Edit the navigation data on-screen using jview to remove undesirable points, including turns at the ends of survey lines.

        (D.) Edit the multibeam soundings on-screen using swathed to remove individual anomalous soundings.

        (E). Merge tidal information and the corrected navigation back (mergetide and mergenav) into the data files. Tidal information was obtained from predicted tides using the Xtide program http://www.flaterco.com/xtide/xtide.html), which generated predicted tides based on the harmonic coefficients for Chatham provided by the Xtide program.

        (F.) Map the bathymetric soundings from each processed data file onto a Mercator grid using weigh_grid  (a SwathEd utility) with node spacings and scale selected by the operator. The grid file (capesouth.r4) was a floating point binary file.</procdesc>
				<procdate>Unknown</procdate>
				<srcprod>capesouth.r4</srcprod>
				<proccont>
					<cntinfo>
						<cntperp>
							<cntper>William Danforth</cntper>
							<cntorg>U.S. Geological Survey</cntorg>
						</cntperp>
						<cntpos>Geologist</cntpos>
						<cntaddr>
							<addrtype>mailing and physical address</addrtype>
							<address>384 Woods Hole Road</address>
							<city>Woods Hole</city>
							<state>MA</state>
							<postal>02543-1598</postal>
							<country>USA</country>
						</cntaddr>
						<cntvoice>(508) 548-8700 x2274</cntvoice>
						<cntfax>(508) 457-2310</cntfax>
						<cntemail>bdanforth@usgs.gov</cntemail>
					</cntinfo>
				</proccont>
				<srcused>98015_multibeam_data</srcused></procstep>
			<procstep>
				<procdesc>A pseudo-colored (false colored) image was generated using the SwathEd utility mix_ci by combining the bathymetric and backscatter raster mosaics into a single image in Mercator projection.</procdesc>
				<srcused>capesouth.r4</srcused>
				<procdate>Unknown</procdate>
				<srcprod>capesouthpseudo_mer4m.tif</srcprod>
				<proccont>
					<cntinfo>
						<cntpos>Geologist</cntpos>
						<cntvoice>(508) 548-8700 x2274</cntvoice>
						<cntfax>(508) 457-2310</cntfax>
						<cntemail>bdanforth@usgs.gov</cntemail>
						<cntperp><cntper>Bill Danforth</cntper><cntorg>U.S. Geological Survey</cntorg></cntperp><cntaddr><addrtype>mailing and physical address</addrtype><address>384 Woods Hole Road</address><city>Woods Hole</city><state>MA</state><postal>02543-1598</postal><country>USA</country></cntaddr></cntinfo>
				</proccont>
			</procstep>
			<procstep>
				<procdesc>The imagery was converted from Mercator projection to geographic.</procdesc>
				<srcused>capesouthpseudo_mer4m.tif</srcused>
				<procdate>2005</procdate>
				<srcprod>capesouthpseudo_geo4m_wgs84.tif</srcprod>
				<proccont>
					<cntinfo>
						<cntperp>
							<cntper>Valerie Paskevich</cntper>
							<cntorg>U.S. Geological Survey</cntorg>
						</cntperp>
						<cntpos>Information Specialist / GIS Coordinator</cntpos>
						<cntaddr>
							<addrtype>mailing and physical address</addrtype>
							<address>384 Woods Hole Road</address>
							<city>Woods Hole</city>
							<state>MA</state>
							<postal>02543-1598</postal>
							<country>USA</country>
						</cntaddr>
						<cntvoice>(508) 548-8700 x2281</cntvoice>
						<cntfax>(508) 457-2310</cntfax>
						<cntemail>vpaskevich@usgs.gov</cntemail>
					</cntinfo>
				</proccont>
				<procsv>PCI Geomatica V9.0</procsv></procstep>
		</lineage>
	</dataqual>
	<spdoinfo>
		<direct>Raster</direct>
		<rastinfo>
			<rasttype>Pixel</rasttype>
			<rowcount>9833</rowcount>
			<colcount>3575</colcount>
			<vrtcount>1</vrtcount>
			<rastxsz Sync="TRUE">0.000048</rastxsz><rastysz Sync="TRUE">0.000036</rastysz><rastbpp Sync="TRUE">8</rastbpp><rastorig Sync="TRUE">Upper Left</rastorig><rastcmap Sync="TRUE">TRUE</rastcmap><rastcomp Sync="TRUE">None</rastcomp><rastband Sync="TRUE">1</rastband><rastdtyp Sync="TRUE">pixel codes</rastdtyp><rastplyr Sync="TRUE">TRUE</rastplyr><rastifor Sync="TRUE">TIFF</rastifor><rastxu>decimal degrees</rastxu><rastyu>decimal degrees</rastyu><rastnodt>255</rastnodt><rastityp>GeoTIFF</rastityp></rastinfo>
	</spdoinfo>
	<spref>
		<horizsys>
			<geograph>
				<geogunit>Decimal degrees</geogunit>
			</geograph>
			<geodetic>
				<horizdn>World Geodetic System 84</horizdn>
				<ellips>World Geodetic System 84</ellips>
				<semiaxis>6378137</semiaxis>
				<denflat>298.257</denflat>
			</geodetic>
			<cordsysn><geogcsn Sync="TRUE">GCS_WGS_1984</geogcsn></cordsysn></horizsys>
		<vertdef>
			<depthsys>
			</depthsys>
		</vertdef>
	</spref>
	<eainfo>
		<detailed Name="Band_1">
			<enttyp>
				<enttypt Sync="TRUE">Table</enttypt><enttypc Sync="TRUE">256</enttypc><enttypl Sync="TRUE">Band_1</enttypl></enttyp>
			<attr><attrlabl Sync="TRUE">ObjectID</attrlabl><attalias Sync="TRUE">ObjectID</attalias><attrtype Sync="TRUE">OID</attrtype><attwidth Sync="TRUE">4</attwidth><atprecis Sync="TRUE">0</atprecis><attscale Sync="TRUE">0</attscale><attrdef Sync="TRUE">Internal feature number.</attrdef><attrdefs Sync="TRUE">ESRI</attrdefs><attrdomv><udom Sync="TRUE">Sequential unique whole numbers that are automatically generated.</udom></attrdomv></attr><attr><attrlabl Sync="TRUE">Value</attrlabl><attalias Sync="TRUE">Value</attalias><attrtype Sync="TRUE">Integer</attrtype><attwidth Sync="TRUE">0</attwidth><atprecis Sync="TRUE">0</atprecis><attscale Sync="TRUE">0</attscale></attr><attr><attrlabl Sync="TRUE">Red</attrlabl><attalias Sync="TRUE">Red</attalias><attrtype Sync="TRUE">Double</attrtype><attwidth Sync="TRUE">0</attwidth><atprecis Sync="TRUE">0</atprecis><attscale Sync="TRUE">0</attscale></attr><attr><attrlabl Sync="TRUE">Green</attrlabl><attalias Sync="TRUE">Green</attalias><attrtype Sync="TRUE">Double</attrtype><attwidth Sync="TRUE">0</attwidth><atprecis Sync="TRUE">0</atprecis><attscale Sync="TRUE">0</attscale></attr><attr><attrlabl Sync="TRUE">Blue</attrlabl><attalias Sync="TRUE">Blue</attalias><attrtype Sync="TRUE">Double</attrtype><attwidth Sync="TRUE">0</attwidth><atprecis Sync="TRUE">0</atprecis><attscale Sync="TRUE">0</attscale></attr></detailed>
		<overview><eaover>There are no attributes associated with the GEOTIFF image.</eaover><dsoverv>Pseudo-colored backscatter mosaic from USGS Cruise 98015. Pixel values contain acoustic reflectivity values normalized to an 8-bit data range (0-255) combined with multibeam bathymetry data. This image contains false-colored pixels to indicate variation in depth in the backscatter mosaic.  Pixel values do not represent depth or acquired backscatter values.</dsoverv></overview></eainfo>
	<distinfo>
		<distrib>
			<cntinfo>
				<cntperp>
					<cntper>Lawrence J. Poppe</cntper>
					<cntorg>U.S. Geological Survey</cntorg>
				</cntperp>
				<cntpos>Geologist</cntpos>
				<cntaddr>
					<addrtype>mailing and physical address</addrtype>
					<address>384 Woods Hole Road</address>
					<city>Woods Hole</city>
					<state>MA</state>
					<postal>02543-1598</postal>
					<country>USA</country>
				</cntaddr>
				<cntvoice>(508) 548-8700 x2314</cntvoice>
				<cntfax>(508) 457-2310</cntfax>
				<cntemail>lpoppe@usgs.gov</cntemail>
			</cntinfo>
		</distrib>
		<resdesc>Downloadable Data</resdesc>
		<distliab>Although all data have been used by the USGS, no warranty, expressed or implied, is made by the USGS as to the accuracy of the data and/or related materials. The act of distribution shall not constitute any such warranty, and no responsibility is assumed by the USGS in the use of these data or related materials.

Any use of trade, product, or firm names is for descriptive purposes only and does not imply endorsement by the U.S. government.</distliab>
		<stdorder>
			<digform>
				<digtinfo>
					<formname>TIFF</formname>
					<formspec>GeoTIFF</formspec>
					<formcont>GeoTIFF format pseudo-colored backscatter mosaic, GeoTIFF world file and associated metadata</formcont>
					<filedec>zip archive</filedec>
					<transize>0.000</transize>
					<dssize Sync="TRUE">0.000</dssize></digtinfo>
				<digtopt>
					<onlinopt>
						<computer>
							<networka>
								<networkr>http://pubs.usgs.gov/of/2005/1048/data/backscatter/pseudocolor/geo/capesouthpseudo_geo4m_wgs84.zip</networkr>
								<networkr>http://pubs.usgs.gov/of/2005/1048/data/backscatter/pseudocolor/geo/capesouthpseudo_geo4m_wgs84.tif</networkr>
								<networkr>http://pubs.usgs.gov/of/2005/1048/htmldocs/data_catalog.htm</networkr>
								<networkr>http://pubs.usgs.gov/of/2005/1048/data/backscatter/pseudocolor/geo/</networkr></networka>
						</computer>
						<accinstr>Data are downloadable via the World Wide Web (WWW).</accinstr></onlinopt>
					<offoptn>
						<offmedia>DVD-ROM</offmedia>
						<reccap>
							<recden>4.75</recden>
							<recdenu>Gbytes</recdenu>
						</reccap>
						<recfmt>UDF</recfmt>
					</offoptn>
				</digtopt>
			</digform>
			<fees>None</fees>
		</stdorder>
		<techpreq>This image is available as a GeoTIFF image with an accompanying world file. To utilize this data, the user must have an image viewer, image processing or GIS software package capable of importing a GeoTIFF image.</techpreq>
		<availabl>
			<timeinfo>
				<sngdate>
					<caldate>2006</caldate>
				</sngdate>
			</timeinfo>
		</availabl>
	</distinfo>
	<metainfo>
		<metd>20060316</metd>
		<metc>
			<cntinfo>
				<cntpos>Geologist</cntpos>
				<cntaddr>
					<addrtype>mailing and physical address</addrtype>
					<address>384 Woods Hole Road</address>
					<city>Woods Hole</city>
					<state>MA</state>
					<postal>02543-1598</postal>
					<country>USA</country>
				</cntaddr>
				<cntvoice>(508) 548-8700  x2314</cntvoice>
				<cntfax>(508) 457-2310</cntfax>
				<cntemail>lpoppe@usgs.gov</cntemail>
				<cntperp><cntper>Larry Poppe</cntper><cntorg>U.S. Geological Survey</cntorg></cntperp></cntinfo>
		</metc>
		<metstdn>FGDC Content Standards for Digital Geospatial Metadata</metstdn>
		<metstdv>FGDC-STD-001-1998</metstdv>
		<mettc>local time</mettc>
		<metac>None</metac>
		<metuc>None</metuc>
		<langmeta Sync="TRUE">en</langmeta><metextns><onlink Sync="TRUE">http://www.esri.com/metadata/esriprof80.html</onlink><metprof Sync="TRUE">ESRI Metadata Profile</metprof></metextns></metainfo>
	<dataIdInfo><envirDesc Sync="TRUE">Microsoft Windows XP Version 5.1 (Build 2600) Service Pack 2; ESRI ArcCatalog 9.1.0.722</envirDesc><dataLang><languageCode Sync="TRUE" value="en"></languageCode></dataLang><idCitation><resTitle Sync="TRUE">capesouthpseudo_geo4m_wgs84.tif</resTitle><presForm><PresFormCd Sync="TRUE" value="005"></PresFormCd></presForm></idCitation><spatRpType><SpatRepTypCd Sync="TRUE" value="002"></SpatRepTypCd></spatRpType><dataExt><geoEle><GeoBndBox esriExtentType="native"><westBL Sync="TRUE">-69.999976</westBL><eastBL Sync="TRUE">-69.828314</eastBL><northBL Sync="TRUE">41.969982</northBL><southBL Sync="TRUE">41.616648</southBL><exTypeCode Sync="TRUE">1</exTypeCode></GeoBndBox></geoEle></dataExt><geoBox esriExtentType="decdegrees"><westBL Sync="TRUE">-69.999976</westBL><eastBL Sync="TRUE">-69.828314</eastBL><northBL Sync="TRUE">41.969982</northBL><southBL Sync="TRUE">41.616648</southBL><exTypeCode Sync="TRUE">1</exTypeCode></geoBox></dataIdInfo><mdLang><languageCode Sync="TRUE" value="en"></languageCode></mdLang><mdStanName Sync="TRUE">ISO 19115 Geographic Information - Metadata</mdStanName><mdStanVer Sync="TRUE">DIS_ESRI1.0</mdStanVer><mdChar><CharSetCd Sync="TRUE" value="004"></CharSetCd></mdChar><mdHrLv><ScopeCd Sync="TRUE" value="005"></ScopeCd></mdHrLv><mdHrLvName Sync="TRUE">dataset</mdHrLvName><distInfo><distributor><distorTran><onLineSrc><orDesc Sync="TRUE">002</orDesc><linkage Sync="TRUE">file://\\FLORIDA-DESKTOP\OFR2005_1048\web-content\data\backscatter\pseudocolor\geo\capesouthpseudo_geo4m_wgs84.tif</linkage><protocol Sync="TRUE">Local Area Network</protocol></onLineSrc><transSize Sync="TRUE">0.000</transSize></distorTran><distorFormat><formatName Sync="TRUE">Raster Dataset</formatName></distorFormat></distributor></distInfo><refSysInfo><RefSystem><refSysID><identCode Sync="TRUE">GCS_WGS_1984</identCode></refSysID></RefSystem></refSysInfo><spatRepInfo><GridSpatRep><numDims Sync="TRUE">2</numDims><cellGeo><CellGeoCd Sync="TRUE" value="002"></CellGeoCd></cellGeo><tranParaAv Sync="TRUE">1</tranParaAv><axDimProps><Dimen><dimName><DimNameTypCd Sync="TRUE" value="002"></DimNameTypCd></dimName><dimSize Sync="TRUE">3575</dimSize><dimResol><value Sync="TRUE">0.000048</value><uom><UomLength><uomName Sync="TRUE">Degree</uomName></UomLength></uom></dimResol></Dimen><Dimen><dimName><DimNameTypCd Sync="TRUE" value="001"></DimNameTypCd></dimName><dimSize Sync="TRUE">9833</dimSize><dimResol><value Sync="TRUE">0.000036</value><uom><UomLength><uomName Sync="TRUE">Degree</uomName></UomLength></uom></dimResol></Dimen></axDimProps></GridSpatRep></spatRepInfo><Esri><SyncDate>20060322</SyncDate><SyncTime>12421000</SyncTime><ModDate>20060322</ModDate><ModTime>12422200</ModTime></Esri><mdDateSt Sync="TRUE">20060322</mdDateSt></metadata>
