0.002515949597
0.000000000000
0.000000000000
-0.002256483915
-96.000234299716
29.500248381323
