<?xml version="1.0" encoding="ISO-8859-1"?>
<metadata>
	<idinfo>
		<citation>
			<citeinfo>
				<origin>U.S. Geological Survey</origin>
				<pubdate>2007</pubdate>
				<title>MOSAIC -  Composite Sidescan-Sonar Mosaic collected by the U.S. Geological Survey offshore of the Grand Strand, SC (1999 – 2003)  (GeoTIFF)</title>
				<edition>1.0</edition>
				<geoform>remote-sensing image</geoform>
				<serinfo>
					<sername>Open-File Report</sername>
					<issue>2005-1346</issue>
				</serinfo>
				<pubinfo>
					<pubplace>Woods Hole Science Center, Woods Hole, MA</pubplace>
					<publish>U.S. Geological Survey, Coastal and Marine Geology Program</publish>
				</pubinfo>
				<onlink>http://pubs.usgs.gov/of/2005/1346/arcgis/mosaic/mosaic.zip</onlink>
				<lworkcit>
					<citeinfo>
						<origin>Baldwin, W.E.</origin>
						<origin>Denny, J.F.</origin>
						<origin>Schwab, W.C.</origin>
						<origin>Gayes, P.T.</origin>
						<origin>Morton, R.A.</origin>
						<origin>Driscoll, N.W.</origin>
						<pubdate>2007</pubdate>
						<title>Geologic Framework Studies of South Carolina's Long Bay from Little River Inlet to Winyah Bay, 1999-2003; geospatial data release</title>
						<edition>1.0</edition>
						<serinfo>
							<sername>Open-File Report</sername>
							<issue>2005-1346</issue>
						</serinfo>
						<pubinfo>
							<pubplace>Woods Hole Science Center, Woods Hole, MA</pubplace>
							<publish>U.S. Geological Survey, Coastal and Marine Geology Program</publish>
						</pubinfo>
						<onlink>http://pubs.usgs.gov/of/2005/1346/</onlink>
					</citeinfo>
				</lworkcit>
				<ftname Sync="TRUE">mosaic.tif</ftname></citeinfo>
		</citation>
		<descript>
			<abstract>In 1999, the USGS, in partnership with the South Carolina Sea Grant Consortium, began a study to investigate processes affecting shoreline change along the northern coast of South Carolina, focusing on the Grand Strand region. Previous work along the U.S. Atlantic coast shows that the structure and composition of older geologic strata located seaward of the coast heavily influences the coastal behavior of areas with limited sediment supply, such as the Grand Strand. By defining this geologic framework and identifying the transport pathways and sinks of sediment, geoscientists are developing conceptual models of the present-day physical processes shaping the South Carolina coast. The primary objectives of this research effort are: 1) to provide a regional synthesis of the shallow geologic framework underlying the coastal upland, shoreface and inner continental shelf, and define its role in coastal evolution and modern beach behavior; 2) to identify and model the physical processes affecting coastal ocean circulation and sediment transport, and to define their role in shaping the modern shoreline; and 3) to identify sediment sources and transport pathways; leading to construction of a regional sediment budget.</abstract>
			<purpose>This data set contains the sidescan-sonar imagery collected offshore of the Grand Strand, SC 1999 - 2003.  These data are used in conjunction with surficial sediment analyses to define the sediment distribution within the survey area.</purpose>
			<langdata Sync="TRUE">en</langdata></descript>
		<timeperd>
			<timeinfo>
				<rngdates>
					<begdate>1999</begdate>
					<enddate>2003</enddate>
				</rngdates>
			</timeinfo>
			<current>ground condition</current>
		</timeperd>
		<status>
			<progress>Complete</progress>
			<update>None planned</update>
		</status>
		<spdom>
			<bounding>
				<westbc>-79.177101</westbc>
				<eastbc>-78.492031</eastbc>
				<northbc>33.876654</northbc>
				<southbc>33.143953</southbc>
			</bounding>
			<lboundng><leftbc Sync="TRUE">670000.000000</leftbc><rightbc Sync="TRUE">732000.000000</rightbc><bottombc Sync="TRUE">3670000.000000</bottombc><topbc Sync="TRUE">3750000.000000</topbc></lboundng></spdom>
		<keywords>
			<theme>
				<themekt>General</themekt>
				<themekey>U.S. Geological Survey</themekey>
				<themekey>USGS</themekey>
				<themekey>Woods Hole Science Center</themekey>
				<themekey>WHSC</themekey>
				<themekey>Coastal and Marine Geology Program</themekey>
				<themekey>CMGP</themekey>
				<themekey>sidescan-sonar</themekey>
				<themekey>sidescan</themekey>
				<themekey>side scan sonar</themekey>
				<themekey>backscatter</themekey>
				<themekey>GeoTIFF image</themekey>
				<themekey>grey scale</themekey>
				<themekey>composite mosaic</themekey>
			</theme>
			<theme>
				<themekt>ISO 19115 Topic Category</themekt>
				<themekey>oceans</themekey>
				<themekey>oceans and coastal</themekey>
				<themekey>oceans and estuaries</themekey>
				<themekey>imageryBaseMapsEarthCover</themekey>
				<themekey>geoscientificInformation</themekey>
			</theme>
			<place>
				<placekt>General</placekt>
				<placekey>South Carolina</placekey>
				<placekey>Grand Strand</placekey>
				<placekey>North Myrtle Beach</placekey>
				<placekey>Myrtle Beach</placekey>
				<placekey>Surfside</placekey>
				<placekey>Garden City</placekey>
				<placekey>Pawleys Island</placekey>
				<placekey>Waites Island</placekey>
				<placekey>Southeast United States</placekey>
				<placekey>United States</placekey>
				<placekey>Atlantic Ocean</placekey>
			</place>
		</keywords>
		<accconst>None</accconst>
		<useconst>The Public domain data from the U.S. Government are freely redistributable with proper metadata and source attribution. Please recognize the U.S. Geological Survey as the originator of the dataset.</useconst>
		<ptcontac>
			<cntinfo>
				<cntorgp>
					<cntorg>U.S. Geological Survey</cntorg>
					<cntper>Jane Denny</cntper>
				</cntorgp>
				<cntpos>Geologist</cntpos>
				<cntaddr>
					<addrtype>mailing and physical address</addrtype>
					<address>384 Woods Hole Road</address>
					<city>Woods Hole</city>
					<state>MA</state>
					<postal>02543-1598</postal>
					<country>USA</country>
				</cntaddr>
				<cntvoice>508-548-8700 x2311</cntvoice>
				<cntfax>508-457-2310</cntfax>
				<cntemail>jdenny@usgs.gov</cntemail>
			</cntinfo>
		</ptcontac>
		<browse>
			<browsen>http://pubs.usgs.gov/of/2005/1346/images/mosaic.jpg</browsen>
			<browsed>grey-scale image of sidescan-sonar mosaic</browsed>
			<browset>JPEG</browset>
		</browse>
		<native>Microsoft Windows XP Version 5.1 (Build 2600) Service Pack 2; ESRI ArcCatalog 9.1.0.780</native>
		<natvform Sync="TRUE">Raster Dataset</natvform></idinfo>
	<dataqual>
		<attracc>
			<attraccr>These data measure the acoustic reflectivity of the seafloor.  These values (Digital Number (DN)) are a relative measure of reflectivity within the study area and are internally consistent.</attraccr>
		</attracc>
		<logic>These are raster data; all sidescan-sonar data collected during USGS field efforts offshore of Myrtle Beach, SC 1999 – 2003 are included. Processing removed any spurious data.</logic>
		<complete>All sidescan-sonar data collected during USGS field efforts offshore of Myrtle Beach, SC 1999 – 2003 are included. Spurious data were removed during processing.</complete>
		<posacc>
			<horizpa>
				<horizpar>DGPS is assumed to be accurate within 1-2 meters. Standard GPS is assumed accurate within 5-10 meters. 99% of the positional data is DGPS. Unless noted, all GPS/DGPS data is referenced to WGS84 (NAD83). Slant-range distance is recorded between the sidescan-sonar tow vehicle and a sidemount rigged with an acoustic transponder. Offset between the sidemount and GPS antennae is measured. Basic trigonomic calculations use the slant-range offset to calculate a 'fish' (tow-vehicle) navigation. An assumption in these calculations is that the tow-vehicle is traveling directly behind the vessel; movement to port or starboard is not accounted for within 'fish' navigation. Thus, the horizontal accuracy of the sidescan-sonar tow-vehicle is 10 meters.</horizpar>
			</horizpa>
		</posacc>
		<lineage>
			<procstep>
				<procdesc>
The sidescan-sonar data were acquired with a Benthos (Datasonics) SIS 1000 CHIRP sonar and Edgetech DF-1000 dual-frequency sonar systems. The SIS-100 operates in a frequency range of 100 - 120 kHz; the DF-1000 operates at 100 and 500 kHz. The sidescan-sonar imagery offshore of the Grand Strand is comprised of data acquired on six geophysical cruises operated by the USGS during 1999 - 2003.

All sidescan-sonar data were logged digitally at a sample rate resulting in a 0.18-m pixel size in the across-track direction and approximately 0.14-m in the along-track direction following the methodology outlined in Danforth and others (1991). A median filtering routine (Malinverno and others, 1990) was applied to the sidescan-sonar data to remove speckle noise, resulting in a 0.73-m pixel size. The data for each survey were further processed and digitally mosaicked using PCI Geomatica Software and procedures described in Danforth and others (1991), Danforth (1997), and Paskevich (1992) resulting in an enhanced, geographically correct, sidescan-sonar mosaic with 2 meters/pixel resolution. The composite mosaic was exported as a TIFF image, with an associated ESRI world file.
</procdesc>
				<procdate>1999 - 2003</procdate>
				<proccont>
					<cntinfo>
						<cntperp>
							<cntper>Jane Denny</cntper>
							<cntorg>U.S. Geological Survey</cntorg>
						</cntperp>
						<cntpos>Geologist</cntpos>
						<cntaddr>
							<addrtype>mailing and physical address</addrtype>
							<address>384 Woods Hole Road</address>
							<city>Woods Hole</city>
							<state>MA</state>
							<postal>02543-1598</postal>
							<country>USA</country>
						</cntaddr>
						<cntvoice>508-548-8700 x2311</cntvoice>
						<cntfax>508-457-2310</cntfax>
						<cntemail>jdenny@usgs.gov</cntemail>
					</cntinfo>
				</proccont>
			</procstep>
		</lineage>
	</dataqual>
	<spdoinfo>
		<direct>Raster</direct>
		<rastinfo>
			<rasttype>Pixel</rasttype>
			<rowcount>20000</rowcount>
			<colcount>15500</colcount>
			<vrtcount>1</vrtcount>
			<rastxsz Sync="TRUE">4.000000</rastxsz><rastysz Sync="TRUE">4.000000</rastysz><rastbpp Sync="TRUE">8</rastbpp><rastorig Sync="TRUE">Upper Left</rastorig><rastcmap Sync="TRUE">FALSE</rastcmap><rastcomp Sync="TRUE">None</rastcomp><rastband Sync="TRUE">1</rastband><rastdtyp Sync="TRUE">pixel codes</rastdtyp><rastplyr Sync="TRUE">TRUE</rastplyr><rastifor Sync="TRUE">TIFF</rastifor></rastinfo>
	</spdoinfo>
	<spref>
		<horizsys>
			<planar>
				<planci>
					<plance>row and column</plance>
					<coordrep>
						<absres>4.000000</absres>
						<ordres>4.000000</ordres>
					</coordrep>
					<plandu>meters</plandu>
				</planci>
				<gridsys><gridsysn Sync="TRUE">Universal Transverse Mercator</gridsysn><utm><utmzone Sync="TRUE">17</utmzone><transmer><sfctrmer Sync="TRUE">0.999600</sfctrmer><longcm Sync="TRUE">-81.000000</longcm><latprjo Sync="TRUE">0.000000</latprjo><feast Sync="TRUE">500000.000000</feast><fnorth Sync="TRUE">0.000000</fnorth></transmer></utm></gridsys></planar>
			<geodetic>
				<horizdn>D_WGS_1984</horizdn>
				<ellips>WGS_1984</ellips>
				<semiaxis>6378137.000000</semiaxis>
				<denflat>298.257224</denflat>
			</geodetic>
			<cordsysn><geogcsn Sync="TRUE">GCS_WGS_1984</geogcsn><projcsn Sync="TRUE">WGS_1984_UTM_Zone_17N</projcsn></cordsysn></horizsys>
	</spref>
	<eainfo>
		<overview>
			<eaover>There are no attributes associated with a GEOTIFF image.  Image pixel values contain acoustic reflectivity values normalized to an 8-bit data range (0-255).  Low-backscatter is represented by dark tones (low values) and high-backscatter is represented by bright tones (high values).</eaover>
			<eadetcit>USGS</eadetcit>
		</overview>
	</eainfo>
	<distinfo>
		<distrib>
			<cntinfo>
				<cntorgp>
					<cntorg>U.S. Geological Survey</cntorg>
				</cntorgp>
				<cntaddr>
					<addrtype>mailing and physical address</addrtype>
					<address>384 Woods Hole Road</address>
					<city>Woods Hole</city>
					<state>MA</state>
					<postal>02543-1598</postal>
					<country>USA</country>
				</cntaddr>
				<cntvoice>508-548-8700</cntvoice>
				<cntfax>508-457-2310</cntfax>
			</cntinfo>
		</distrib>
		<resdesc>Downloadable Data</resdesc>
		<distliab>Although all data have been used by the USGS, no warranty, expressed or implied, is made by the USGS as to the accuracy of the data and/or related materials. The act of distribution shall not constitute any such warranty, and no responsibility is assumed by the USGS in the use of these data or related materials. Any use of trade, product, or firm names is for descriptive purposes only and does not imply endorsement by the U.S. Government.</distliab>
		<stdorder>
			<digform>
				<digtinfo>
					<formname>TIFF</formname>
					<formvern>ArcGIS 9.0</formvern>
					<formspec>GeoTIFF</formspec>
					<formcont>File contains sidescan-sonar imagery collected offshore of the Grand Strand, SC</formcont>
					<filedec>no compression applied</filedec>
					<transize>300 MB</transize>
					<dssize Sync="TRUE">0.000</dssize></digtinfo>
				<digtopt>
					<onlinopt>
						<computer>
							<networka>
								<networkr>http://pubs.usgs.gov/of/2005/1346/arcgis/mosaic/mosaic.zip</networkr>
							</networka>
						</computer>
						<accinstr>Data can be downloaded via the World Wide Web (WWW)</accinstr>
					</onlinopt>
					<offoptn>
						<offmedia>DVD-ROM</offmedia>
						<reccap>
							<recden>4.75</recden>
							<recdenu>Gbytes</recdenu>
						</reccap>
						<recfmt>UDF</recfmt>
					</offoptn>
				</digtopt>
			</digform>
			<fees>none</fees>
		</stdorder>
		<techpreq>This image is available as a GeoTIFF image with an accompanying world file. To utilize this data, the user must have an image viewer, image processing or GIS software package capable of importing a GeoTIFF image.</techpreq>
	</distinfo>
	<metainfo>
		<metd>20070123</metd>
		<metc>
			<cntinfo>
				<cntperp>
					<cntper>Jane Denny</cntper>
					<cntorg>U.S. Geological Survey</cntorg>
				</cntperp>
				<cntpos>Geologist</cntpos>
				<cntaddr>
					<addrtype>mailing and physical address</addrtype>
					<address>384 Woods Hole Road</address>
					<city>Woods Hole</city>
					<state>MA</state>
					<postal>02543-1598</postal>
					<country>USA</country>
				</cntaddr>
				<cntvoice>508-548-8700 x2311</cntvoice>
				<cntfax>508-457-2310</cntfax>
				<cntemail>jdenny@usgs.gov</cntemail>
			</cntinfo>
		</metc>
		<metstdn>FGDC Content Standards for Digital Geospatial Metadata</metstdn>
		<metstdv>FGDC-STD-001-1998</metstdv>
		<mettc>local time</mettc>
		<metac>None</metac>
		<metuc>None</metuc>
		<metextns>
			<onlink>http://www.esri.com/metadata/esriprof80.html</onlink>
			<metprof>ESRI Metadata Profile</metprof>
		</metextns>
		<langmeta Sync="TRUE">en</langmeta><metextns><onlink Sync="TRUE">http://www.esri.com/metadata/esriprof80.html</onlink><metprof Sync="TRUE">ESRI Metadata Profile</metprof></metextns></metainfo>
	<dataIdInfo><envirDesc Sync="TRUE">Microsoft Windows XP Version 5.1 (Build 2600) Service Pack 2; ESRI ArcCatalog 9.1.0.780</envirDesc><dataLang><languageCode Sync="TRUE" value="en"></languageCode></dataLang><idCitation><resTitle Sync="TRUE">mosaic.tif</resTitle><presForm><PresFormCd Sync="TRUE" value="005"></PresFormCd></presForm></idCitation><spatRpType><SpatRepTypCd Sync="TRUE" value="002"></SpatRepTypCd></spatRpType><dataExt><geoEle><GeoBndBox esriExtentType="native"><westBL Sync="TRUE">670000</westBL><eastBL Sync="TRUE">732000</eastBL><northBL Sync="TRUE">3750000</northBL><southBL Sync="TRUE">3670000</southBL><exTypeCode Sync="TRUE">1</exTypeCode></GeoBndBox></geoEle></dataExt><geoBox esriExtentType="decdegrees"><westBL Sync="TRUE">-79.177101</westBL><eastBL Sync="TRUE">-78.492031</eastBL><northBL Sync="TRUE">33.876654</northBL><southBL Sync="TRUE">33.143953</southBL><exTypeCode Sync="TRUE">1</exTypeCode></geoBox></dataIdInfo><mdLang><languageCode Sync="TRUE" value="en"></languageCode></mdLang><mdStanName Sync="TRUE">ISO 19115 Geographic Information - Metadata</mdStanName><mdStanVer Sync="TRUE">DIS_ESRI1.0</mdStanVer><mdChar><CharSetCd Sync="TRUE" value="004"></CharSetCd></mdChar><mdHrLv><ScopeCd Sync="TRUE" value="005"></ScopeCd></mdHrLv><mdHrLvName Sync="TRUE">dataset</mdHrLvName><distInfo><distributor><distorTran><onLineSrc><orDesc Sync="TRUE">002</orDesc><linkage Sync="TRUE">file://\\JANDENDTXP\D$\Projects\SC\Publications\OFR\OFR_2005-1346\arcgis\mosaic\mosaic.tif</linkage><protocol Sync="TRUE">Local Area Network</protocol></onLineSrc><transSize Sync="TRUE">0.000</transSize></distorTran><distorFormat><formatName Sync="TRUE">Raster Dataset</formatName></distorFormat></distributor></distInfo><refSysInfo><RefSystem><refSysID><identCode Sync="TRUE">WGS_1984_UTM_Zone_17N</identCode></refSysID></RefSystem></refSysInfo><spatRepInfo><GridSpatRep><numDims Sync="TRUE">2</numDims><axDimProps><Dimen><dimName><DimNameTypCd Sync="TRUE" value="002"></DimNameTypCd></dimName><dimSize Sync="TRUE">15500</dimSize><dimResol><value Sync="TRUE">4</value><uom><UomLength><uomName Sync="TRUE">Meter</uomName><conversionToISOstandardUnit Sync="TRUE">1 Meter = 1 Meter(s)</conversionToISOstandardUnit></UomLength></uom></dimResol></Dimen><Dimen><dimName><DimNameTypCd Sync="TRUE" value="001"></DimNameTypCd></dimName><dimSize Sync="TRUE">20000</dimSize><dimResol><value Sync="TRUE">4</value><uom><UomLength><uomName Sync="TRUE">Meter</uomName><conversionToISOstandardUnit Sync="TRUE">1 Meter = 1 Meter(s)</conversionToISOstandardUnit></UomLength></uom></dimResol></Dimen></axDimProps><cellGeo><CellGeoCd Sync="TRUE" value="002"></CellGeoCd></cellGeo><tranParaAv Sync="TRUE">1</tranParaAv></GridSpatRep></spatRepInfo><Esri><SyncDate>20070309</SyncDate><SyncTime>10361500</SyncTime><ModDate>20070309</ModDate><ModTime>10361500</ModTime></Esri><mdDateSt Sync="TRUE">20070309</mdDateSt></metadata>
