<?xml version="1.0"?>
<!--<!DOCTYPE metadata SYSTEM "http://www.esri.com/metadata/esriprof80.dtd">-->
<metadata xml:lang="en"><Esri><CreaDate>20071018</CreaDate><CreaTime>13180400</CreaTime><SyncOnce>FALSE</SyncOnce><SyncDate>20080116</SyncDate><SyncTime>09462600</SyncTime><ModDate>20080116</ModDate><ModTime>09462600</ModTime><DataProperties><lineage><Process Name="DefineProjection_2" ToolSource="C:\Program Files\ArcGIS\ArcToolbox\Toolboxes\Data Management Tools.tbx\DefineProjection" Date="20070604" Time="130254">DefineProjection \\Katmcmdtxp\h11321\ofr\data\bathymetry\utm\h11321_15m_utm.tif PROJCS['NAD_1983_UTM_Zone_19N',GEOGCS['GCS_North_American_1983',DATUM['D_North_American_1983',SPHEROID['GRS_1980',6378137.0,298.257222101]],PRIMEM['Greenwich',0.0],UNIT['Degree',0.0174532925199433]],PROJECTION['Transverse_Mercator'],PARAMETER['False_Easting',500000.0],PARAMETER['False_Northing',0.0],PARAMETER['Central_Meridian',-69.0],PARAMETER['Scale_Factor',0.9996],PARAMETER['Latitude_Of_Origin',0.0],UNIT['Meter',1.0]] \\Katmcmdtxp\h11321\ofr\data\bathymetry\utm\h11321_15m_utm.tif</Process><Process Name="DefineProjection_1" ToolSource="C:\Program Files\ArcGIS\ArcToolbox\Toolboxes\Data Management Tools.tbx\DefineProjection" Date="20071018" Time="131220">DefineProjection "Z:\Kate\Rhode Island Sound\h11321\bathy\45m\h11321_45m_utm.tif" PROJCS['NAD_1983_UTM_Zone_19N',GEOGCS['GCS_North_American_1983',DATUM['D_North_American_1983',SPHEROID['GRS_1980',6378137.0,298.257222101]],PRIMEM['Greenwich',0.0],UNIT['Degree',0.0174532925199433]],PROJECTION['Transverse_Mercator'],PARAMETER['False_Easting',500000.0],PARAMETER['False_Northing',0.0],PARAMETER['Central_Meridian',-69.0],PARAMETER['Scale_Factor',0.9996],PARAMETER['Latitude_Of_Origin',0.0],UNIT['Meter',1.0]] "Z:\Kate\Rhode Island Sound\h11321\bathy\45m\h11321_45m_utm.tif"</Process></lineage></DataProperties><MetaID>{AC7F79D4-C947-469C-9C63-B1B87D66940C}</MetaID></Esri><idinfo><native Sync="TRUE">Microsoft Windows XP Version 5.1 (Build 2600) Service Pack 2; ESRI ArcCatalog 9.2.4.1420</native><descript><langdata Sync="TRUE">en</langdata><abstract>The United States Geological Survey (USGS) is working cooperatively with the National Oceanic and Atmospheric Administration (NOAA) to interpret the surficial geology in estuaries along the coast of the northeastern United States. The purpose of our present study is to define the sea floor morphology and sedimentary environments in an area of central Rhode Island Sound using sidescan-sonar imagery, bathymetry data, and seismic records. The mosaic, bathymetry, and their interpretations serve many purposes, including: (1) defining the geological variability of the sea floor, which is one of the primary controls of benthic habitat diversity; (2) improving our understanding of the processes that control the distribution and transport of bottom sediments and the distribution of benthic habitats and associated infaunal community structures; and (3) providing a detailed framework for future research, monitoring, and management activities. The sidescan-sonar mosaics and bathymetry images also serve as base maps for subsequent sedimentological, geochemical, and biological observations, because precise information on environmental setting is important for selection of sampling sites and for accurate interpretations of point measurements.</abstract><purpose>To release an image of the bathymetry generated from NOAA Survey H11321 in central Rhode Island Sound, Rhode Island</purpose></descript><citation><citeinfo><origin>U.S. Geological Survey</origin><pubdate>2008</pubdate><title>H11321_UTM.TIF: Grayscale GeoTIFF Image of the Bathymetry of National Oceanic and Atmospheric Administration (NOAA) Survey H11321 in Central Rhode Island Sound (UTM)</title><ftname Sync="TRUE">h11321_utm.tif</ftname><geoform Sync="TRUE">remote-sensing image</geoform><edition>1.0</edition><serinfo><sername>Open-File Report</sername><issue>2007-1366</issue></serinfo><pubinfo><pubplace>Woods Hole Science Center, Woods Hole, MA</pubplace><publish>U.S. Geological Survey, Coastal and Marine Geology Program</publish></pubinfo><lworkcit><citeinfo><origin>K.Y. McMullen</origin><origin>L.J. Poppe</origin><origin>J.F. Denny</origin><origin>T.A. Haupt</origin><origin>J.M. Crocker</origin><pubdate>2008</pubdate><title>Sidescan-Sonar Imagery and Surficial Geologic Interpretations of the Sea Floor in Central Rhode Island Sound</title><edition>1.0</edition><serinfo><sername>Open-File Report</sername><issue>2007-1366</issue></serinfo><pubinfo><pubplace>Woods Hole Science Center, Woods Hole, MA</pubplace><publish>U.S. Geological Survey, Coastal and Marine Geology Program</publish></pubinfo><onlink>http://pubs.usgs.gov/of/2007/1366/</onlink></citeinfo></lworkcit><onlink>http://pubs.usgs.gov/of/2007/1366/data/bathymetry/utm/h11321_utm/h11321_utm.zip</onlink><onlink>http://pubs.usgs.gov/of/2007/1366/html/catalog.html</onlink><origin>National Oceanic and Atmospheric Administration</origin></citeinfo></citation><timeperd><current>ground condition</current><timeinfo><rngdates><begdate>May 18, 2004</begdate><enddate>July 7, 2004</enddate></rngdates></timeinfo></timeperd><status><progress>Complete</progress><update>None planned</update></status><spdom><bounding><westbc Sync="TRUE">-71.370523</westbc><eastbc Sync="TRUE">-71.182922</eastbc><northbc Sync="TRUE">41.376207</northbc><southbc Sync="TRUE">41.263208</southbc></bounding><lboundng><leftbc Sync="TRUE">301754.943065</leftbc><rightbc Sync="TRUE">317149.443065</rightbc><bottombc Sync="TRUE">4570677.355106</bottombc><topbc Sync="TRUE">4582827.858869</topbc></lboundng></spdom><keywords><theme><themekt>General</themekt><themekey>U.S. Geological Survey</themekey><themekey>USGS</themekey><themekey>National Oceanic and Atmospheric Administration</themekey><themekey>NOAA</themekey><themekey>Woods Hole Science Center</themekey><themekey>NOAA Ship RUDE</themekey><themekey>bathymetry</themekey><themekey>Survey H11321</themekey><themekey>Coastal and Marine Geology Program</themekey><themekey>CMGP</themekey><themekey>WHSC</themekey><themekey>depth</themekey><themekey>GeoTIFF image</themekey><themekey>UTM</themekey><themekey>Open-File Report 2007-1366</themekey><themekey>OFR 2007-1366</themekey></theme><theme><themekey>oceans</themekey><themekey>oceans and coastal</themekey><themekey>oceans and estuaries</themekey><themekey>imageryBaseMapsEarthCover</themekey><themekt>ISO 19115 Topic Category</themekt><themekey>elevation</themekey><themekey>geoscientificInformation</themekey></theme><place><placekey>North America</placekey><placekey>United States</placekey><placekey>Atlantic Ocean</placekey><placekey>Rhode Island</placekey><placekey>Rhode Island Sound</placekey><placekey>U.S. East Coast</placekey><placekt>General</placekt><placekey>Northeast United States</placekey><placekey>North Atlantic Ocean</placekey></place></keywords><accconst>None</accconst><useconst>Public domain data are freely redistributable with proper metadata and source attribution. Please recognize the U.S. Geological Survey and National Oceanic and Atmospheric Administration as the source of this information.</useconst><natvform Sync="TRUE">Raster Dataset</natvform><ptcontac><cntinfo><cntorgp><cntorg>U.S. Geological Survey</cntorg><cntper>Katherine McMullen</cntper></cntorgp><cntpos>Sediment Lab Technician</cntpos><cntaddr><addrtype>mailing and physical address</addrtype><address>384 Woods Hole Road</address><city>Woods Hole</city><state>MA</state><postal>02543</postal><country>USA</country></cntaddr><cntvoice>(508) 548-8700 x2277</cntvoice><cntfax>(508) 457-2310</cntfax><cntemail>kmcmullen@usgs.gov</cntemail></cntinfo></ptcontac><datacred>Please acknowledge National Oceanic and Atmospheric Administration (NOAA) and the NOAA Ship RUDE as the originators of the data from which this dataset was derived. </datacred><browse><browsen>http://pubs.usgs.gov/of/2007/1366/data/bathymetry/utm/h11321_utm/h11321_utm.gif</browsen><browsed>Overview of the UTM bathymetry image from NOAA Survey H11321</browsed><browset>GIF</browset></browse></idinfo><dataIdInfo><envirDesc Sync="TRUE">Microsoft Windows XP Version 5.1 (Build 2600) Service Pack 2; ESRI ArcCatalog 9.2.4.1420</envirDesc><dataLang><languageCode Sync="TRUE" value="en"></languageCode></dataLang><idCitation><resTitle Sync="TRUE">h11321_utm.tif</resTitle><presForm><PresFormCd Sync="TRUE" value="005"></PresFormCd></presForm></idCitation><spatRpType><SpatRepTypCd Sync="TRUE" value="002"></SpatRepTypCd></spatRpType><dataExt><geoEle><GeoBndBox esriExtentType="native"><westBL Sync="TRUE">301754.943065</westBL><eastBL Sync="TRUE">317149.443065</eastBL><northBL Sync="TRUE">4582827.858869</northBL><southBL Sync="TRUE">4570677.355106</southBL><exTypeCode Sync="TRUE">1</exTypeCode></GeoBndBox></geoEle></dataExt><geoBox esriExtentType="decdegrees"><westBL Sync="TRUE">-71.370523</westBL><eastBL Sync="TRUE">-71.182922</eastBL><northBL Sync="TRUE">41.376207</northBL><southBL Sync="TRUE">41.263208</southBL><exTypeCode Sync="TRUE">1</exTypeCode></geoBox></dataIdInfo><metainfo><langmeta Sync="TRUE">en</langmeta><metstdn Sync="TRUE">FGDC Content Standards for Digital Geospatial Metadata</metstdn><metstdv Sync="TRUE">FGDC-STD-001-1998</metstdv><mettc Sync="TRUE">local time</mettc><metc><cntinfo><cntorgp><cntper>Katherine McMullen</cntper><cntorg>U.S. Geological Survey</cntorg></cntorgp><cntaddr><addrtype>mailing and physical address</addrtype><city>Woods Hole</city><state>MA</state><postal>02543</postal><address>384 Woods Hole Road</address><country>USA</country></cntaddr><cntvoice>(508) 548-8700 x2277</cntvoice><cntpos>Sediment Lab Technician</cntpos><cntfax>(508) 457-2310</cntfax><cntemail>kmcmullen@usgs.gov</cntemail></cntinfo></metc><metd Sync="TRUE">20080116</metd><metac>None</metac><metuc>None</metuc><metextns><onlink Sync="TRUE">http://www.esri.com/metadata/esriprof80.html</onlink><metprof Sync="TRUE">ESRI Metadata Profile</metprof></metextns></metainfo><mdLang><languageCode Sync="TRUE" value="en"></languageCode></mdLang><mdStanName Sync="TRUE">ISO 19115 Geographic Information - Metadata</mdStanName><mdStanVer Sync="TRUE">DIS_ESRI1.0</mdStanVer><mdChar><CharSetCd Sync="TRUE" value="004"></CharSetCd></mdChar><mdHrLv><ScopeCd Sync="TRUE" value="005"></ScopeCd></mdHrLv><mdHrLvName Sync="TRUE">dataset</mdHrLvName><distInfo><distributor><distorTran><onLineSrc><linkage Sync="TRUE">file://\\KATMCMDTXP2\D\h11321\ofr\data\bathymetry\utm\h11321_utm\h11321_utm.tif</linkage><protocol Sync="TRUE">Local Area Network</protocol><orDesc Sync="TRUE">002</orDesc></onLineSrc><transSize Sync="TRUE">0.000</transSize></distorTran><distorFormat><formatName Sync="TRUE">Raster Dataset</formatName></distorFormat></distributor></distInfo><distinfo><resdesc>Downloadable Data: bathymetric image from NOAA Survey H11321 (UTM)</resdesc><stdorder><digform><digtinfo><transize Sync="TRUE">0.000</transize><dssize Sync="TRUE">0.000</dssize><formname>TIFF</formname><formspec>GeoTIFF</formspec><formcont>A zip file containing the GeoTIFF image, world file and accompanying metadata files. </formcont><filedec>zip archive</filedec></digtinfo><digtopt><offoptn><offmedia>DVD-ROM</offmedia><reccap><recden>4.75</recden><recdenu>Gbytes</recdenu></reccap><recfmt>UDF</recfmt><compat>The user must have a system with a DVD capable of reading an UDF standard DVD-R disk</compat></offoptn><onlinopt><computer><networka><networkr>http://pubs.usgs.gov/of/2007/1366/data/bathymetry/utm/h11321_utm/h11321_utm.zip</networkr><networkr>http://pubs.usgs.gov/of/2007/1366/html/catalog.html</networkr></networka></computer><accinstr>Data are downloadable via the World Wide Web (WWW). </accinstr></onlinopt></digtopt></digform><fees>None</fees></stdorder><distrib><cntinfo><cntperp><cntper>Lawrence Poppe</cntper><cntorg>U.S. Geological Survey</cntorg></cntperp><cntpos>Geologist</cntpos><cntaddr><addrtype>mailing and physical address</addrtype><address>384 Woods Hole Road</address><city>Woods Hole</city><state>MA</state><postal>02543</postal><country>USA</country></cntaddr><cntvoice>(508) 548-8700 x2314</cntvoice><cntfax>(508) 457-2310</cntfax><cntemail>lpoppe@usgs.gov</cntemail></cntinfo></distrib><distliab>Although this dataset has been used by the USGS and NOAA, no warranty, expressed or implied, is made by the USGS or NOAA as to the accuracy of the data and/or related materials. The act of distribution shall not constitute any such warranty, and no responsibility is assumed by the USGS or NOAA in the use of these data or related materials.</distliab><techpreq>This image is available as a GeoTIFF image with an accompanying world file. To utilize this data, the user must have an image viewer, image processing, or GIS software package capable of importing a GeoTIFF image.</techpreq><availabl><timeinfo><sngdate><caldate>2008</caldate></sngdate></timeinfo></availabl></distinfo><spdoinfo><direct Sync="TRUE">Raster</direct><rastinfo><rasttype Sync="TRUE">Pixel</rasttype><rowcount Sync="TRUE">6118</rowcount><colcount Sync="TRUE">7751</colcount><rastxsz Sync="TRUE">1.986131</rastxsz><rastysz Sync="TRUE">1.986025</rastysz><rastbpp Sync="TRUE">8</rastbpp><vrtcount Sync="TRUE">1</vrtcount><rastorig Sync="TRUE">Upper Left</rastorig><rastcmap Sync="TRUE">TRUE</rastcmap><rastcomp Sync="TRUE">None</rastcomp><rastband Sync="TRUE">1</rastband><rastdtyp Sync="TRUE">pixel codes</rastdtyp><rastplyr Sync="TRUE">TRUE</rastplyr><rastifor Sync="TRUE"></rastifor></rastinfo></spdoinfo><spatRepInfo><GridSpatRep><numDims Sync="TRUE">2</numDims><cellGeo><CellGeoCd Sync="TRUE" value="002"></CellGeoCd></cellGeo><tranParaAv Sync="TRUE">1</tranParaAv><axDimProps><Dimen><dimName><DimNameTypCd Sync="TRUE" value="002"></DimNameTypCd></dimName><dimSize Sync="TRUE">7751</dimSize><dimResol><value Sync="TRUE">1.986131</value><uom><UomLength><uomName Sync="TRUE">Meter</uomName><conversionToISOstandardUnit Sync="TRUE">1 Meter = 1 Meter(s)</conversionToISOstandardUnit></UomLength></uom></dimResol></Dimen><Dimen><dimName><DimNameTypCd Sync="TRUE" value="001"></DimNameTypCd></dimName><dimSize Sync="TRUE">6118</dimSize><dimResol><value Sync="TRUE">1.986025</value><uom><UomLength><uomName Sync="TRUE">Meter</uomName><conversionToISOstandardUnit Sync="TRUE">1 Meter = 1 Meter(s)</conversionToISOstandardUnit></UomLength></uom></dimResol></Dimen></axDimProps></GridSpatRep></spatRepInfo><spref><horizsys><planar><planci><plance Sync="TRUE">row and column</plance><coordrep><absres>1.9861308</absres><ordres>1.9860255</ordres></coordrep><plandu Sync="TRUE">meters</plandu></planci><gridsys><gridsysn Sync="TRUE">Universal Transverse Mercator</gridsysn><utm><utmzone Sync="TRUE">19</utmzone><transmer><sfctrmer Sync="TRUE">0.999600</sfctrmer><longcm Sync="TRUE">-69.000000</longcm><latprjo Sync="TRUE">0.000000</latprjo><feast Sync="TRUE">500000.000000</feast><fnorth Sync="TRUE">0.000000</fnorth></transmer></utm></gridsys></planar><cordsysn><geogcsn Sync="TRUE">GCS_North_American_1983</geogcsn><projcsn Sync="TRUE">NAD_1983_UTM_Zone_19N</projcsn></cordsysn><geodetic><horizdn Sync="TRUE">North American Datum of 1983</horizdn><ellips Sync="TRUE">Geodetic Reference System 80</ellips><semiaxis Sync="TRUE">6378137.000000</semiaxis><denflat Sync="TRUE">298.257222</denflat></geodetic></horizsys></spref><mdDateSt Sync="TRUE">20080116</mdDateSt><dataqual><lineage><srcinfo><srccite><citeinfo><origin>National Oceanic and Atmospheric Administration</origin><pubdate>Unpublished Material</pubdate><title>H11321_1m_UTM19NAD83.txt</title></citeinfo></srccite><typesrc>DVD-ROM</typesrc><srctime><timeinfo><sngdate><caldate>2004</caldate></sngdate></timeinfo><srccurr>ground condition</srccurr></srctime><srccitea>H11321_1m_UTM19NAD83.txt</srccitea><srccontr>Original processed shallow-water multibeam bathymetric data. </srccontr></srcinfo><procstep><proccont><cntinfo><cntorgp><cntorg>Atlantic Hydrographic Branch, NOAA</cntorg></cntorgp><cntaddr><addrtype>mailing address</addrtype><address>439 West York Street</address><city>Norfolk</city><state>VA</state><postal>23510</postal><country>USA</country></cntaddr></cntinfo></proccont><procdesc>The multibeam data for this survey were acquired in XTF (extended Triton data format) and recorded digitally through an ISIS data acquisition system. An Odom Echotrac DF3200 MKII dual-beam echo sounder operating at 24 and 200 kHz acquired the sounding data. In areas of interest, shallow-water multibeam echo-sounder data were acquired with a Reson SeaBat 8125 operating at 455 kHz. Once digitally recorded, the XTF data were processed using CARIS HIPS/SIPS software to quality control the data and to incorporate sound velocity and tidal corrections. Data were gridded to 1 m; vertical datum is mean lower low water, X and Y units are meters, UTM zone 19, NAD83.</procdesc><procdate>2004</procdate><srcprod>H11321_1m_UTM19NAD83.txt</srcprod></procstep><procstep><proccont><cntinfo><cntperp><cntper>Katherine McMullen</cntper><cntorg>U.S. Geological Survey</cntorg></cntperp><cntpos>Sediment Lab Technician</cntpos><cntaddr><addrtype>mailing and physical address</addrtype><address>384 Woods Hole Road</address><city>Woods Hole</city><state>MA</state><postal>02543</postal><country>USA</country></cntaddr><cntvoice>(508) 548-8700 x2277</cntvoice><cntfax>(508) 457-2310</cntfax><cntemail>kmcmullen@usgs.gov</cntemail></cntinfo></proccont><procdesc>Fledermaus was used to regrid H11321 bathymetry with 45-m resolution. A cell size of 45 m and weight diameter of 3 were used. The surface was exported as an ArcView Grid.</procdesc><srcused>H11321_1m_UTM19NAD83.txt</srcused><procdate>2007</procdate><srcprod>H11321_utm45m</srcprod><procsv>Fledermaus</procsv></procstep><procstep><proccont><cntinfo><cntperp><cntper>Katherine McMullen</cntper><cntorg>U.S. Geological Survey</cntorg></cntperp><cntpos>Sediment Lab Technician</cntpos><cntaddr><addrtype>mailing and physical address</addrtype><address>384 Woods Hole Road</address><city>Woods Hole</city><state>MA</state><postal>02543</postal><country>USA</country></cntaddr><cntvoice>(508) 548-8700 x2277</cntvoice><cntfax>(508) 457-2310</cntfax><cntemail>kmcmullen@usgs.gov</cntemail></cntinfo></proccont><procdesc>A GeoTIFF image that represents the 45-m bathymetry was created using file, export map from the bathymetry grid in ArcMap 9.2.</procdesc><srcused>h11321 _utm45m</srcused><procdate>2007</procdate><srcprod>h11321_utm.tif</srcprod><procsv>ArcGIS 9.2</procsv></procstep></lineage><complete>All collected data were processed and used to produce the dataset.</complete><posacc><horizpa><horizpar>Navigation was by differential GPS</horizpar></horizpa></posacc></dataqual><eainfo><detailed Name=""><attr><attrlabl Sync="TRUE">Green</attrlabl><attalias Sync="TRUE">Green</attalias><attrtype Sync="TRUE">Double</attrtype><attwidth Sync="TRUE">0</attwidth><atprecis Sync="TRUE">0</atprecis><attscale Sync="TRUE">0</attscale></attr><attr><attrlabl Sync="TRUE">Blue</attrlabl><attalias Sync="TRUE">Blue</attalias><attrtype Sync="TRUE">Double</attrtype><attwidth Sync="TRUE">0</attwidth><atprecis Sync="TRUE">0</atprecis><attscale Sync="TRUE">0</attscale></attr><enttyp><enttypt Sync="TRUE">Table</enttypt><enttypc Sync="TRUE">256</enttypc><enttypl Sync="TRUE"></enttypl></enttyp><attr><attrlabl Sync="TRUE">Value</attrlabl><attalias Sync="TRUE">Value</attalias><attrtype Sync="TRUE">Integer</attrtype><attwidth Sync="TRUE">0</attwidth><atprecis Sync="TRUE">0</atprecis><attscale Sync="TRUE">0</attscale></attr><attr><attrlabl Sync="TRUE">Red</attrlabl><attalias Sync="TRUE">Red</attalias><attrtype Sync="TRUE">Double</attrtype><attwidth Sync="TRUE">0</attwidth><atprecis Sync="TRUE">0</atprecis><attscale Sync="TRUE">0</attscale></attr><attr><attrlabl Sync="TRUE">ObjectID</attrlabl><attalias Sync="TRUE">ObjectID</attalias><attrtype Sync="TRUE">OID</attrtype><attwidth Sync="TRUE">4</attwidth><atprecis Sync="TRUE">0</atprecis><attscale Sync="TRUE">0</attscale><attrdef Sync="TRUE">Internal feature number.</attrdef><attrdefs Sync="TRUE">ESRI</attrdefs><attrdomv><udom Sync="TRUE">Sequential unique whole numbers that are automatically generated.</udom></attrdomv></attr></detailed></eainfo><refSysInfo><RefSystem><refSysID><identCode Sync="TRUE">NAD_1983_UTM_Zone_19N</identCode></refSysID></RefSystem></refSysInfo></metadata>
