<?xml version="1.0"?>
<!--<!DOCTYPE metadata SYSTEM "http://www.esri.com/metadata/esriprof80.dtd">-->
<metadata xml:lang="en"><Esri><CreaDate>20071018</CreaDate><CreaTime>14142100</CreaTime><SyncOnce>FALSE</SyncOnce><SyncDate>20071213</SyncDate><SyncTime>12521300</SyncTime><ModDate>20071213</ModDate><ModTime>12521300</ModTime><MetaID>{94428315-CD0D-4DAA-AE5E-0834E96DA91C}</MetaID></Esri><idinfo><native Sync="TRUE">Microsoft Windows XP Version 5.1 (Build 2600) Service Pack 2; ESRI ArcCatalog 9.2.2.1350</native><descript><langdata Sync="TRUE">en</langdata><abstract>The United States Geological Survey (USGS) is working cooperatively with the National Oceanic and Atmospheric Administration (NOAA) to interpret the surficial geology in estuaries along the coast of the northeastern United States. The purpose of our present study is to define the sea floor morphology and sedimentary environments in an area of Rhode Island Sound using sidescan sonar imagery, multibeam bathymetry, and seismic records. The mosaic, bathymetry, and their interpretations serve many purposes, including: (1) defining the geological variability of the sea floor, which is one of the primary controls of benthic habitat diversity; (2) improving our understanding of the processes that control the distribution and transport of bottom sediments and their distribution of benthic habitats and associated infaunal community structures; and (3) providing a detailed framework for future research, monitoring, and management activities. The sidescan sonar mosaics and bathymetry images also serve as base maps for subsequent sedimentological, geochemical, and biological observations, because precise information on environmental setting is important for selection of sampling sites and for accurate interpretations of point measurements.</abstract><purpose>This GIS overlay is a component of the H11321 Survey, Rhode Island Sound, GIS database and contains the completed sidescan sonar mosaic for the study area. Light tones represent relatively harder returns, higher backscatter, and generally coarser sediments. Dark tones represent relatively softer returns, lower backscatter, and generally finer grained sediments.</purpose></descript><citation><citeinfo><origin>U.S. Geological Survey</origin><pubdate>2008</pubdate><title>H13321_1M_SSS_UTM.TIF: 1-m Sidescan-Sonar Image of National Oceanic and Atmospheric Administration (NOAA) Survey H11321 (UTM)</title><ftname Sync="TRUE">H13321_1m_sss_utm.tif</ftname><geoform Sync="TRUE">remote-sensing image</geoform><origin>National Oceanic and Atmospheric Administration</origin><edition>1.0</edition><serinfo><sername>Open-File Report</sername><issue>2007-1366</issue></serinfo><pubinfo><pubplace>Woods Hole Science Center, Woods Hole, MA</pubplace><publish>U.S. Geological Survey, Coastal and Marine Geology Program</publish></pubinfo><lworkcit><citeinfo><origin>K.Y. McMullen</origin><origin>L.J. Poppe</origin><origin>J.F. Denny</origin><origin>T.A. Haupt</origin><origin>J.M. Crocker</origin><pubdate>2008</pubdate><title>Sidescan-Sonar Imagery and Surficial Geologic Interpretations of the Sea Floor in Central Rhode Island Sound</title><edition>1.0</edition><serinfo><sername>Open-File Report</sername><issue>2007-1366</issue></serinfo><pubinfo><pubplace>Woods Hole Science Center, Woods Hole, MA</pubplace><publish>U.S. Geological Survey, Coastal and Marine Geology Program</publish></pubinfo><onlink>http://pubs.usgs.gov/of/2007/1366/</onlink></citeinfo></lworkcit><onlink>http://pubs.usgs.gov/of/2007/1366/data/sidescan/utm/h11321_1m_sss_utm/h13321_1m_sss_utm.zip</onlink><onlink>http://pubs.usgs.gov/of/2007/1366/html/catalog.html</onlink></citeinfo></citation><timeperd><current>ground condition</current><timeinfo><sngdate><caldate>2004</caldate></sngdate></timeinfo></timeperd><status><progress>Complete</progress><update>None planned</update></status><spdom><bounding><westbc Sync="TRUE">-71.367292</westbc><eastbc Sync="TRUE">-71.188532</eastbc><northbc Sync="TRUE">41.367753</northbc><southbc Sync="TRUE">41.270672</southbc></bounding><lboundng><leftbc Sync="TRUE">302000.000000</leftbc><rightbc Sync="TRUE">316700.000000</rightbc><bottombc Sync="TRUE">4571500.000000</bottombc><topbc Sync="TRUE">4581900.000000</topbc></lboundng></spdom><keywords><theme><themekt>General</themekt><themekey>U.S. Geological Survey</themekey><themekey>USGS</themekey><themekey>Coastal and Marine Geology Program</themekey><themekey>CMGP</themekey><themekey>Woods Hole Science Center</themekey><themekey>WHSC</themekey><themekey>National Oceanic and Atmospheric Administration</themekey><themekey>NOAA</themekey><themekey>NOAA Ship RUDE</themekey><themekey>GeoTIFF</themekey><themekey>sidescan sonar mosaic</themekey><themekey>image</themekey><themekey>gray-scale image</themekey><themekey>backscatter</themekey></theme><place><placekey>Rhode Island Sound</placekey><placekey>Rhode Island</placekey><placekey>northeast United States</placekey><placekey>U.S. East Coast</placekey><placekey>United States</placekey><placekey>North America</placekey><placekey>Atlantic Ocean</placekey><placekt>General</placekt><placekey>North Atlantic Ocean</placekey></place><theme><themekey>oceans and estuaries</themekey><themekey>geoscientificInformation</themekey><themekt>ISO 19115 Topic Category</themekt><themekey>imageryBaseMapsEarthCover</themekey></theme></keywords><accconst>None</accconst><useconst>Public domain data are freely redistributable with proper metadata and source attribution. Please recognize the National Oceanic and Atmospheric Administration (NOAA) as the originator of this dataset. </useconst><natvform Sync="TRUE">Raster Dataset</natvform><ptcontac><cntinfo><cntperp><cntper>Katherine McMullen</cntper><cntorg>U.S. Geological Survey</cntorg></cntperp><cntpos>Sediment Lab Technician</cntpos><cntaddr><addrtype>mailing and physical address</addrtype><address>384 Woods Hole Road</address><city>Woods Hole</city><state>MA</state><postal>02543</postal><country>USA</country></cntaddr><cntvoice>(508) 548-8700 x2277</cntvoice><cntfax>(508) 457-2310</cntfax><cntemail>kmcmullen@usgs.gov</cntemail></cntinfo></ptcontac><browse><browsed>Overview of sidescan sonar mosaic of NOAA Survey H11321 (UTM)</browsed><browset>GIF</browset><browsen>http://pubs.usgs.gov/of/2007/1366/data/sidescan/utm/h11321_1m_sss_utm/h11321_1m_sss_utm.gif</browsen></browse></idinfo><dataIdInfo><envirDesc Sync="TRUE">Microsoft Windows XP Version 5.1 (Build 2600) Service Pack 2; ESRI ArcCatalog 9.2.2.1350</envirDesc><dataLang><languageCode Sync="TRUE" value="en"></languageCode></dataLang><idCitation><resTitle Sync="TRUE">H13321_1m_sss_utm.tif</resTitle><presForm><PresFormCd Sync="TRUE" value="005"></PresFormCd></presForm></idCitation><spatRpType><SpatRepTypCd Sync="TRUE" value="002"></SpatRepTypCd></spatRpType><dataExt><geoEle><GeoBndBox esriExtentType="native"><westBL Sync="TRUE">302000</westBL><eastBL Sync="TRUE">316700</eastBL><northBL Sync="TRUE">4581900</northBL><southBL Sync="TRUE">4571500</southBL><exTypeCode Sync="TRUE">1</exTypeCode></GeoBndBox></geoEle></dataExt><geoBox esriExtentType="decdegrees"><westBL Sync="TRUE">-71.367292</westBL><eastBL Sync="TRUE">-71.188532</eastBL><northBL Sync="TRUE">41.367753</northBL><southBL Sync="TRUE">41.270672</southBL><exTypeCode Sync="TRUE">1</exTypeCode></geoBox></dataIdInfo><metainfo><langmeta Sync="TRUE">en</langmeta><metstdn Sync="TRUE">FGDC Content Standards for Digital Geospatial Metadata</metstdn><metstdv Sync="TRUE">FGDC-STD-001-1998</metstdv><mettc Sync="TRUE">local time</mettc><metc><cntinfo><cntorgp><cntper>Katherine McMullen</cntper><cntorg>U.S. Geological Survey</cntorg></cntorgp><cntaddr><addrtype>mailing and physical address</addrtype><city>Woods Hole</city><state>MA</state><postal>02543</postal><address>384 Woods Hole Road</address><country>USA</country></cntaddr><cntvoice>(508) 548-8700 x2277</cntvoice><cntpos>Sediment Lab Technician</cntpos><cntfax>(508) 457-2310</cntfax><cntemail>kmcmullen@usgs.gov</cntemail></cntinfo></metc><metac>None</metac><metuc>None</metuc><metd Sync="TRUE">20071213</metd><metextns><onlink Sync="TRUE">http://www.esri.com/metadata/esriprof80.html</onlink><metprof Sync="TRUE">ESRI Metadata Profile</metprof></metextns></metainfo><mdLang><languageCode Sync="TRUE" value="en"></languageCode></mdLang><mdStanName Sync="TRUE">ISO 19115 Geographic Information - Metadata</mdStanName><mdStanVer Sync="TRUE">DIS_ESRI1.0</mdStanVer><mdChar><CharSetCd Sync="TRUE" value="004"></CharSetCd></mdChar><mdHrLv><ScopeCd Sync="TRUE" value="005"></ScopeCd></mdHrLv><mdHrLvName Sync="TRUE">dataset</mdHrLvName><distinfo><resdesc>Downloadable Data: 1-m sidescan-sonar image of Survey H11321</resdesc><stdorder><digform><digtinfo><transize Sync="TRUE">0.000</transize><dssize Sync="TRUE">0.000</dssize><formname>TIFF</formname><formspec>GeoTIFF</formspec><formcont>A zip file containing the GeoTIFF image, world file and accompanying metadata files.</formcont><filedec>zip archive</filedec></digtinfo><digtopt><onlinopt><computer><networka><networkr>http://pubs.usgs.gov/of/2007/1366/data/sidescan/utm/h11321_1m_sss_utm/h11321_1m_sss_utm.zip</networkr><networkr>http://pubs.usgs.gov/of/2007/1366/html/catalog.html</networkr></networka></computer><accinstr>Data are downloadable via the World Wide Web (WWW). </accinstr></onlinopt><offoptn><offmedia>DVD-ROM</offmedia><reccap><recden>4.75</recden><recdenu>Gbytes</recdenu></reccap><recfmt>UDF</recfmt></offoptn></digtopt></digform><fees>None</fees></stdorder><distrib><cntinfo><cntperp><cntper>Lawrence Poppe</cntper><cntorg>U.S. Geological Survey</cntorg></cntperp><cntpos>Geologist</cntpos><cntaddr><addrtype>mailing and physical address</addrtype><address>384 Woods Hole Road</address><city>Woods Hole</city><state>MA</state><postal>02543</postal><country>USA</country></cntaddr><cntvoice>(508) 548-8700 x2314</cntvoice><cntfax>(508) 457-2310</cntfax><cntemail>lpoppe@usgs.gov</cntemail></cntinfo></distrib><distliab>Although this data set has been used by the U.S. Geological Survey (USGS) and the National Oceanic and Atmospheric Administration (NOAA), no warranty, expressed or implied, is made by the USGS or NOAA as to the accuracy of the data and/or related materials. The act of distribution shall not constitute any such warranty, and no responsibility is assumed by the USGS or NOAA in the use of these data or related materials. Any use of trade, product, or firm names is for descriptive purposes only and does not imply endorsement by the U.S. Government.</distliab><techpreq>This image is available as a GeoTIFF image with an accompanying world file. To utilize this data, the user must have an image viewer, image processing or GIS software package capable of importing a GeoTIFF image.</techpreq><availabl><timeinfo><sngdate><caldate>2008</caldate></sngdate></timeinfo></availabl></distinfo><distInfo><distributor><distorTran><onLineSrc><orDesc Sync="TRUE">002</orDesc><linkage Sync="TRUE">file://\\KATMCMDTXP2\D\h11321\ofr\data\sidescan\utm\h11321_1m_sss_utm\H13321_1m_sss_utm.tif</linkage><protocol Sync="TRUE">Local Area Network</protocol></onLineSrc><transSize Sync="TRUE">0.000</transSize></distorTran><distorFormat><formatName Sync="TRUE">Raster Dataset</formatName></distorFormat></distributor></distInfo><spdoinfo><direct Sync="TRUE">Raster</direct><rastinfo><rasttype Sync="TRUE">Pixel</rasttype><rowcount Sync="TRUE">10400</rowcount><colcount Sync="TRUE">14700</colcount><rastxsz Sync="TRUE">1.000000</rastxsz><rastysz Sync="TRUE">1.000000</rastysz><rastbpp Sync="TRUE">8</rastbpp><vrtcount Sync="TRUE">1</vrtcount><rastorig Sync="TRUE">Upper Left</rastorig><rastcmap Sync="TRUE">FALSE</rastcmap><rastcomp Sync="TRUE">None</rastcomp><rastband Sync="TRUE">1</rastband><rastdtyp Sync="TRUE">pixel codes</rastdtyp><rastplyr Sync="TRUE">FALSE</rastplyr><rastifor Sync="TRUE"></rastifor></rastinfo></spdoinfo><spref><horizsys><cordsysn><geogcsn Sync="TRUE">GCS_WGS_1984</geogcsn><projcsn Sync="TRUE">WGS_1984_UTM_Zone_19N</projcsn></cordsysn><geodetic><horizdn Sync="TRUE">D_WGS_1984</horizdn><ellips Sync="TRUE">WGS_1984</ellips><semiaxis Sync="TRUE">6378137.000000</semiaxis><denflat Sync="TRUE">298.257224</denflat></geodetic><planar><planci><plance Sync="TRUE">row and column</plance><plandu Sync="TRUE">meters</plandu><coordrep><absres Sync="TRUE">1.000000</absres><ordres Sync="TRUE">1.000000</ordres></coordrep></planci><gridsys><gridsysn Sync="TRUE">Universal Transverse Mercator</gridsysn><utm><utmzone Sync="TRUE">19</utmzone><transmer><sfctrmer Sync="TRUE">0.999600</sfctrmer><longcm Sync="TRUE">-69.000000</longcm><latprjo Sync="TRUE">0.000000</latprjo><feast Sync="TRUE">500000.000000</feast><fnorth Sync="TRUE">0.000000</fnorth></transmer></utm></gridsys></planar></horizsys></spref><refSysInfo><RefSystem><refSysID><identCode Sync="TRUE">WGS_1984_UTM_Zone_19N</identCode></refSysID></RefSystem></refSysInfo><spatRepInfo><GridSpatRep><numDims Sync="TRUE">2</numDims><cellGeo><CellGeoCd Sync="TRUE" value="002"></CellGeoCd></cellGeo><tranParaAv Sync="TRUE">1</tranParaAv><axDimProps><Dimen><dimName><DimNameTypCd Sync="TRUE" value="002"></DimNameTypCd></dimName><dimSize Sync="TRUE">14700</dimSize><dimResol><value Sync="TRUE">1</value><uom><UomLength><uomName Sync="TRUE">Meter</uomName><conversionToISOstandardUnit Sync="TRUE">1 Meter = 1 Meter(s)</conversionToISOstandardUnit></UomLength></uom></dimResol></Dimen><Dimen><dimName><DimNameTypCd Sync="TRUE" value="001"></DimNameTypCd></dimName><dimSize Sync="TRUE">10400</dimSize><dimResol><value Sync="TRUE">1</value><uom><UomLength><uomName Sync="TRUE">Meter</uomName><conversionToISOstandardUnit Sync="TRUE">1 Meter = 1 Meter(s)</conversionToISOstandardUnit></UomLength></uom></dimResol></Dimen></axDimProps></GridSpatRep></spatRepInfo><eainfo><detailed Name="Band_1"><enttyp><enttypl Sync="TRUE">Band_1</enttypl><enttypt Sync="TRUE">Table</enttypt><enttypc Sync="TRUE">253</enttypc></enttyp><attr><attrlabl Sync="TRUE">ObjectID</attrlabl><attalias Sync="TRUE">ObjectID</attalias><attrtype Sync="TRUE">OID</attrtype><attwidth Sync="TRUE">4</attwidth><atprecis Sync="TRUE">0</atprecis><attscale Sync="TRUE">0</attscale><attrdef Sync="TRUE">Internal feature number.</attrdef><attrdefs Sync="TRUE">ESRI</attrdefs><attrdomv><udom Sync="TRUE">Sequential unique whole numbers that are automatically generated.</udom></attrdomv></attr><attr><attrlabl Sync="TRUE">Value</attrlabl><attalias Sync="TRUE">Value</attalias><attrtype Sync="TRUE">Integer</attrtype><attwidth Sync="TRUE">0</attwidth><atprecis Sync="TRUE">0</atprecis><attscale Sync="TRUE">0</attscale></attr><attr><attrlabl Sync="TRUE">Count</attrlabl><attalias Sync="TRUE">Count</attalias><attrtype Sync="TRUE">Double</attrtype><attwidth Sync="TRUE">0</attwidth><atprecis Sync="TRUE">0</atprecis><attscale Sync="TRUE">0</attscale></attr></detailed></eainfo><mdDateSt Sync="TRUE">20071213</mdDateSt><dataqual><lineage><srcinfo><srccite><citeinfo><origin>National Oceanic and Atmospheric Administration</origin><title>raw sidescan sonar data</title></citeinfo></srccite><srctime><timeinfo><sngdate><caldate>2004</caldate></sngdate></timeinfo><srccurr>ground condition</srccurr></srctime><srccitea>raw sidescan sonar data</srccitea><srccontr>Original sidescan sonar data acquired during National Oceanic and Atmospheric Administration (NOAA) Survey H11321.</srccontr></srcinfo><procstep><srcprod>XTF sidescan sonar data</srcprod><proccont><cntinfo><cntaddr><address>439 West York Street</address><addrtype>mailing address</addrtype><city>Norfolk</city><state>VA</state><postal>23510</postal><country>USA</country></cntaddr><cntorgp><cntorg>Atlantic Hydrographic Branch, NOAA</cntorg></cntorgp></cntinfo></proccont><procdesc>The data for this survey were acquired in XTF (extended Triton data format) using a high-resolution Klein 5500. The Klein 5500 tow fish emits five beams on each side of the ship track and transmits at 455 kHz. The sidescan sonar data were digitally recorded in XTF format using an ISIS data acquisition software package. </procdesc><procdate>2004</procdate></procstep><procstep><procdesc>All sidescan-sonar data were processed using USGS sidescan-sonar processing software packages XSonar and ShowImage. 
A median filtering routine was applied to the sidescan-sonar data to remove speckle noise.  Sonar data were further processed to correct for slant-range and radiometric distortion inherent in the sonar data. Sonar data were corrected for layback. All processed data were mosaicked using XSonar, resulting in an enhanced, geographically correct, sidescan-sonar mosaic with 1 meter/pixel resolution. The composite mosaic was converted to a TIFF image using the following LINUX commands:

rawtopgm -headerskip 80 14700 10400 mosaic.ras | pnmtotiff - &gt; mosaic.tif

An associated TIF world file was then created using GeoTiff Examiner</procdesc><proccont><cntinfo><cntperp><cntper>Jane Denny</cntper><cntorg>U.S. Geological Survey</cntorg></cntperp><cntpos>Geologist</cntpos><cntaddr><addrtype>mailing and physical address</addrtype><address>384 Woods Hole Road</address><city>Woods Hole</city><state>MA</state><postal>02543</postal><country>USA</country></cntaddr><cntvoice>(508) 548-8700 x2311</cntvoice><cntfax>(508) 457-2310</cntfax><cntemail>jdenny@usgs.gov</cntemail></cntinfo></proccont><procdate>2007</procdate><srcprod>H11321_sonar.tif</srcprod><srcused>XTF sidescan sonar data</srcused><srcprod>H11321_sonar.tfw</srcprod></procstep><procstep><procdesc>File was renamed.</procdesc><proccont><cntinfo><cntperp><cntper>Katherine McMullen</cntper><cntorg>U.S. Geological Survey</cntorg></cntperp><cntpos>Sediment Lab Technician</cntpos><cntaddr><addrtype>mailing and physical address</addrtype><address>384 Woods Hole Road</address><city>Woods Hole </city><state>MA</state><postal>02543</postal><country>USA</country></cntaddr><cntvoice>(508) 548-8700 x2277</cntvoice><cntfax>(508) 457-2310</cntfax><cntemail>kmcmullen@usgs.gov</cntemail></cntinfo></proccont><procsv>ArcGIS 9.2</procsv><procdate>2007</procdate><srcused>H11321_sonar.tif</srcused><srcprod>h11321_1m_sss_geo.tif</srcprod></procstep></lineage><complete>All collected data were processed and used to generate the digital mosaic.</complete><posacc><horizpa><horizpar>Navigation was by differential GPS.</horizpar></horizpa></posacc><attracc><attraccr>There are no attributes associated with a GeoTIFF image.</attraccr></attracc></dataqual></metadata>
