0.000009955946
0.000000000000
0.000000000000
-0.000009027553
-83.682609445164
25.001409416972
