1.0000000000
0.0000000000
0.0000000000
-1.0000000000
229234.5000000000
2767621.5000000000
