0.0004494602
0.0
0.0
-0.0004494602
-89.3175744203
30.1390960081
