1
0
0
-1
318500.5
3301999.5
