1
0
0
-1
323300.5
3316999.5
