1
0
0
-1
322300.5
3323999.5
