1.0000000000
0.0
0.0
-1.0000000000
277500.5000000000
3261700.5000000000
