0.0000449460
0.0
0.0
-0.0000449460
-88.9047508270
30.1255335270
